BEGIN:VCALENDAR
VERSION:2.0
PRODID:-//wp-events-plugin.com//7.2.3.1//EN
TZID:Europe/Rome
X-WR-TIMEZONE:Europe/Rome
BEGIN:VEVENT
UID:35840@lazioeventi.com
DTSTART;TZID=Europe/Rome;VALUE=DATE:20250909
DTEND;TZID=Europe/Rome;VALUE=DATE:20251019
DTSTAMP:20250818T081233Z
URL:https://lazioeventi.com/eventi/dance-screen-in-the-land
SUMMARY:Dance Screen in the land - Roma - 9 Settembre 25 00:00
DESCRIPTION:Visioni in movimento dentro e fuori le Mura di Roma tra natura\
 , archeologia e arte: Anfiteatro del Borgo Acqua Paola a Bracciano – Par
 co Archeologico dell’Appia Antica - Fornace del Canova a Roma.\nIl Festi
 val Dancescreen in the Land torna per la sua quarta edizione\, dal 21 agos
 to al 18 ottobre 2025\, con un percorso che intreccia danza contemporanea\
 , cinema e archeologia in un viaggio immersivo tra memoria e visione\, cor
 po e paesaggio. Una rassegna dedicata a coreografi internazionali e giovan
 i leve della danza italiana in tre luoghi differenti\, suggestive cornici 
 naturali e storiche.\n\nL’edizione del 2025 si amplia\, facendo della da
 nza un atto poetico che attraversa spazi archeologici e naturali\, paesagg
 i urbani e immaginari cinematografici\, trasformando ogni luogo in una sce
 na viva e pulsante. \n\nLa struttura del programma richiama alla memoria l
 ’immagine di un albero simbolico le cui radici affondano nella terra e n
 ella tradizione\, i suoi rami si estendono verso il cielo dell’immaginaz
 ione\, tracciando un ponte tra passato e futuro\, tra territori antichi e 
 corpi in movimento.\nLa mappa dei luoghi – dal lago di Bracciano alla Fo
 rnace del Canova\, fino alla Roma dell’Appia Antica – diventa così un
 a geografia poetica in cui il pubblico è chiamato a muoversi\, sostare\, 
 lasciarsi coinvolgere da spettacoli\, performance\, installazioni\, videod
 anza e workshop.\n\nIl festival è ideato da Fiorenza d’Alessandro e org
 anizzato dall’Associazione Canova22\, nell’ambito di un progetto trien
 nale sostenuto dal Ministero della Cultura. Un laboratorio mobile e vision
 ario\, che mette in connessione artisti\, comunità e territori\, trasform
 ando ogni azione in un’esperienza sensibile e partecipata.\n\nROMA - VIA
  CANOVA 22 | Fornace del Canova - dal 9 settembre al 18 ottobre\nDal 9 al 
 14 settembre la Fornace ospita Lindsay Kemp For you – Un sogno verso l
 ’Oriente. Un viaggio visivo e sensoriale nel mondo di Lindsay Kemp\, dan
 zato da Daniela Maccari\, mostra e performance a cura di Daniela Maccari e
  David Haughton\, Lindsay Kemp Company\, che fonde mostra immersiva e perf
 ormance dal vivo in memoria del grande maestro del teatrodanza. Progetto s
 peciale 2025 Mic\nIl 19 e 20 settembre va in scena\, con tre performance a
 l giorno\, PINA! omaggio di Monica Casadei all’universo poetico e visivo
  di Pina Bausch\, con un focus sul ritratto della coreografa che Wim Wende
 rs cattura nell’omonima pellicola. Lo spettacolo esprime l'essenza emoti
 va attraverso gli interpreti della Compagnia Artemis Danza con un'attenzio
 ne particolare ai dettagli visivi e sonori. \nIl 26 e 27 settembre\, LIMEN
  di Federica Dauri (MP3 Dance Project) arriva in Italia dopo essere stato 
 presentato a Berlino e in Francia: una performance intensa e immersiva\, c
 he trasforma il concetto di soglia in atto coreografico\, un'installazione
  sempre aperta al pubblico. \nIl 28 settembre\, Own Work / Atelier Cinema 
 dà spazio ai lavori di giovani coreografi del corso di formazione MP3 Dan
 ce Project: Giorgia Lucida\, Sofia Gori\, Loris Iiritano.\nIl 3 ottobre Re
 sExtensa presenta Il cuore del maestro\, nuova creazione firmata da France
 sca Pesce.\nIl 5 ottobre\, Not Just Right Dance di Marco Munno (ARB Dance 
 Company) racconta\, attraverso la danza\, la tensione dell’esistenza con
 temporanea tra ansia\, controllo e desiderio di libertà.\nDal 9 all’11 
 ottobre\, All of us\, coproduzione Canova22 e APS Magica\, inaugura un per
 corso narrativo e visivo sulle emozioni\, tra danza\, installazioni e imma
 gini.\nDal 16 al 18 ottobre il festival chiude la sua quarta edizione con 
 un’opera sperimentale del coreografo Michele Pogliani Sensori Sensati\, 
 performance interattiva in cui i corpi generano suono attraverso sensori\,
  tra arte contemporanea e mondo digitale in un dialogo immersivo tra movim
 ento e tecnologia.  Il 15 ottobre il Prequel dello spettacolo si svolgerà
  presso la galleria d’arte La Nuova Pesa\, di Simona Marchini. \n\n9- 17
   settembre – Mostra in Omaggio a Linsday Kemp\n\n9- 14  settembre –  
  H. 18:00 e 19:00\nDaniela Maccari “For You!” Un sogno verso l’Orien
 te\nPerformance\nUn viaggio visivo e sensoriale nel mondo di Lindsay Kemp\
 , danzato da Daniela Maccari\, Mostra e performance “Un sogno verso l’
 Oriente” a cura di David Haughton e Daniela Maccari della Lindsay Kemp C
 ompany – Teatro barbaro – Asmed Balletto di Sardegna \nInterprete: Dan
 iela Maccari\n\n19 – 20 settembre – H. 18:00 | 19:00 | 20:00\nPina! \n
 Omaggio a Pina Bausch e Wim Wenders di Monica Casadei\nPerformance\, Monic
 a Casadei\, tre spettacoli al giorno.\nCompagnia: Artemis\nCoreografia: Mo
 nica Casadei\n\n26-27 settembre – H. 20:30\nLimen\nPerformance di Federi
 ca Dauri\, presentata per la prima volta in Italia dopo il debutto europeo
 .\nCompagnia: MP3 Dance Project\n\n28 settembre – H. 18:00\nOwn Work\, A
 telier Cinema\nI giovani performer di MP3 Dance Project protagonisti di un
  laboratorio aperto\, in cui danza e immaginario cinematografico si incont
 rano per dare forma a visioni inedite\, tra memoria e invenzione.\nCompagn
 ia: MP3 Dance Project\nGiovani coreografi: Xhoaki Hoxha\, Giorgia Lucida\,
  Sofia Gori\, Loris Iiritano\n\n3 ottobre – H. 19:00 | 20:00\nIl cuore d
 el Maestro\nUn omaggio alla danza come gesto d’amore. Peromance dell’e
 sordiente Francesca Pesce. \nCompagnia: ResExtensa\nCoreografia: Francesca
  Pesce\n\n5 ottobre – H. 18:00 | 19:00\nNot Just Right Dance\nUna perfor
 mance contemporanea\, di un giovanissimo coreografo\, intensa\, profonda e
  che dà forma visiva e fisica a un malessere collettivo.\nCompagnia: ARB 
 Dance Company\nCoreografia: Marco Munno\n\n9-11 ottobre – H. 19:00\nAll 
 of us | Orlando  \nProiezioni\, danza\, installazioni sonore e d’arte\, 
 suggestioni immaginifiche.\nCoproduzione:  Canova22 e APS Magica\n\n16-18 
 ottobre – H. 19:00 | 20:00\nSensori Sensati\nLa performance\, ideata da 
 Michele Pogliani\, è un’esplorazione del movimento che prende forma att
 raverso il suono\, generato in tempo reale dai corpi in azione. \nCompagni
 a:  MP3 Dance Project\nCoreografia: Michele Pogliani
ATTACH;FMTTYPE=image/jpeg:https://lazioeventi.com/wp-content/uploads/2022/
 09/Locandina-Dancescreen-2025.jpg
CATEGORIES:Musica, Spettacoli e Danza nel Lazio
LOCATION:Roma\, Via Leopardi\, Roma\, Roma\, Lazio\, Italia
GEO:41.8942;12.5017
X-APPLE-STRUCTURED-LOCATION;VALUE=URI;X-ADDRESS=Via Leopardi\, Roma\, Roma\
 , Lazio\, Italia;X-APPLE-RADIUS=100;X-TITLE=Roma:geo:41.8942,12.5017
END:VEVENT
BEGIN:VTIMEZONE
TZID:Europe/Rome
X-LIC-LOCATION:Europe/Rome
BEGIN:DAYLIGHT
DTSTART:20250330T030000
TZOFFSETFROM:+0100
TZOFFSETTO:+0200
TZNAME:CEST
END:DAYLIGHT
END:VTIMEZONE
END:VCALENDAR