BEGIN:VCALENDAR
VERSION:2.0
PRODID:-//wp-events-plugin.com//7.2.3.1//EN
TZID:Europe/Rome
X-WR-TIMEZONE:Europe/Rome
BEGIN:VEVENT
UID:28812@lazioeventi.com
DTSTART;TZID=Europe/Rome:20211030T180000
DTEND;TZID=Europe/Rome:20211030T193000
DTSTAMP:20211020T090528Z
URL:https://lazioeventi.com/eventi/dante-al-palazzo-doria-pamphilj-2021-10
 -30
SUMMARY:Dante al Palazzo Doria Pamphilj - Valmontone - 30 Ottobre 21 18:00
DESCRIPTION:“Dante a Palazzo Doria” è la rassegna che farà risuonare 
 la nostra bella lingua nelle magnifiche sale affrescate di Palazzo Doria P
 amphilj a Valmontone.\n\nNomi illustri della cultura italiana parteciperan
 no alla rassegna che partirà sabato 30 ottobre alle ore 18\,00 con Piero 
 Trellini e il suo saggio Danteide\, Bompiani editore. Poi sarà la volta d
 el 30 ottobre con il prof. Aldo Onorati\; sabato 13 novembre arriverà il 
 prof. Luca Serianni con Parola di Dante\, Mulino Editore. Infine\, l’ult
 imo appuntamento si svolgerà giovedì 18 novembre.\n\nTutti gli incontri 
 sono organizzati e moderati da Mariagloria Fontana\, giornalista e scrittr
 ice\, e si terranno presso la splendida cornice del Palazzo Doria Pamphilj
  di Valmontone (Roma).\n\nPer partecipare agli incontri è necessario pren
 otare e possedere green pass\; valmontone@bibliotecheprenestine.it o chiam
 ando il numero 339.87.49.241\n\nIl ciclo degli incontri si articola nel mo
 do seguente:\n\nSabato 23 Ottobre ore 18\,00\nIncontro con Piero Trellini\
 nGiornalista e scrittore. Ha scritto per la Repubblica\, La Stampa\, ll Me
 ssaggero\, il Manifesto e il Post. Nel 2019 ha pubblicato La partita. Il r
 omanzo di Italia-Brasile (Mondadori\; Premio Bancarella Sport 2020\, Premi
 o Ape 2020\, Premio Mastercard Letteratura “Opera prima” 2020\, Premio
  “Giuria tecnica” Massarosa 2020)\, che ha riscosso un immediato succe
 sso di critica e di pubblico.\n\nSabato 30 ottobre ore 18\,00\nIncontro co
 n Aldo Onorati\nScrittore\, poeta e dantista. Dal 2005 è ambasciatore del
 la cultura dei Castelli Romani nel mondo\, territorio natio al quale ha de
 dicato diverse pubblicazioni. Nel 2009 è stato insignito dalla Società D
 ante Alighieri del diploma di benemerenza con medaglia d’oro per la “p
 rofonda conoscenza dell’opera dantesca\, al punto di diventare testimone
  nel mondo della Divina Commedia”.\n\nSabato 13 Novembre ore 18.00\nInco
 ntro con Luca Serianni\nLinguista\, filologo\, ordinario di Storia della l
 ingua italiana nell’Università “La Sapienza” di Roma\, vicepresiden
 te della Società Dante Alighieri\, socio dell’Accademia dei Lincei e de
 lla Crusca\, conduttore per Rai Cultura di una serie di trasmissioni sulla
  Divina Commedia.\n\nGiovedì 18 Novembre ore 18\,00\nIncontro con Mario C
 onti e Grazia Brogi\nEntrambi curatori e autori del progetto editoriale ch
 e riguarda l’antologia\, Dante\, versi in fuga.
ATTACH;FMTTYPE=image/jpeg:https://lazioeventi.com/wp-content/uploads/2021/
 10/danteapalazzodoria.jpg
CATEGORIES:Arte e Cultura nel Lazio
LOCATION:Valmontone\, Comune di Valmontone\, Valmontone\, Roma\, Lazio\, It
 alia
GEO:41.7771;12.9178
X-APPLE-STRUCTURED-LOCATION;VALUE=URI;X-ADDRESS=Comune di Valmontone\, Valm
 ontone\, Roma\, Lazio\, Italia;X-APPLE-RADIUS=100;X-TITLE=Valmontone:geo:4
 1.7771,12.9178
END:VEVENT
BEGIN:VTIMEZONE
TZID:Europe/Rome
X-LIC-LOCATION:Europe/Rome
BEGIN:DAYLIGHT
DTSTART:20210328T030000
TZOFFSETFROM:+0100
TZOFFSETTO:+0200
TZNAME:CEST
END:DAYLIGHT
END:VTIMEZONE
END:VCALENDAR