BEGIN:VCALENDAR
VERSION:2.0
PRODID:-//wp-events-plugin.com//7.2.3.1//EN
TZID:Europe/Rome
X-WR-TIMEZONE:Europe/Rome
BEGIN:VEVENT
UID:29487@lazioeventi.com
DTSTART;TZID=Europe/Rome:20211118T100000
DTEND;TZID=Europe/Rome:20220227T160000
DTSTAMP:20211210T104603Z
URL:https://lazioeventi.com/eventi/dante-nelle-sculture-di-pietro-canonica
SUMMARY:Dante nelle sculture di Pietro Canonica - Roma - 18 Novembre 21 10:
 00
DESCRIPTION:In occasione dei settecento anni dalla morte di Dante Alighieri
  il Museo propone la mostra Dante nelle sculture di Pietro Canonica per ap
 profondire il rapporto tra lo scultore e il sommo poeta.\n\nTra le scultur
 e in mostra L’Abisso (1909) che\, secondo gli studiosi\, raffigura lo sf
 ortunato amore di Paolo e Francesca\, narrato nel Canto V dell’Inferno e
  La Veglia dell’Anima (1920)\, tema presente nel canto XVIII del Purgato
 rio.\nTra le opere che più esplicitamente omaggiano Dante un gesso raffig
 urante Beatrice (1910)\, calco dell’originale in marmo e bronzo che da f
 onti archivistiche risulta presente al Museo Peterhof di San Pietroburgo\,
  in Russia.\n\nIl percorso riguarda la Sala III\, la Sala VII e la Sala de
 l Camino\, al piano terra del Museo\, con un allestimento che attraverso a
 pparati didattici e multimediali permette al visitatore di approfondire al
 cune tematiche e di immergersi in un contesto evocativo ed emozionale graz
 ie anche alla lettura di alcuni versi tratti dalle opere di Dante.\n\nPiet
 ro Canonica (Moncalieri\, TO 1869 – Roma 1959)\, raffinato ritrattista d
 elle più importati famiglie aristocratiche e delle principali Corti europ
 ee\, amava molto leggere Dante\, lo dichiara apertamente nelle sue memorie
  ma soprattutto se ne può trovare testimonianza in alcune sue sculture. U
 n rapporto evidente là dove l’omaggio al poeta è diretto\, ma anche un
 a traccia da cercare\, da mettere in evidenza là dove Canonica si ispira 
 al mondo poetico di Dante. Queste opere\, individuate all’interno della 
 collezione permanente del Museo\, in occasione della mostra sono state int
 egrate dal ricco materiale fotografico e documentario solitamente conserva
 to nell’archivio storico. Dall’indagine sono emersi segni e indizi che
  ci fanno capire l’importanza di Dante per l’immaginario dello scultor
 e piemontese e il suo mondo creativo: con quali versi e con quale iconogra
 fia Canonica si è confrontato\, quali tematiche ha selezionato e quali si
 mboli ha scelto per dare corpo alla sua “idea” di Dante. Dallo studio 
 e dall’accostamento dei materiali sono arrivate nuove interessanti lettu
 re delle opere di Pietro Canonica.\n\nDal martedì alla domenica 10.00-16.
 00\n24 e 31 dicembre ore 10.00-14.00\nultimo ingresso sempre mezz’ora pr
 ima della chiusura\n\nChiuso il lunedì\, il 25 dicembre e il 1°gennaio\n
 \nBiglietto d'ingresso\ngratuito\n\nInformazioni\nTelefono 060608 tutti i 
 giorni dalle 9.00 alle 19.00
ATTACH;FMTTYPE=image/jpeg:https://lazioeventi.com/wp-content/uploads/2021/
 12/DanteCanonica_MIC.jpg
CATEGORIES:Arte e Cultura nel Lazio
LOCATION:Roma\, Via Leopardi\, Roma\, Roma\, Lazio\, Italia
GEO:41.8942;12.5017
X-APPLE-STRUCTURED-LOCATION;VALUE=URI;X-ADDRESS=Via Leopardi\, Roma\, Roma\
 , Lazio\, Italia;X-APPLE-RADIUS=100;X-TITLE=Roma:geo:41.8942,12.5017
END:VEVENT
BEGIN:VTIMEZONE
TZID:Europe/Rome
X-LIC-LOCATION:Europe/Rome
BEGIN:STANDARD
DTSTART:20211031T020000
TZOFFSETFROM:+0200
TZOFFSETTO:+0100
TZNAME:CET
END:STANDARD
END:VTIMEZONE
END:VCALENDAR