BEGIN:VCALENDAR
VERSION:2.0
PRODID:-//wp-events-plugin.com//7.2.3.1//EN
TZID:Europe/Rome
X-WR-TIMEZONE:Europe/Rome
BEGIN:VEVENT
UID:34769@lazioeventi.com
DTSTART;TZID=Europe/Rome:20230325T100000
DTEND;TZID=Europe/Rome:20230325T123000
DTSTAMP:20230321T104325Z
URL:https://lazioeventi.com/eventi/dantedi
SUMMARY:Dantedì - Roma - 25 Marzo 23 10:00
DESCRIPTION:In occasione del Dantedì\, il 25 marzo\, la giornata nazionale
  dedicata a Dante Alighieri\, il Parco Archeologico dell'Appia Antica ospi
 terà un evento speciale organizzato e promosso dal Touring Club Italiano 
 - Club di territorio di Roma.\n\nPer sottolineare l’importanza di legger
 e e conoscere Dante Alighieri e la sua opera\, proprio nel giorno in cui c
 onvenzionalmente viene fatto iniziare il viaggio nell'aldilà narrato nell
 a Commedia\, i volontari di Roma del Touring Club Italiano accompagnano i 
 visitatori tra le Tombe della via Latina.\n\nL'appuntamento è sabato 25 m
 arzo\, ore 10.00 presso le Tombe di Via Latina\, via Arco di Travertino 15
 1\n\nAttività gratuita. \nBiglietto di ingresso al sito 8€\, acquistabi
 le online o presso le biglietterie di Villa dei Quintili e del Mausoleo di
  Cecilia Metella. \nIngresso gratuito per i possessori di La Mia Appia Car
 d.\n\nPROGRAMMA:\n- Stefano Maria Palmitessa legge da Primo Levi\, “Se q
 uesto è un uomo\, “Il Canto di Ulisse”\;\n- Visita guidata alle Tombe
  di Via Latina\;\n- Paola Sarcina legge dall’Inferno\, canto V\, “Paol
 o e Francesca”.\n\nPer maggiori informazioni scrivere a roma@volontarito
 uring.it 
ATTACH;FMTTYPE=image/jpeg:https://lazioeventi.com/wp-content/uploads/2023/
 03/dandedi.jpg
CATEGORIES:Arte e Cultura nel Lazio
LOCATION:Roma\, Via Leopardi\, Roma\, Roma\, Lazio\, Italia
GEO:41.8942;12.5017
X-APPLE-STRUCTURED-LOCATION;VALUE=URI;X-ADDRESS=Via Leopardi\, Roma\, Roma\
 , Lazio\, Italia;X-APPLE-RADIUS=100;X-TITLE=Roma:geo:41.8942,12.5017
END:VEVENT
BEGIN:VTIMEZONE
TZID:Europe/Rome
X-LIC-LOCATION:Europe/Rome
BEGIN:STANDARD
DTSTART:20221030T020000
TZOFFSETFROM:+0200
TZOFFSETTO:+0100
TZNAME:CET
END:STANDARD
END:VTIMEZONE
END:VCALENDAR