BEGIN:VCALENDAR
VERSION:2.0
PRODID:-//wp-events-plugin.com//7.2.3.1//EN
TZID:Europe/Rome
X-WR-TIMEZONE:Europe/Rome
BEGIN:VEVENT
UID:28251@lazioeventi.com
DTSTART;TZID=Europe/Rome;VALUE=DATE:20210616
DTEND;TZID=Europe/Rome;VALUE=DATE:20210713
DTSTAMP:20210528T113312Z
URL:https://lazioeventi.com/eventi/decontexts
SUMMARY:Decontexts - Roma - 16 Giugno 21 00:00
DESCRIPTION:DECONTEXTS\nMostra Collettiva internazionale Fotografica / Vide
 o / Visual Design\nPresso Millepiani\, via N. Odero\,13 Roma\nIngresso Lib
 ero\nFACEBOOK EVENT: https://bit.ly/3fVUFHb\n-\nDal 16 Giugno - al 12 Lugl
 io 2021\, visitabile dal lunedì al venerdì dalle ore 9:00 alle ore 20:00
 \nPrenotazione obbligatoria. email: info@loosenart.com / sms: +39 34749622
 53\nEvento curato da LoosenArt.com\n-\nDECONTEXTS\nCiò che segna l'inizio
  della modernità in campo artistico è l'introduzione di una visione pros
 pettica\, grazie alla quale le figure\, all'interno di uno spazio planare\
 , vengono disposte secondo un ordine di profondità di campo. L'oggetto ac
 quisisce uno "spazio interno"\, e con questo\, esso prende autonomia dallo
  spazio esterno\, non è più oggetto in uno spazio\, ma esso stesso è cr
 eazione di un suo spazio della rappresentazione: diventa asportabile\, ed 
 esponibile in ogni luogo. L'atto di estrazione di un oggetto/soggetto\, is
 olati o re-inseriti in spazi altri\, reali o immaginari\, impone un approc
 cio valutativo orientato sul significato intrinseco - ed estetico - di ci
 ò che è esposto\nQuesto - e molto altro - è ciò che l’esposizione 
 “De-contexts”\, organizzata allo Spazio Millepiani di Roma\, ci vuole 
 raccontare.\nGrazie a un’ampia varietà di fotografie\, lavori digitali 
 e video\, la mostra collettiva incarna un concetto e il suo opposto\, rein
 terpreta dicotomie e contraddizioni del mondo e della nostra società.\n\n
 • • •\n\n16 - 23 Giugno\nAghi\, Carolina Tafalla\, Claudia Cabrera\,
  Dilum Coppens\, Donatella Jaroka\, Gwen Walstrand\, Jendrik Schröder\, J
 im Ferguson\, Jonathan Moore\, Karla Guerrero\, Kosmas Pavlidis\, Lake Rob
 erson Newton\, Mathias Chumino\, Nina Jené\, Piotr Marciński\, Stefanie 
 Minzenmay\, Vera Saldivar de Lira\n\n24 Giugno - 2 Luglio\nAaron Wilder\, 
 Alina Kashitsyna\, Ancuta Muresan\, Arseny Kolmykov\, Benry Fauna\, Boya L
 ei\, Carla Alis\, Damaris Athene\, Daria Konshtik\, Fanita Barčot-Nikolac
 \, Ilanit Scharff Vigodsky\, James Bryan\, Jerry Allison\, Julia Yoo\, Mic
 hael Prais\, Michael Schulz\, Nichola Woods\, Pedro Gramaxo\, Ruby Chu\, S
 ara Radomirovic\, Summah Longley\, Taylor Walter Cada\, Tony Cangitano\, W
 ojtek Skowron\, Yas Crawford\n\n5 - 12 Luglio\nA. Pamela\, Alexandra Oance
 a\, Alexandru Crisan\, Brian Ashworth\, Christine Lucy Latimer\, Dmitriy B
 elmaz\, Dusica Ivetic\, Hrisa Zgourou\, Jerry Slough\, Joel Matthew Warken
 tin\, John Kosmer\, Lulu Sanchez Puig\, Maea Trevett\, Maria Makridis\, Ma
 rina Anta\, Matthew Andrew\, Nickolas Nikolic\, Peter Christenson\, Rafael
  Portillo\, Reagan Ryder\, Richard Buchner\, Sayaka Katsumoto\, Stefano Be
 natti\, Susa Solero\, Thomaz G. Meanda\, Tim Feeney\, Yi-Chen Lee\, Younes
  Mohammad
ATTACH;FMTTYPE=image/jpeg:https://lazioeventi.com/wp-content/uploads/2021/
 05/Decontexts-r.jpg
CATEGORIES:Arte e Cultura nel Lazio
LOCATION:Roma\, Via Leopardi\, Roma\, Roma\, Lazio\, Italia
GEO:41.8942;12.5017
X-APPLE-STRUCTURED-LOCATION;VALUE=URI;X-ADDRESS=Via Leopardi\, Roma\, Roma\
 , Lazio\, Italia;X-APPLE-RADIUS=100;X-TITLE=Roma:geo:41.8942,12.5017
END:VEVENT
BEGIN:VTIMEZONE
TZID:Europe/Rome
X-LIC-LOCATION:Europe/Rome
BEGIN:DAYLIGHT
DTSTART:20210328T030000
TZOFFSETFROM:+0100
TZOFFSETTO:+0200
TZNAME:CEST
END:DAYLIGHT
END:VTIMEZONE
END:VCALENDAR