BEGIN:VCALENDAR
VERSION:2.0
PRODID:-//wp-events-plugin.com//7.2.3.1//EN
TZID:Europe/Rome
X-WR-TIMEZONE:Europe/Rome
BEGIN:VEVENT
UID:38677@lazioeventi.com
DTSTART;TZID=Europe/Rome:20240317T153000
DTEND;TZID=Europe/Rome:20240317T173000
DTSTAMP:20240305T113924Z
URL:https://lazioeventi.com/eventi/dei-e-macchine-alla-centrale-montemarti
 ni
SUMMARY:Dei e macchine alla Centrale Montemartini - Roma - 17 Marzo 24 15:3
 0
DESCRIPTION:Una visita guidata ad uno dei musei più emozionanti di Roma\, 
 dove Dei e macchine si confrontano e confondono: la Centrale Montemartini.
  Insieme alla nostra archeologa\, ammireremo i grandi capolavori di arte c
 lassica esposti tra le maestose macchine della centrale che un tempo forni
 va elettricità alla città di Roma. Questa suggestiva ed emozionante sede
  dei Musei Capitolini è infatti uno dei massimi esempi di archeologia ind
 ustriale e la sua visita consentirà di compiere un salto indietro nel tem
 po fino al cuore della millenaria storia di Roma\, un viaggio per riscopri
 re la Bellezza degli antichi. Impossibile mancare: ti aspettiamo!\n&nbsp\;
 \nQuando: Domenica 17 Marzo 2024 alle ore 15:30\nAppuntamento in Via Ostie
 nse n. 106\, all’ingresso del Museo\nCosti: € 12 a persona + biglietto
  di ingresso (€9/€8/gratis MIC Card). Prenotazione obbligatoria.\nInfo
  e prenotazioni: L’Asino d’Oro Associazione Culturale | 346 5920077 | 
 info@lasinodoro.it\n&nbsp\;
ATTACH;FMTTYPE=image/jpeg:https://lazioeventi.com/wp-content/uploads/2024/
 03/centrale-montemartini.jpg
CATEGORIES:Arte e Cultura nel Lazio
LOCATION:Roma\, Via Leopardi\, Roma\, Roma\, Lazio\, Italia
GEO:41.8942;12.5017
X-APPLE-STRUCTURED-LOCATION;VALUE=URI;X-ADDRESS=Via Leopardi\, Roma\, Roma\
 , Lazio\, Italia;X-APPLE-RADIUS=100;X-TITLE=Roma:geo:41.8942,12.5017
END:VEVENT
BEGIN:VTIMEZONE
TZID:Europe/Rome
X-LIC-LOCATION:Europe/Rome
BEGIN:STANDARD
DTSTART:20231029T020000
TZOFFSETFROM:+0200
TZOFFSETTO:+0100
TZNAME:CET
END:STANDARD
END:VTIMEZONE
END:VCALENDAR