BEGIN:VCALENDAR
VERSION:2.0
PRODID:-//wp-events-plugin.com//7.2.3.1//EN
TZID:Europe/Rome
X-WR-TIMEZONE:Europe/Rome
BEGIN:VEVENT
UID:34994@lazioeventi.com
DTSTART;TZID=Europe/Rome:20230410T113000
DTEND;TZID=Europe/Rome:20230410T150000
DTSTAMP:20230406T212812Z
URL:https://lazioeventi.com/eventi/dejeuner-sur-lherbe
SUMMARY:Déjeuner sur l'herbe - Vetralla - 10 Aprile 23 11:30
DESCRIPTION:Pasquetta con picnic\n\nVi aspettiamo il 10 aprile per una pasq
 uetta diversa!\nUna giornata dedicata alla musica e al teatro. E non manca
  la compagnia!\n\nIl soprano\, Viola Sofia Nisio\, vi delizierà con le ar
 ie e romanze primaverili accompagnata dal maestro Luigi De Filippi. Seguir
 à il trio d'archi Dafne con altri brani.\n\nVi aspettiamo per passare ins
 ieme questa giornata che sarà indubbiamente meravigliosa!\n\nOperaExtrava
 ganza offre vino e specialità della Pasqua\n\nOgnuno porta prelibatezze e
  posate da casa\n\nIl barbecue resta acceso per cuocere quello che volete\
 n\nCONTRIBUTO DEI SOCI 20 € \n\nPRENOTAZIONE CONSIGLIATA\n\nInfo:whatsap
 p 340-1458555\, 0761-485247\, 346-7474907
ATTACH;FMTTYPE=image/jpeg:https://lazioeventi.com/wp-content/uploads/2023/
 04/picnic-musica.jpg
CATEGORIES:Musica, Spettacoli e Danza nel Lazio,Sport, Tempo Libero e
 Divertimento nel Lazio
LOCATION:Vetralla\, Comune di Vetralla\, Vetralla\, Viterbo\, Lazio\, Itali
 a
GEO:42.321;12.0533
X-APPLE-STRUCTURED-LOCATION;VALUE=URI;X-ADDRESS=Comune di Vetralla\, Vetral
 la\, Viterbo\, Lazio\, Italia;X-APPLE-RADIUS=100;X-TITLE=Vetralla:geo:42.3
 21,12.0533
END:VEVENT
BEGIN:VTIMEZONE
TZID:Europe/Rome
X-LIC-LOCATION:Europe/Rome
BEGIN:DAYLIGHT
DTSTART:20230326T030000
TZOFFSETFROM:+0100
TZOFFSETTO:+0200
TZNAME:CEST
END:DAYLIGHT
END:VTIMEZONE
END:VCALENDAR