BEGIN:VCALENDAR
VERSION:2.0
PRODID:-//wp-events-plugin.com//7.2.3.1//EN
TZID:Europe/Rome
X-WR-TIMEZONE:Europe/Rome
BEGIN:VEVENT
UID:32134@lazioeventi.com
DTSTART;TZID=Europe/Rome:20220901T211500
DTEND;TZID=Europe/Rome:20220901T233000
DTSTAMP:20220830T142505Z
URL:https://lazioeventi.com/eventi/diabolik-dei-manetti-bros-allarenaniene
 -2022
SUMMARY:Diabolik dei Manetti Bros all'ArenAniene 2022 - Roma - 1 Settembre 
 22 21:15
DESCRIPTION:Giovedì 1 settembre in programma alle ore 21.15 Diabolik (gial
 lo\, regia di Antonio e Marco Manetti "Manetti Bross" - 2021/133’)\, vin
 citore al David di Donatello 2022 come miglior canzone originale: adattame
 nto cinematografico del celebre personaggio dei fumetti creato da Angela e
  Luciana Giussani\, pubblicato per la prima volta nel 1962. A vestire i pa
 nni del "Re del Terrore"\, il ladro più affascinante e spietato di tutti 
 i tempi\, è Luca Marinelli\, mentre Miriam Leone e Valerio Mastandrea int
 erpretano rispettivamente l'affascinante Eva Kant e il determinato ispetto
 re Ginko. Ambientato nella città immaginaria di Clerville a fine anni '60
 \, il film segue le avventure di Diabolik\, ladro spregiudicato dal volto 
 misterioso\, che ha messo a segno l'ennesimo colpo\, sfuggendo alla polizi
 a sulla sua splendente Jaguar E-type. A conquistare l'attenzione di Diabol
 ik sarà la bellissima Eva Kant\, un'ereditiera arrivata in città con un 
 gioiello di grande pregio\, il famoso diamante rosa. Nel tentativo di ruba
 re la preziosa pietra\, Diabolik rimarrà stregato dalla seducente donna. 
 Questa volta però l'Ispettore Ginko\, aiutato dalla sua squadra\, ha mess
 o a punto un infallibile piano per intrappolare l'abile ladro. Riuscirà D
 iabolik a farla franca anche questa volta?\n\nLa rassegna - che durerà fi
 no al 4 settembre - conferma la sua formula riassunta nello slogan “ogni
  sera un film che ha vinto un premio”: tutti i film in programmazione\, 
 in qualche modo\, hanno avuto un’importante storia di Premi e di Festiva
 l nazionali e internazionali: che siano Venezia\, Cannes\, Berlino\, Torin
 o\, Los Angeles\, Taormina. E tornano ora qui\, fra le strade di Montesacr
 o che è stato quartiere di grandi artisti di alcune scene indimenticabili
  di Ladri di biciclette\, girato come molti ricordano fra il Tufello e Tra
 stevere. Una volta a settimana in programma un film (che ArenAniene ha den
 ominato wild card) che non ha vinto alcun premio ma che\, per la direzione
  artistica\, è meritevole di speciale attenzione. Ad introdurre ciascuna 
 proiezione sarà\, sera per sera\, la stessa direttrice artistica Patrizia
  Di Terlizzi che proporrà brevissime schede e curiosità sui film che il 
 pubblico andrà a vedere. In programma anche alcuni importati incontri con
  grandi professionisti del cinema: il regista Simone Godano\, il direttore
  della fotografia Alfredo Vetrò\, il regista Gianluca Ansanelli e l’att
 ore Giovanni Esposito.\n\nInfo e prenotazioni: arenaniene@gmail.com\; FB 
 ArenAniene contatti cell /whatsapp 366 3188501
ATTACH;FMTTYPE=image/jpeg:https://lazioeventi.com/wp-content/uploads/2022/
 08/Diabolik_1-settembre-1.jpg
CATEGORIES:Musica, Spettacoli e Danza nel Lazio
LOCATION:Roma\, Via Leopardi\, Roma\, Roma\, Lazio\, Italia
GEO:41.8942;12.5017
X-APPLE-STRUCTURED-LOCATION;VALUE=URI;X-ADDRESS=Via Leopardi\, Roma\, Roma\
 , Lazio\, Italia;X-APPLE-RADIUS=100;X-TITLE=Roma:geo:41.8942,12.5017
END:VEVENT
BEGIN:VTIMEZONE
TZID:Europe/Rome
X-LIC-LOCATION:Europe/Rome
BEGIN:DAYLIGHT
DTSTART:20220327T030000
TZOFFSETFROM:+0100
TZOFFSETTO:+0200
TZNAME:CEST
END:DAYLIGHT
END:VTIMEZONE
END:VCALENDAR