BEGIN:VCALENDAR
VERSION:2.0
PRODID:-//wp-events-plugin.com//7.2.3.1//EN
TZID:Europe/Rome
X-WR-TIMEZONE:Europe/Rome
BEGIN:VEVENT
UID:36078@lazioeventi.com
DTSTART;TZID=Europe/Rome:20230705T190000
DTEND;TZID=Europe/Rome:20230705T210000
DTSTAMP:20230629T122107Z
URL:https://lazioeventi.com/eventi/dialogo-corale
SUMMARY:Dialogo corale - Castelnuovo di Porto - 5 Luglio 23 19:00
DESCRIPTION:A Castelnuovo di Porto\, Dialogo corale è un progetto di scamb
 io culturale ed artistico che vuole essere un’azione concreta per promuo
 vere il dialogo tra i popoli\, in particolare con il popolo palestinese. I
 l 16 giugno la presentazione del progetto\, nell’incontro pubblico dedic
 ato all’evento alle ore 18:30\, presso la Rocca Colonna. La Città di Ca
 stelnuovo di Porto è gemellata con Gerusalemme\, e una delle iniziative p
 er sancire l’amicizia tra le due città\, nell’ambito del progetto\, 
 è la manifestazione musicale internazionale che farà esibire assieme il 
 coro Amwaj di Beltemme ed Hebron con il coro dell’associazione Artipelag
 o di Castelnuovo di Porto. \n\nL’evento\, Concerto internazionale a Due 
 cuori si terrà il 5 luglio alle 19:00 presso la Collegiata di Santa Maria
  Assunta\, in Piazza Vittorio Veneto. \n\nL’ingresso è libero.\n\nDal 2
 015\, la scuola corale Amwaj\, in arabo onde\, propone un progetto musical
 e a bambini e ragazzi palestinesi di Betlemme ed Hebron.  Per la prima vol
 ta in Italia\, la tournée è coordinata dalle associazioni Soutien Amwaj 
 e Assopace Palestina.
ATTACH;FMTTYPE=image/jpeg:https://lazioeventi.com/wp-content/uploads/2023/
 06/coro-palestinese-700x991-1.jpg
CATEGORIES:Musica, Spettacoli e Danza nel Lazio
LOCATION:Castelnuovo di Porto\, Comune\, Castelnuovo di Porto\, Roma\, Lazi
 o\, Italia
GEO:42.1284;12.5013
X-APPLE-STRUCTURED-LOCATION;VALUE=URI;X-ADDRESS=Comune\, Castelnuovo di Por
 to\, Roma\, Lazio\, Italia;X-APPLE-RADIUS=100;X-TITLE=Castelnuovo di Porto
 :geo:42.1284,12.5013
END:VEVENT
BEGIN:VTIMEZONE
TZID:Europe/Rome
X-LIC-LOCATION:Europe/Rome
BEGIN:DAYLIGHT
DTSTART:20230326T030000
TZOFFSETFROM:+0100
TZOFFSETTO:+0200
TZNAME:CEST
END:DAYLIGHT
END:VTIMEZONE
END:VCALENDAR