BEGIN:VCALENDAR
VERSION:2.0
PRODID:-//wp-events-plugin.com//7.2.3.1//EN
TZID:Europe/Rome
X-WR-TIMEZONE:Europe/Rome
BEGIN:VEVENT
UID:33272@lazioeventi.com
DTSTART;TZID=Europe/Rome:20221208T100000
DTEND;TZID=Europe/Rome:20221208T150000
DTSTAMP:20221205T162214Z
URL:https://lazioeventi.com/eventi/dicembre-a-monterano
SUMMARY:Dicembre a Monterano - Canale Monterano - 8 Dicembre 22 10:00
DESCRIPTION:“Dicembre a Monterano\, le tante facce di un luogo straordina
 rio”\nAppuntamenti con “Dicembre a Monterano\, le tante facce di un lu
 ogo straordinario”\, iniziativa dell’Amministrazione Comunale realizza
 ta grazie al contributo del Consiglio Regionale del Lazio\, che coinvolger
 à tante associazioni locali con l’obiettivo di far vivere e conoscere l
 e bellezze dell’antico borgo abbandonato di Monterano anche a Dicembre. 
 Una manifestazione inquadrata nel più ampio contesto dei festeggiamenti r
 elativi ai 150 anni del Comune di Canale Monterano.\n\nVin Brulè e brusch
 ette\nVisite guidate all'interno dell'Antica Monterano\, in contemporanea 
 tra le vie del paese\, vin brulè e bruschette gratuite per i partecipanti
  alle visite con possibilità di pranzare allo stand del comitato 1983 (a 
 pagamento).\n\nInfo e prenotazioni 3332043886 - viverecanalemonterano@gmai
 l.com\nL’Amministrazione Comunale
ATTACH;FMTTYPE=image/jpeg:https://lazioeventi.com/wp-content/uploads/2022/
 11/Locandina-eventi-a-Monterano.jpg
CATEGORIES:Varie
LOCATION:Canale Monterano\, Comune\, Canale Monterano\, Roma\, Lazio\, Ital
 ia
GEO:42.1367;12.1038
X-APPLE-STRUCTURED-LOCATION;VALUE=URI;X-ADDRESS=Comune\, Canale Monterano\,
  Roma\, Lazio\, Italia;X-APPLE-RADIUS=100;X-TITLE=Canale Monterano:geo:42.
 1367,12.1038
END:VEVENT
BEGIN:VTIMEZONE
TZID:Europe/Rome
X-LIC-LOCATION:Europe/Rome
BEGIN:STANDARD
DTSTART:20221030T020000
TZOFFSETFROM:+0200
TZOFFSETTO:+0100
TZNAME:CET
END:STANDARD
END:VTIMEZONE
END:VCALENDAR