BEGIN:VCALENDAR
VERSION:2.0
PRODID:-//wp-events-plugin.com//7.2.3.1//EN
TZID:Europe/Rome
X-WR-TIMEZONE:Europe/Rome
BEGIN:VEVENT
UID:28549@lazioeventi.com
DTSTART;TZID=Europe/Rome:20211008T210000
DTEND;TZID=Europe/Rome:20211008T223000
DTSTAMP:20210922T100439Z
URL:https://lazioeventi.com/eventi/divina-omaggio-a-dante-alighieri
SUMMARY:DIVINA - Omaggio a Dante Alighieri - Castel Sant'Elia - 8 Ottobre 2
 1 21:00
DESCRIPTION:“DIVINA” è un viaggio onirico che dura ormai da 700 anni e
  muta e cambia ma solo nella forma non nei contenuti.\n\nE’ stato sempli
 ce trovare il fil rouge che trasformasse le vicende narrate da Dante in at
 tuali fatti di cronaca: Piccarda la ragazza che non accetta le imposizioni
  della famiglia ed allora subisce violenza\; Beatrice\, una donna che non 
 riuscendo ad allontanare il suo stalker decide di uccidersi\; Francesca in
 namorata di un uomo che non viene accettato dalla famiglia di lei. Tutte p
 agine di una cronaca attualissima.\n\nLo spettacolo\, presentato dai ragaz
 zi del laboratorio della Federazione Italiana del Teatro Amatoriale – Co
 mitato Regionale Lazio\, è stato realizzato dai docenti del FITA-Lab: Mar
 co Fiorani\, Roberto Bendia\, Andrea Serafini e Stefania Maccari. Al debut
 to l’8 ottobre 2021 alle ore 21 presso la Basilica di Sant’Elia nel Co
 mune di Castel Sant’Elia\, “Divina” inizia la sua tournee nella Regi
 one Lazio e si prepara alla partecipazione ai festival europei.\n\nPer par
 tecipare all’evento\, è necessaria la prenotazione e l’esibizione del
  GREEN PASS al momento dell’ingresso in Basilica.
ATTACH;FMTTYPE=image/jpeg:https://lazioeventi.com/wp-content/uploads/2021/
 09/divina.jpg
CATEGORIES:Musica, Spettacoli e Danza nel Lazio
LOCATION:Castel Sant'Elia\, Comune di Castel Sant'Elia\, Castel Sant'Elia\,
  Viterbo\, Lazio\, Italia
GEO:42.2505;12.3701
X-APPLE-STRUCTURED-LOCATION;VALUE=URI;X-ADDRESS=Comune di Castel Sant'Elia\
 , Castel Sant'Elia\, Viterbo\, Lazio\, Italia;X-APPLE-RADIUS=100;X-TITLE=C
 astel Sant'Elia:geo:42.2505,12.3701
END:VEVENT
BEGIN:VTIMEZONE
TZID:Europe/Rome
X-LIC-LOCATION:Europe/Rome
BEGIN:DAYLIGHT
DTSTART:20210328T030000
TZOFFSETFROM:+0100
TZOFFSETTO:+0200
TZNAME:CEST
END:DAYLIGHT
END:VTIMEZONE
END:VCALENDAR