BEGIN:VCALENDAR
VERSION:2.0
PRODID:-//wp-events-plugin.com//7.2.3.1//EN
TZID:Europe/Rome
X-WR-TIMEZONE:Europe/Rome
BEGIN:VEVENT
UID:43231@lazioeventi.com
DTSTART;TZID=Europe/Rome:20251202T110000
DTEND;TZID=Europe/Rome:20260115T190000
DTSTAMP:20251128T105101Z
URL:https://lazioeventi.com/eventi/dodici-dodici-opere-dodici-artisti-dodi
 ci-mesi
SUMMARY:DODICI - Dodici opere\, dodici artisti\, dodici mesi - Roma - 2 Dic
 embre 25 11:00
DESCRIPTION:La Galleria Tiber Art è lieta di annunciare l'inaugurazione de
 lla mostra collettiva “DODICI – Dodici opere\, dodici artisti\, dodici
  mesi”\, che avrà luogo il 2 dicembre 2025 alle ore 18:00\, in Via di P
 arione 9\, Roma.\n\n“DODICI” celebra la conclusione dell’anno attrav
 erso un’idea semplice e potente: dodici artisti\, ciascuno nato in un me
 se diverso\, riuniti in un’unica esposizione che attraversa simbolicamen
 te l’intero calendario. Una scelta curatoriale che permette di leggere l
 a produzione artistica non solo come espressione individuale\, ma come un 
 ritmo comune\, un “tempo creativo” che scorre parallelo al tempo natur
 ale.\n\nLa mostra nasce dal desiderio di offrire al pubblico uno sguardo t
 rasversale su alcune delle voci più significative dell’arte italiana de
 l Novecento e dei primi decenni del Duemila. Il numero dodici si propone c
 osì come un filo conduttore che unisce sensibilità differenti\, offrendo
  un percorso in cui le opere pur distanti per linguaggi e intenzioni\, dia
 logano nella loro capacità di restituire un frammento di epoca\, visione 
 e storia personale.\n\nI protagonisti di questo percorso – Angeli\, Corp
 ora\, De Chirico\, Dorazio\, Festa\, Sironi\, Sanfilippo\, Scanavino\, Sch
 ifano\, Severini\, Tadini\, Vedova – costruiscono\, attraverso le loro o
 pere\, un racconto scandito dal tempo e dalla varietà delle personalità 
 artistiche che rappresentano. Ogni autore porta con sé il proprio mese\, 
 la propria storia e la propria identità\, contribuendo a un mosaico che i
 ntreccia visioni\, stili\, linguaggi e sensibilità diverse.\n\nSe da un l
 ato “DODICI” propone una lettura simbolica del ciclo annuale\, dall’
 altro invita a riflettere sulla continuità della ricerca artistica\, che 
 non conosce stagioni: un lavoro che attraversa gli anni\, supera i confini
  biografici e rinnova costantemente il proprio significato attraverso lo s
 guardo di chi osserva.\n\nLa mostra diventa così un omaggio alla ciclicit
 à dell’anno\, alla pluralità dell’arte e alla ricchezza delle sue st
 agioni creative\, offrendo al visitatore un percorso essenziale ma intenso
 \, capace di mettere in relazione memoria\, evoluzione e identità visiva.
 \n\nLa mostra resterà aperta fino al 15 gennaio 2026 negli spazi di Via d
 i Parione 9\, Roma\, dal martedì al sabato\, ore 11:00-19:00.\n\nDettagli
  dell'evento:\n\n 	Inaugurazione: 2 dicembre 2025\, ore 18:00\n 	Curatore:
  Federico Papa\n 	Durata della mostra: dal 2 dicembre 2025 al 15 gennaio 2
 026\n 	Indirizzo: Galleria Tiber Art - Via di Parione 9\, Roma\n 	Orari di
  apertura: dal martedì al sabato 11.00-19.00\n 	Ingresso gratuito\n\n&nbs
 p\;\n\nInformazioni:\nTiberArt – Via di Parione 9\, Roma\nTel. +39 348 2
 213202\nEmail: info@tiberart.com
ATTACH;FMTTYPE=image/jpeg:https://lazioeventi.com/wp-content/uploads/2025/
 11/12-opera-di-De-Chirico.jpg
CATEGORIES:Arte e Cultura nel Lazio
LOCATION:Roma\, Via Leopardi\, Roma\, Roma\, Lazio\, Italia
GEO:41.8942;12.5017
X-APPLE-STRUCTURED-LOCATION;VALUE=URI;X-ADDRESS=Via Leopardi\, Roma\, Roma\
 , Lazio\, Italia;X-APPLE-RADIUS=100;X-TITLE=Roma:geo:41.8942,12.5017
END:VEVENT
BEGIN:VTIMEZONE
TZID:Europe/Rome
X-LIC-LOCATION:Europe/Rome
BEGIN:STANDARD
DTSTART:20251026T020000
TZOFFSETFROM:+0200
TZOFFSETTO:+0100
TZNAME:CET
END:STANDARD
END:VTIMEZONE
END:VCALENDAR