BEGIN:VCALENDAR
VERSION:2.0
PRODID:-//wp-events-plugin.com//7.2.3.1//EN
TZID:Europe/Rome
X-WR-TIMEZONE:Europe/Rome
BEGIN:VEVENT
UID:30113@lazioeventi.com
DTSTART;TZID=Europe/Rome:20220330T210000
DTEND;TZID=Europe/Rome:20220330T233000
DTSTAMP:20220317T150519Z
URL:https://lazioeventi.com/eventi/dog-byron-dal-vivo-allauditorium
SUMMARY:Dog Byron dal vivo all’Auditorium - Roma - 30 Marzo 22 21:00
DESCRIPTION:“Open” è il titolo del nuovo album del progetto Dog Byron\
 , band del musicista romano Max Trani\, che presenterà dal vivo in antepr
 ima all’Auditorium Parco Della Musica con la band al completo e numerosi
  ospiti.\n\nDurante lo spettacolo saranno eseguite tutte le otto tracce ch
 e compongono il disco\, ma\, anche alcuni brani degli esordi come “Cool
 ”\, “Summer Afternoon Lullaby”\, “So Keen”\, gli ultimi singoli 
 come “Broken witches” e “Home”\, ma anche brani inediti nuovi non 
 ancora registrati e brani che apparterranno a nuove collaborazioni come qu
 ella con Giangrande. Il nuovo disco in uscita venerdì 1 aprile\, vanta an
 che la partecipazione della rock band inglese Turin Brakes\, e riassume l
 ’esperienza artistica e stilistica maturata in questi anni tra live e st
 udio.\n\n“Open” è una raccolta di canzoni scritte e registrate tra ag
 osto 2019 e Ottobre 2021 a Roma\, Berlino e Amburgo. Frutto di esperienze\
 , incontri e collaborazioni internazionali maturate nel corso degli anni d
 i tour in Europa. Questo nuovo lavoro mostra una naturale evoluzione dalle
  sonorità grunge rock più aggressive verso atmosfere più riflessive fat
 te di chitarre folk\, ritmiche profonde e qualche insert elettronico.\n\nL
 a voce è pacata\, con tecniche di registrazione che permettono un’esecu
 zione quasi sussurrata e dinamiche molto basse degli strumenti. La maggior
  parte dei brani sono prodotti da Max Trani e le tracce di matrice elettro
 nica come “7 Stars\,” “The End Claim” e “Berliner Traum”\, son
 o stati scritti e prodotti da Max insieme a Marco De Ritis a Berlino. Il b
 rano “Love from a Distance (St. Pauli)” è stato prodotto ad Amburgo d
 al musicista e produttore Lorenzo Pesci. Tutte le batterie di Vieri Baiocc
 hi sono state registrate in Portogallo\, i cori della cantautrice serbo/ol
 andese Magocé a Rotterdam\, mentre il mix è stato realizzato a Roma da R
 oberto Mascia e il master al Calyx Mastering di Berlino da Mark Bihler.\n\
 nI testi evocano naturalmente l’esperienza dell’esposizione al sentire
  tutte le cose che ci circondano e del respiro come elemento di congiunzio
 ne immediata tra le emozioni più profonde e il corpo. “Rock ‘n’ Rol
 l show” racconta l’immagine del giorno in cui nasce una figlia\, “Ag
 ain” l’amore incondizionato di un genitore al di là del tempo. “Aro
 und” che chiude l’album (scritta prevalentemente dall’amico autore/c
 ompositore Andrea Ciccarelli e interpretata da Dog Byron insieme agli amic
 i Turin Brakes) è la storia della fine di una relazione e il modo in cui 
 affrontiamo questa e un nuovo inizio. “Breakfast at Sunrise (Hotel room)
 ” è una preghiera in cui l’amore profondo si mostra come l’energia 
 che ci permette di lasciar andare. “Berliner Traum” è un sogno\, “T
 he end claim”\, l’ultima speranza di poter rimanere insieme\, “Love 
 from a Distance” il sentirsi profondamente al di là della presenza\, al
  di là del contatto\, in “7 Stars” le costellazioni diventano un punt
 o di riferimento che unisce da lontano. “Open” sta per l’anima che s
 i apre al sentire e più in generale è totale esposizione al sentire\, 
 in tutte le cose\; trattenere\, senza contenere\, saper lasciar andare\; 
 una forma di educazione sentimentale\, una nuova maturità emotiva.\n\nAd 
 impreziosire la serata ospiti come il chitarrista Alessio “Poor Bob” M
 agliocchetti Lombi\, il sassofonista Andrés Arce Maldonado\, il rapper Fr
 ancesco “Kento” Carlo\, il cantautore Giangrande e la performance dell
 a Broken Orchestra con Andrea Ciccarelli e Ambra Chiara Michelangeli.\n\nL
 a band sul palco: Max Trani (voce e chitarre)\, Marco De Ritis (basso)\, G
 ianluca Giannasso (batteria) e David “Shiny D” Assuntino (piano elettr
 ico).\n\n&nbsp\;\n\nMercoledì 30 marzo\n\nOre 21\n\nAuditorium Parco Dell
 a Musica - Teatro Studio Borgna\n\nVia Pietro de Coubertin\, Roma\n\nPrezz
 o all’ingresso Euro 12\n\nInfoline 06802411
ATTACH;FMTTYPE=image/jpeg:https://lazioeventi.com/wp-content/uploads/2022/
 03/Dog-Byron-foto-Gianluca-Giannasso-3.jpg
CATEGORIES:Musica, Spettacoli e Danza nel Lazio
LOCATION:Roma\, Via Leopardi\, Roma\, Roma\, Lazio\, Italia
GEO:41.8942;12.5017
X-APPLE-STRUCTURED-LOCATION;VALUE=URI;X-ADDRESS=Via Leopardi\, Roma\, Roma\
 , Lazio\, Italia;X-APPLE-RADIUS=100;X-TITLE=Roma:geo:41.8942,12.5017
END:VEVENT
BEGIN:VTIMEZONE
TZID:Europe/Rome
X-LIC-LOCATION:Europe/Rome
BEGIN:DAYLIGHT
DTSTART:20220327T030000
TZOFFSETFROM:+0100
TZOFFSETTO:+0200
TZNAME:CEST
END:DAYLIGHT
END:VTIMEZONE
END:VCALENDAR