BEGIN:VCALENDAR
VERSION:2.0
PRODID:-//wp-events-plugin.com//7.2.3.1//EN
TZID:Europe/Rome
X-WR-TIMEZONE:Europe/Rome
BEGIN:VEVENT
UID:38318@lazioeventi.com
DTSTART;TZID=Europe/Rome:20240128T110000
DTEND;TZID=Europe/Rome:20240128T180000
DTSTAMP:20240120T104358Z
URL:https://lazioeventi.com/eventi/domenica-libera-tutti
SUMMARY:Domenica libera tutti - Nerola - 28 Gennaio 24 11:00
DESCRIPTION:Non prendere altri impegni!\nDomenica 28 gennaio ti aspettiamo 
 qui al Santuario Capra Libera Tutti per una giornata rigenerativa insieme 
 agli animali liberi!\nNon c'è posto migliore per ricaricare le batterie d
 opo una settimana stressante.\nLasciati alle spalle la frenesia della citt
 à ed invita le persone che ami a condividere con te una giornata speciale
 !\nContinua a leggere per conoscere tutti i dettagli della giornata\n\nPar
 cheggio dedicato\nPrenotazione obbligatoria\n\nIL PROGRAMMA DELLA GIORNATA
 :\nORE 11:00 Apertura\nORE 11:30 Accoglienza libera tutti\nORE 12:00 Prese
 ntazione del libro Parola Agli Animali\nVisita al Santuario e passeggiata 
 in montagna fino al tramonto!\n\nINGRESSO CON MENU LIBERA TUTTI CON DONAZI
 ONE 20 EURO\nBis di bruschette con hummus e formaggi vegetali\nPasta e fag
 ioli (gluten-free)\nFarifrittata con cipolle + verdure al gratin (gluten f
 ree)\nBanana bread con Crema n1 (gluten - free)\nPer rendere questo menu p
 iù inclusivo possibile\, quasi tutti i piatti proposti sono senza glutine
 : le bruschette no\, ma possono essere rese tali su richiesta. Ricordati d
 i segnalare eventuali intolleranze e/o allergie al momento della prenotazi
 one!\n\nINGRESSO PIC-NIC CON DONAZIONE 10 EURO\nPuoi portarti il pranzo al
  sacco da casa (rigorosamente vegan*) oppure approfittare dei piatti dolci
  e salati che troverai al Bar Libera Tutti!\n*Questo luogo è aperto a tut
 te le persone che già ci conoscono e sostengono\, ma anche a quelle che v
 ogliono affacciarsi ad una realtà diversa e sperimentare una relazione di
 versa con gli altri animali.\nNon conosciamo le ragioni che ti spingono a 
 venirci a trovare: potresti non aver mai visitato un posto come questo e a
 vere tante domande... alle quali non vediamo l’ora di rispondere.\nMa de
 vi assolutamente sapere che\, nel rispetto di tutti gli animali che abitan
 o qui\, è assolutamente vietato introdurre cibo proveniente dallo sfrutta
 mento dei loro simili!\nTutto il ricavato della giornata andrà a sostegno
  del Santuario Capra Libera Tutti e dei suoi oltre 400 abitanti\n\nALCUNE 
 INFORMAZIONI UTILI:\nIl Santuario Capra Libera Tutti è un luogo di incont
 ro e trasformazione per gli animali di tutte le specie e uno spazio rigene
 rativo e resistente di formazione\, contaminazione e crescita collettiva.\
 nLa nostra nuova AREA EVENTI è uno spazio di socialità ed aggregazione d
 ove trascorrere del tempo a contatto con la natura in pieno relax e partec
 ipare alle attività previste per la giornata.\nDurante la tua permanenza 
 qui potrai esplorare in lungo e in largo il santuario e incontrare gli ani
 mali liberi.\nTI CHIEDIAMO DI ESSERE PUNTUALE E NON PERDERE IL NOSTRO DISC
 ORSO DI ACCOGLIENZA che è pensato per essere un momento fondamentale dell
 a giornata\, durante il quale impareremo a conoscere gli animali\, il loro
  linguaggio e le loro storie uniche.\nIl BAR LIBERA TUTTI sarà qui per ac
 cogliervi e coccolarvi con prelibatezze dolci e salate grazie al supporto 
 dei nostri splendidi sponsor Caseificio Vegano di Barbara Ferrante\, Ivega
 n e Vegeatal.\nTroverai anche bevande per tutti i gusti come caffè\, tè\
 , tisane\, birra\, il vin brulé e la nostra esclusiva e già leggendaria 
 crema di whiskey vegana per riscaldarci con gusto!\nL’ EMPORIO LIBERA TU
 TTI sarà aperto per curiosare ed acquistare il libro Parola agli Animali 
 e il mitico merchandise a sostegno del santuario!\n\nCOME PRENOTARE:\nScri
 vici su whatsapp al numero 351 9219616 indicando il tuo NOME E COGNOME e i
 l NUMERO DI PERSONE per cui stai prenotando* e specifica se intendi prenot
 are con MENU LIBERA TUTTI o INGRESSO PIC NIC\n*Eventuali intolleranze e/o 
 allergie devono essere segnalate al momento della prenotazione\nPorta con 
 te una borraccia per aiutarci a ridurre il consumo di plastica ed altri im
 ballaggi.\nNon portare con te cani o altri animali: nel santuario vivono o
 ltre 400 animali liberi e diversi cani. E' obbligatorio rispettare questa 
 regola e per ragioni sanitarie e di sicurezza: non ci sono "eccezioni" o "
 casi particolari".\nLa superficie del santuario è ampia e il percorso di 
 visita potrebbe presentare alcune criticità: se tu - o qualcuno che viene
  con te - avete problematiche fisiche e/o difficoltà motorie\, vi chiedia
 mo di segnalarcelo anticipatamente in modo da potervi assistere e suggerir
 e il modo migliore per vivere un'esperienza di visita serena.\nIl Santuari
 o è immerso nella natura: se vuoi visitarlo indossa vestiti sportivi e sc
 arpe comode adatte a camminare e sporcarsi.\n\nDOPO AVER PRENOTATO:\nLEGGI
  CON ATTENZIONE LE INDICAZIONI CHE TI MANDEREMO!\nIl Santuario Capra Liber
 a Tutti ha un nuovo ingresso e NON SI ENTRA PIU’ DAL CANCELLO SU VIA SAL
 ARIA! Dopo la prenotazione ti invieremo tutti i dettagli per raggiungerci 
 con facilità!\n\nIL SANTUARIO CAPRA LIBERA TUTTI E' LA CASA DI CENTINAIA 
 DI ANIMALI LIBERI: RISPETTIAMOLA!\nLEGGI IL REGOLAMENTO E CONDIVIDILO CON 
 CHI VERRA' CON TE:\nNon portare con te cani o altri animali: nel santuario
  vivono oltre 350 animali liberi e diversi cani. E' quindi obbligatorio ri
 spettare questa regola e per ragioni sanitarie e di sicurezza. Per ovvie r
 agioni non è neanche possibile venire con il cane e lasciarlo in macchina
 !\nIl Santuario è davvero grande e wild come te l’abbiamo descritto fin
 ora! Indossa vestiti sportivi e scarpe comode adatte a camminare. Ti consi
 gliamo di indossare delle scarpe da trekking ma se non le hai andranno ben
 e delle scarpe da ginnastica con la suola non troppo liscia! Se hai dei ba
 stoncini da trekking portali con te\; nel nostro emporio ne metteremo a di
 sposizione alcuni che potrai noleggiare con una piccola cauzione\nEntra in
  punta di piedi. Non cercare a tutti i costi il contatto con gli animali: 
 si avvicineranno loro a te\, solo se lo vorranno\nQuesto non è uno zoo o 
 una fattoria didattica\, ma un luogo antispecista che custodisce e difende
  la libertà di tutte le specie viventi: gli animali non sono qui per noi\
 , ma con noi\nCome noi\, anche gli altri animali sono individui con person
 alità e caratteri diversi: non tutti vogliono o possono essere toccati ed
  accarezzati. Rispetta i loro spazi\, i loro tempi\, impara ad osservarli 
 e conoscerli e non interagire senza consenso\nBambine e bambini devono ess
 ere sempre accompagnati da persone adulte e non possono avvicinarsi agli a
 nimali senza la supervisione di una figura responsabile per il santuario\n
 Non dare da mangiare agli animali. Gli abitanti del santuario hanno a disp
 osizione fieno e fioccato fresco ogni giorno e tutta l’erba che desidera
 no sulla montagna libera tutti: qualsiasi altro alimento potrebbe causare 
 gravi danni alla loro salute!\nNon prendere in braccio gli animali: rispet
 ta le loro caratteristiche etologiche senza bisogno di umanizzarli\nEvita 
 grida\, schiamazzi\, applausi e movimenti bruschi nelle vicinanze degli an
 imali come anche qualsiasi altro atteggiamento che potrebbe spaventarli\nC
 ancelli e recinzioni servono a proteggere gli animali dalla strada e dai p
 ericoli: non aprirli e non scavalcarli\nMunisciti di un posacenere portati
 le. Non gettare in terra mozziconi e rifiuti di alcun genere: rispetta l
 ’ambiente e gli animali che lo abitano. Aiutaci a rendere questo posto s
 empre migliore!\nIl Santuario Capra Libera Tutti riconosce\, rispetta e ac
 coglie le diversità e crede nella convergenza tra le diverse lotte contro
  tutte le oppressioni. Non sono tollerati comportamenti discriminatori\, s
 essisti\, razzisti ed abilisti\, oltre che specisti.\nIn qualsiasi momento
  potrai rivolgerti ad una volontaria o a un volontario per ogni esigenza e
 d ogni tua domanda\, dubbio o curiosità\n\nCapra Libera Tutti è un luogo
  di accoglienza ed una seconda possibilità per centinaia di animali scamp
 ati al macello. Un sogno che anche tu con il tuo supporto ci aiuti a rende
 re reale.\n\nSe l'iniziativa ti piace\, condividi questo invito con person
 e amiche\, familiari e colleghi. \nSupportando i santuari puoi fare davver
 o la differenza e cambiare il destino di tanti animali!
ATTACH;FMTTYPE=image/jpeg:https://lazioeventi.com/wp-content/uploads/2024/
 01/domenica-capra-libera-tutti.jpg
CATEGORIES:Sport, Tempo Libero e Divertimento nel Lazio
LOCATION:Nerola\, Comune\, Nerola\, Roma\, Lazio\, Italia
GEO:42.1616;12.7868
X-APPLE-STRUCTURED-LOCATION;VALUE=URI;X-ADDRESS=Comune\, Nerola\, Roma\, La
 zio\, Italia;X-APPLE-RADIUS=100;X-TITLE=Nerola:geo:42.1616,12.7868
END:VEVENT
BEGIN:VTIMEZONE
TZID:Europe/Rome
X-LIC-LOCATION:Europe/Rome
BEGIN:STANDARD
DTSTART:20231029T020000
TZOFFSETFROM:+0200
TZOFFSETTO:+0100
TZNAME:CET
END:STANDARD
END:VTIMEZONE
END:VCALENDAR