BEGIN:VCALENDAR
VERSION:2.0
PRODID:-//wp-events-plugin.com//7.2.3.1//EN
TZID:Europe/Rome
X-WR-TIMEZONE:Europe/Rome
BEGIN:VEVENT
UID:37535@lazioeventi.com
DTSTART;TZID=Europe/Rome:20231119T180000
DTEND;TZID=Europe/Rome:20231119T200000
DTSTAMP:20231025T093438Z
URL:https://lazioeventi.com/eventi/domenico-un-uomo-buono
SUMMARY:Domenico un uomo buono - Fiuggi - 19 Novembre 23 18:00
DESCRIPTION:Seconda edizione della rassegna teatrale denominata: “Stracci
  & Canovacci”. \n\nLa rassegna\, oltre a radicare ancora di più l’art
 e scenica\, ha come scopo primario la valorizzazione delle tradizioni e de
 lle nuove istanze culturali del territorio. Si svolgerà all’interno del
  Teatro Comunale di Fiuggi\, rendendo la struttura teatrale della città u
 n consolidato punto di riferimento per un sempre maggiore numero di spetta
 tori. La prima edizione della rassegna ha registrato un gratificante succe
 sso di pubblico. \n\nCinque spettacoli teatrali tra il mese di dicembre 20
 22 e il mese di febbraio 2023 hanno segnato il tutto esaurito ad ogni rapp
 resentazione come da relazione conclusiva inviata all’Ente Regionale. \n
 \nGli spettacoli hanno coinvolto il Teatro Comunale e la Biblioteca Comuna
 le di Fiuggi. La nuova edizione si presenta in forma più impegnativa per 
 un maggiore radicamento sul territorio e indicare un doveroso percorso di 
 crescita della rassegna. \n\nEcco il programma:\n\nDomenica 19 novembre 20
 23 ore 18\,00\nDOMENICO Un uomo sereno “San Domenico da Foligno – sull
 e vie dell’Europa e di San Benedetto” . Compagnia Tdo e Il gattopardo\
 , gruppo teatrale. .\nSpettacolo su Domenico da Foligno che racconta della
  prima costruzione dell’omonima Abbazia presso Trisulti in provincia di 
 Frosinone\, primo Nucleo Monastico preesistente alla futura Certosa\, che 
 fu Primo Centro di Comunità Monastica a Trisulti e in Italia.San Domenico
  da Foligno\, benedettino\, visse per ben 15 anni presso l’Abbazia a Tri
 sulti\, ed è considerato tra i più importanti riformatori della vita mon
 astica tra il X e l’XI secolo. Uno spettacolo con una compagnia di 10 at
 tori. Oltre a rappresentare una novità teatrale italiana la proposta si p
 one come il tentativo di approfondimento della storia e della tradizione d
 el luogo che ospita la rassegna e quindi come veicolo di promozione e di r
 ilancio dello stesso.\n\nMartedì 26 dicembre ore 18\,00 LA CONFERENZA Com
 pagnia Stracci&Canovacci.\nUna commedia che racconta i preparativi della c
 onferenza di un famoso antropologo che\, per una serie di vicissitudini\, 
 non verrà mai tenuta. Ambientata all’interno di un teatro vuoto\, la co
 mmedia presenta\, in una felice commistione tra vernacolo (dialetto fiuggi
 no) e italiano\, una serie di alienati personaggi incapaci di gestire la l
 oro vita e\, per questo\, travolti dall’evolversi della vicenda che li c
 ondurrà verso un irrimediabile cambiamento esistenziale. Commedia in due 
 atti\, mai rappresentata e messa in scena dalla compagnia che prende il no
 me della rassegna.\n\nGiovedì 28 dicembre 2023 ore 21\,00 Teatro Comunale
 \nUN’ALTRA CENERENTOLA Compagnia Gruppo 101\nRivisitazione in chiave com
 ica e musicale della celebre favola. Una diversa lettura del mito di Cener
 entola che coinvolge tutti i protagonisti della vicenda gettando scompigli
 o nelle loro esistenze. Una ragazza che non vorrebbe affatto essere lo ste
 reotipo della celebre eroina si ritrova a vivere una avventura molto simil
 e a quella raccontata da favolisti di ogni tempo. Uno spettacolo leggero\,
  sul solco di teatro popolare tracciato da questo cartellone\, adatto al p
 eriodo natalizio che non mancherà di coinvolgere una platea eterogenea me
 sso in scena da una giovane ed emergente formazione teatrale. Musiche orig
 inali di Luca Incocciati.\nPRIMA DELLO SPETTACOLO PROIEZIONE DEL CORTOMETR
 AGGIO Anna\, la balia che veniva dalla campagna promosso dalla Regione Laz
 io nell’ambito del bando: “Inventiamo una storia\, creiamo un film 202
 3” e realizzato da giovani cineasti dei comuni di Fiuggi\, Morolo e Pigl
 io (Fr)- Si tratta di un progetto che coinvolge tre realtà della provinci
 a di Frosinone per una didattica cinematografica condensata in lezioni di 
 conoscenza dell’arte del cinema e nella creazione di un cortometraggio a
  cominciare dalla scrittura cinematografica fino alla realizzazione delle 
 riprese e del montaggio finale. Il tema del progetto 2023 sono le tradizio
 ni del territorio pertanto si presenta la storia di Anna\, una donna cioci
 ara che andò “a balia” nell’età dell’adolescenza e restò per se
 mpre nella famiglia a cui era destinata\, segnando la sua esistenza. Il fe
 nomeno della balie ha caratterizzato fortemente la Ciociaria durante la se
 conda metà dell’ottocento fino a buona parte del secolo scorso.\n\nDome
 nica 28 gennaio ore 18\,00 Teatro Comunale di Fiuggi\nRACCONTO D’INVERNO
  di ShakespeareCompagnia Fiuggieatroscuola\nUno dei testi più rappresenta
 ti di Shakespeare. Una storia ricca di continui colpi di scena\, dove le p
 assioni dominano i protagonisti della storia fino a determinarne un destin
 o che si tinge di ora di colori neri ora invece di sfumature chiare che ri
 chiamano la commedia romantica. Come altre commedie di Shakespeare anche q
 uesta è stata oggetto di rifacimenti cinematografici. La sua particolare 
 struttura drammaturgica rimanda anche al genere fantasy\, così tanto di m
 oda ai nostri giorni. Un capolavoro del teatro che non mancherà di suscit
 are l’interesse del pubblico come già accaduto al suo debutto durante l
 a stagione estiva.\n\nDomenica 25 febbraio ore 18\,00 IL CORO Fiuggiteatro
 scuola. \nCommedia brillante che ha nella commistione tra vernacolo e ling
 ua italiana la sua forza espressiva. Un testo “corale” che racconta le
  vicissitudini di un gruppo amatoriale alle prese con le prove per la loro
  più importante esibizione. L’ambizione si scontra con il pressapochism
 o dando vita a inevitabili contrasti e esilaranti situazioni comiche. Un t
 esto di teatro popolare\, leggero\, che non mancherà di coinvolgere il pu
 bblico.\n\nDomenica 24 marzo ore 18\,00 NELLIE BLY\, UNA DONNA FENOMENALE 
 Tdo\nUno spettacolo teatrale che mette al centro della scena una sola donn
 a e la sua testarda voglia di imporsi in una società maschilista come que
 lla americana tra la fine dell’ottocento e la prima parte del 1900. Test
 imone di un periodo incredibile tra J. F. Kennedy\, Pulitzer\, e molti alt
 ri protagonisti di un’America che stava diventando il centro del mondo\,
  Nelly Bly\, all’anagrafe Elisabeth Jane Cochran è stata la prima giorn
 alista a lavorare sotto falso nome\, rivelando al mondo la brutalità del 
 manicomio femminile di Blackwell Island\, facendosi ricoverare per dieci g
 iorni come malata. Indagine che ispirò successivamente il film: “Qualcu
 no volò sul nido del Cuculo”. Il suo nome è legato anche ad un giro de
 l mondo da record\, completato in soli 72 giorni\, emulando Phileas Fogg\,
  protagonista del romanzo di Jules Verne Il giro del mondo in 80 giorni. M
 odello per l’emancipazione delle donne nel 1895 Nellie Bly si sposò con
  il milionario Robert Seaman e dopo la sua morte divenne capitana d’indu
 stria. Tra i suoi primati\, aggiunse anche quello di primo corrispondente 
 di guerra donna. All’età di 57 anni\, il 27 gennaio 1922\, Elizabeth mo
 rì di polmonite al St. Mark’s Hospital di New York. Poche settimane pri
 ma della sua scomparsa\, lasciò detto: «Non ho mai scritto una parola ch
 e non provenisse dal mio cuore. E mai lo farò».Una storia emozionante\, 
 ricca di continui colpi di scena per uno spettacolo teatrale coinvolgente\
 n\nSabato 27 aprile 2024 ore 21\,00 LA BAITA Compagnia Cupido teatro\nUna 
 alienante ritratto della società contemporanea raccontato durante un week
  end in campagna di due coppie- La vicenda si svolge all’interno di una 
 baita. A scatenare una serie di eventi drammatici l’omicidio di un uomo 
 avvenuto in un albergo del paese di montagna vicino l’abitazione dei gio
 vani protagonisti. Per una sfortunata serie di coincidenze a restarne coin
 volta sarà la moglie di uno dei quattro\, risultata poi completamente est
 ranea all’accaduto ma ciò basterà a determinare lo sfaldamento delle c
 onvinzioni con cui le due coppie avevano costruito la loro esistenza.
ATTACH;FMTTYPE=image/jpeg:https://lazioeventi.com/wp-content/uploads/2023/
 10/Stracciecanovacci.jpg
CATEGORIES:Musica, Spettacoli e Danza nel Lazio
LOCATION:Fiuggi\, Comune di Fiuggi\, Fiuggi\, Frosinone\, Lazio\, Italia
GEO:41.8039;13.2218
X-APPLE-STRUCTURED-LOCATION;VALUE=URI;X-ADDRESS=Comune di Fiuggi\, Fiuggi\,
  Frosinone\, Lazio\, Italia;X-APPLE-RADIUS=100;X-TITLE=Fiuggi:geo:41.8039,
 13.2218
END:VEVENT
BEGIN:VTIMEZONE
TZID:Europe/Rome
X-LIC-LOCATION:Europe/Rome
BEGIN:STANDARD
DTSTART:20231029T020000
TZOFFSETFROM:+0200
TZOFFSETTO:+0100
TZNAME:CET
END:STANDARD
END:VTIMEZONE
END:VCALENDAR