BEGIN:VCALENDAR
VERSION:2.0
PRODID:-//wp-events-plugin.com//7.2.3.1//EN
TZID:Europe/Rome
X-WR-TIMEZONE:Europe/Rome
BEGIN:VEVENT
UID:42520@lazioeventi.com
DTSTART;TZID=Europe/Rome:20250927T213000
DTEND;TZID=Europe/Rome:20250927T230000
DTSTAMP:20250922T135641Z
URL:https://lazioeventi.com/eventi/dream-scenario
SUMMARY:Dream Scenario - Sutri - 27 Settembre 25 21:30
DESCRIPTION:Al via la quarta edizione del Festival della Tuscia\, progetto 
 ideato da Vittorio Sgarbi e diretto dal maestro Massimo Spada.\nCon il tit
 olo "La leggerezza" sono in programma undici concerti che si svolgeranno d
 al 19 settembre al 12 ottobre 2025 in palazzi storici di Viterbo\, Gallese
 \, Ischia di Castro\, Vallerano\, Bassano Romano\, Bolsena\, Vitorchiano e
  Sutri. \n\nL'agenda: teatro\, concerti\, mostre ed eventi nella Tuscia  \
 n"Prime Note D'autunno": a Vetralla un concerto pianistico all'alba\nI Rac
 conti sonori del Festival “I Bemolli sono blu”: dal Chigi Hall di Vite
 rbo alle Terme dei Papi\nTra Cielo e Terra: concerto straordinario nella C
 attedrale di Sutri con i Maestri Nello Salza e Roberto Canali\n"Raccontare
  l'archeologia nella Tuscia" riparte dal Museo archeologico nazionale dell
 'Agro Falisco e Forte Sangallo\nMusiche e talenti nelle bellezze della Tus
 cia: prosegue il Festival Barocco Alessandro Stradella\n Salva\nL'ispirazi
 one nella frase di Italo Calvino: "La leggerezza non è superficialità\, 
 ma planare sulle cose dall'alto\, non avere macigni sul cuore" per un cart
 ellone che mette in mostra grandi artisti nei luoghi più belli della Tusc
 ia. \n\nQuesti gli appuntamenti::\n\n27 settembre 2025 ore 21:30 Palazzo D
 oebbing SUTRI\nDream Scenario\nSimona Severini VOCE E CHITARRA\nJacopo Fer
 razza CONTRABBASSO\n\n28 settembre 2025 ore 18:30 Teatro San Francesco BOL
 SENA\nDivertimento\nGabriele Mirabassi CLARINETTO\nMetaphora Ensemble\n\n1
 0 ottobre 2025 ore 20:30 Sala Comunale VITORCHIANO\nLuce d’Autunno\nLind
 a di Carlo PIANOFORTE\nCalogero Palermo CLARINETTO\nSandro Meszaros VIOLON
 CELLO\n\n11 ottobre 2025 ore 20:30 Santuario di S. Maria del Ruscello VALL
 ERANO\nLeggerezza Romantica\nMassimo Spada PIANOFORTE\nChiara Sannicandro 
 VIOLINO\nGeorgy Kovalev VIOLA\nLudovica Rana VIOLONCELLO\n\n12 ottobre 202
 5  ore 16:30 - 18:30 Sala Regia VITERBO\nRavel Day (in collaborazione col 
 Conservatorio di Perugia)\nOre 16:30\nGiuseppe Torrisi\nLivia Franchi de
 ’ Cavalieri\nAlessio Tonelli\nMartino Rossi\nChiara Biagioli\nElena Rido
 ll\nOre 18:30\nMassimiliano Soriente \nFulvio Nicolosi\nChiara Biagioli\nI
 an Cannon\n\n12 ottobre 2025 ore 20:30 Basilica di S. Maria della Quercia 
 VITERBO\nRavel Day\nBenedett Lupo PIANOFORTE\n\ningresso Over-35: 8€ - i
 ngresso under-35: 5€
ATTACH;FMTTYPE=image/jpeg:https://lazioeventi.com/wp-content/uploads/2025/
 09/dream-scenario.jpg
CATEGORIES:Musica, Spettacoli e Danza nel Lazio
LOCATION:Sutri\, Comune\, Sutri\, Viterbo\, Lazio\, Italia
GEO:42.2419;12.2247
X-APPLE-STRUCTURED-LOCATION;VALUE=URI;X-ADDRESS=Comune\, Sutri\, Viterbo\, 
 Lazio\, Italia;X-APPLE-RADIUS=100;X-TITLE=Sutri:geo:42.2419,12.2247
END:VEVENT
BEGIN:VTIMEZONE
TZID:Europe/Rome
X-LIC-LOCATION:Europe/Rome
BEGIN:DAYLIGHT
DTSTART:20250330T030000
TZOFFSETFROM:+0100
TZOFFSETTO:+0200
TZNAME:CEST
END:DAYLIGHT
END:VTIMEZONE
END:VCALENDAR