BEGIN:VCALENDAR
VERSION:2.0
PRODID:-//wp-events-plugin.com//7.2.3.1//EN
TZID:Europe/Rome
X-WR-TIMEZONE:Europe/Rome
BEGIN:VEVENT
UID:35599@lazioeventi.com
DTSTART;TZID=Europe/Rome:20230526T193000
DTEND;TZID=Europe/Rome:20230526T210000
DTSTAMP:20230524T153947Z
URL:https://lazioeventi.com/eventi/duo-bossanova
SUMMARY:Duo Bossanova - Bracciano - 26 Maggio 23 19:30
DESCRIPTION:DUO BOSSANOVA con Erika Baratti e Massimo Aureli\n\nLa musica b
 rasiliana rappresenta in modo autentico la cultura di un paese ricco di tr
 adizioni profonde e sfumature inaspettate. Il Duo Bossanova offre un reper
 torio che spazia dalla musica popolare brasiliana classica al Samba e alla
  Bossa Nova\, offrendoti un coinvolgente viaggio attraverso generi musical
 i diversi.\n\nLasciati emozionare dalle melodie che evocano la passione e 
 la bellezza autentica del popolo brasiliano\, creando un’atmosfera sospe
 sa tra sogno e incanto. La voce di Erika Baratta e il talento di Massimo A
 ureli ti guideranno in un mondo ricco di emozioni e “Saudade”.\n\nNon 
 perdere questa serata unica\, dove potrai lasciarti catturare dalla musica
  brasiliana e vivere un’esperienza indimenticabile. \n\nTi aspettiamo al
  Selita Bistrò per un viaggio musicale che ti lascerà senza parole! Prep
 arati a immergerti in un’atmosfera avvolgente e a lasciare che la magia 
 della musica brasiliana ti conquisti completamente.\n\nPer chi prenota ent
 ro giovedì 25 maggio calice di prosecco o di vino in omaggio\n\nprenotate
  il vostro tavolo ai seguenti numeri:\n+39.06.59.603.636\n+39.338.72.72.03
 1\nvia Principe di Napoli 7\, Bracciano.
ATTACH;FMTTYPE=image/jpeg:https://lazioeventi.com/wp-content/uploads/2023/
 05/DUO-BOSSANOVA-con-Erika-Baratti-e-Massimo-Aureli.jpg
CATEGORIES:Musica, Spettacoli e Danza nel Lazio
LOCATION:Bracciano\, Comune di Bracciano\, Bracciano\, Roma\, Lazio\, Itali
 a
GEO:42.1036;12.1756
X-APPLE-STRUCTURED-LOCATION;VALUE=URI;X-ADDRESS=Comune di Bracciano\, Bracc
 iano\, Roma\, Lazio\, Italia;X-APPLE-RADIUS=100;X-TITLE=Bracciano:geo:42.1
 036,12.1756
END:VEVENT
BEGIN:VTIMEZONE
TZID:Europe/Rome
X-LIC-LOCATION:Europe/Rome
BEGIN:DAYLIGHT
DTSTART:20230326T030000
TZOFFSETFROM:+0100
TZOFFSETTO:+0200
TZNAME:CEST
END:DAYLIGHT
END:VTIMEZONE
END:VCALENDAR