BEGIN:VCALENDAR
VERSION:2.0
PRODID:-//wp-events-plugin.com//7.2.3.1//EN
TZID:Europe/Rome
X-WR-TIMEZONE:Europe/Rome
BEGIN:VEVENT
UID:26755@lazioeventi.com
DTSTART;TZID=Europe/Rome:20200703T213000
DTEND;TZID=Europe/Rome:20200704T233000
DTSTAMP:20200626T154230Z
URL:https://lazioeventi.com/eventi/duo-salvia-crispolti
SUMMARY:Duo Salvia Crispolti - Fiumicino - 3 Luglio 20 21:30
DESCRIPTION:Venerdì 3 e sabato 4 luglio la Maccarese Spa ha organizzato l
 ’apertura straordinaria dei Giardini del Castello San Giorgio. Una serat
 a di musica dal vivo con il Duo Salvia Crispolti\, un viaggio musicale 
 dalle radici del jazz di New Orleans all
ATTACH;FMTTYPE=image/jpeg:https://lazioeventi.com/wp-content/uploads/2020/
 06/Maccarese_concerti-Castello.jpg
CATEGORIES:Musica, Spettacoli e Danza nel Lazio
LOCATION:Fiumicino\, Comune\, Fiumicino\, Roma\, Lazio\, Italia
GEO:41.8026;12.2551
X-APPLE-STRUCTURED-LOCATION;VALUE=URI;X-ADDRESS=Comune\, Fiumicino\, Roma\,
  Lazio\, Italia;X-APPLE-RADIUS=100;X-TITLE=Fiumicino:geo:41.8026,12.2551
END:VEVENT
BEGIN:VTIMEZONE
TZID:Europe/Rome
X-LIC-LOCATION:Europe/Rome
BEGIN:DAYLIGHT
DTSTART:20200329T030000
TZOFFSETFROM:+0100
TZOFFSETTO:+0200
TZNAME:CEST
END:DAYLIGHT
END:VTIMEZONE
END:VCALENDAR