BEGIN:VCALENDAR
VERSION:2.0
PRODID:-//wp-events-plugin.com//7.2.3.1//EN
TZID:Europe/Rome
X-WR-TIMEZONE:Europe/Rome
BEGIN:VEVENT
UID:42667@lazioeventi.com
DTSTART;TZID=Europe/Rome:20251011T183000
DTEND;TZID=Europe/Rome:20251011T183000
DTSTAMP:20251008T065854Z
URL:https://lazioeventi.com/eventi/e-ora-parliamo-di-tarocchi
SUMMARY:E ora parliamo di Tarocchi - Roma - 11 Ottobre 25 18:30
DESCRIPTION:“E ora parliamo di tarocchi”\n\nPresentazione del progetto 
 - Open Day- presso Spazio Mecenate l’11 ottobre 2025 ore 18:30\n\n&nbsp\
 ;\n\nSpazio Mecenate è lieto di presentare l’iniziativa “E ora parlia
 mo di tarocchi” presso la sede espositiva in via Mecenate 8d l’11 otto
 bre 2025\, a pochi passi dal Colosseo.\n\nL’evento introdurrà il pubbli
 co al progetto che prevede un corso settimanale di 11 incontri dedicati al
  mondo dei Tarocchi\, cui farà seguito una mostra allestita in galleria. 
 L’intero progetto sarà inserito nel circuito ufficiale della Rome Art W
 eek\, una cornice che garantisce prestigio e ampia visibilità nel panoram
 a artistico romano.\n\nI Tarocchi rappresentano archetipi universali\, cus
 todi di simboli senza tempo. Essi ci ricordano che la nostra natura è ete
 rna e che la Morte\, in realtà\, non esiste. La comprensione autentica de
 i Tarocchi apre la strada all’esplorazione e alla conoscenza di sé: pi
 ù che un semplice mazzo di carte\, essi rappresentano un percorso iniziat
 ico\, un trattato cosmologico e trascendente. Rappresentano una porta d’
 accesso a una dimensione diversa\, nella quale il disordine del mondo lent
 amente si dissolve e\, nel silenzio che ne consegue\, diventa possibile pe
 rcepire l’influenza dell’invisibile e dell’indicibile — realtà be
 n diverse dall’inesistente.\n\nIl corso sarà aperto a chiunque desideri
  approfondire concretamente la lettura dei Tarocchi\, e le lezioni rappres
 enteranno un’occasione ideale per intraprendere un percorso di studio so
 tto la guida di due professioniste qualificate e competenti: Clarice Gines
 tra Delvecchio\, esperta di tarocchi psicomagici e allieva diretta di Alej
 andro Jodorowsky\, e Beatrice Fernandez\, artista grafica e pittrice\, edu
 catrice e studiosa delle arti terapie. Grazie a questo straordinario binom
 io di insegnanti con esperienza pluridecennale\, il percorso offrirà ai p
 artecipanti un approccio innovativo sia alla natura che all’utilizzo di 
 questo affascinante strumento di conoscenza e crescita personale.\n\nIl co
 rso sarà suddiviso in una parte teorica\, dedicata alla descrizione dell
 ’Arcano\, e in un laboratorio pratico di psicomagia.\nLa mostra che ne s
 eguirà renderà protagonisti una selezione di artisti che abbiano\, all
 ’interno del proprio corpus\, opere legate al tema dei Tarocchi.\n\nPer 
 saperne di più\nPer ulteriori informazioni è possibile contattarci:\n+39
  389 6081112/ 338 1987834\ninfo@spaziomecenate.com\nhttps://www.spaziomece
 nate.com/
ATTACH;FMTTYPE=image/jpeg:https://lazioeventi.com/wp-content/uploads/2025/
 10/Locandina-evento-E-ora-parliamo-di-Tarocchi.jpg
CATEGORIES:Arte e Cultura nel Lazio
LOCATION:Roma\, Via Leopardi\, Roma\, Roma\, Lazio\, Italia
GEO:41.8942;12.5017
X-APPLE-STRUCTURED-LOCATION;VALUE=URI;X-ADDRESS=Via Leopardi\, Roma\, Roma\
 , Lazio\, Italia;X-APPLE-RADIUS=100;X-TITLE=Roma:geo:41.8942,12.5017
END:VEVENT
BEGIN:VTIMEZONE
TZID:Europe/Rome
X-LIC-LOCATION:Europe/Rome
BEGIN:DAYLIGHT
DTSTART:20250330T030000
TZOFFSETFROM:+0100
TZOFFSETTO:+0200
TZNAME:CEST
END:DAYLIGHT
END:VTIMEZONE
END:VCALENDAR