BEGIN:VCALENDAR
VERSION:2.0
PRODID:-//wp-events-plugin.com//7.2.3.1//EN
TZID:Europe/Rome
X-WR-TIMEZONE:Europe/Rome
BEGIN:VEVENT
UID:32801@lazioeventi.com
DTSTART:20221029T163000Z
DTEND:20221029T174500Z
DTSTAMP:20221024T144627Z
URL:https://lazioeventi.com/eventi/e-sulla-sabbia-il-vento
SUMMARY:…E sulla sabbia il vento - Tarquinia - 29 Ottobre 22 17:30
DESCRIPTION:Lo spettacolo “…E sulla sabbia il vento” della “sand ar
 tist” Nadia Ischia inaugura “PAGINEaCOLORI”\n\nL’arte della sabbia
  diventa rappresentazione e inaugura la 17esima edizione di “PAGINEaCOLO
 RI”\, il festival della letteratura illustrata per ragazze e ragazzi e d
 elle arti visive. \n\nSabato 29 ottobre\, alle 17\,30\, a Tarquinia\, sul 
 palco del teatro “Rossella Falk” la “sand artist” Nadia Ischia\, c
 on la voce narrante di Laura Lotti\, darà vita allo spettacolo gratuito 
 “...E sulla sabbia il vento”. “Magiche animazioni di sabbia interpre
 tano la musica\, le storie\, le parole e la voce – afferma la direttrice
  artistica Roberta Angeletti -. \n\nLa musica guida le mani\, i disegni di
  sabbia appaiono\, si fondono\, spariscono e rinascono. Uno spettacolo sor
 prendente per piccoli e grandi in cui ogni suggestione evoca ciò che il v
 ento\, soffiando\, rappresenta per ognuno di noi: forza\, trasformazione\,
  libertà\, inafferabilità e respiro”. Nata e cresciuta in Trentino\, a
  due passi dal lago di Garda\, Nadia Ischia si è laureata a Bologna in pe
 dagogia e ha frequentato la Scuola per Librai “Accademia Drosselmeier”
 \, Centro Studi di Letteratura per l’infanzia e l’adolescenza. \nA Tor
 ino ha frequentato il corso di illustrazione presso l’accademia Pictor e
 d è iscritta alla triennale in scienze e tecnologie delle arti\, dello sp
 ettacolo e del cinema. Immersa in questo perfetto connubio tra stimoli e q
 uiete\, creatività e manualità è diventata una “sand artist” molto 
 apprezzata in Italia e protagonista di vari spettacoli in prestigiose rass
 egne. \n\nIl festival “PAGINEaCOLORI” è organizzato con il sostegno d
 el Comune di Tarquinia (assessorato alla cultura e biblioteca comunale “
 Vincenzo Cardarelli”)\, della Regione Lazio (Laziocrea) e dell’UniCoop
  Tirreno – Sezione Soci Etruria\, in collaborazione con l’associazione
  di promozione sociale Dandelion\, l’IISS “Vincenzo Cardarelli” di T
 arquinia\, il Centro di aggregazione giovanile (Cag) di Tarquinia e la Soc
 ietà Tarquiniense d’Arte e Storia. \n\nPer rimanere aggiornati\, si pos
 sono seguire la pagina Facebook “Pagine a Colori Festival”\, il profil
 o Instagram “Festivalpagineacolori” e il sito www.pagineacolori.it. \n
 \nPer tutte le informazioni è possibile chiamare lo 0766 849282/284. 
ATTACH;FMTTYPE=image/jpeg:https://lazioeventi.com/wp-content/uploads/2022/
 10/Locandina-pagineacolori.jpeg
CATEGORIES:Varie
LOCATION:Tarquinia\, Comune\, Tarquinia\, Viterbo\, Lazio\, Italia
GEO:42.2546;11.7584
X-APPLE-STRUCTURED-LOCATION;VALUE=URI;X-ADDRESS=Comune\, Tarquinia\, Viterb
 o\, Lazio\, Italia;X-APPLE-RADIUS=100;X-TITLE=Tarquinia:geo:42.2546,11.758
 4
END:VEVENT
END:VCALENDAR