BEGIN:VCALENDAR
VERSION:2.0
PRODID:-//wp-events-plugin.com//7.2.3.1//EN
TZID:Europe/Rome
X-WR-TIMEZONE:Europe/Rome
BEGIN:VEVENT
UID:41118@lazioeventi.com
DTSTART;TZID=Europe/Rome:20260328T100000
DTEND;TZID=Europe/Rome:20260328T180000
DTSTAMP:20260314T092016Z
URL:https://lazioeventi.com/eventi/easter-market
SUMMARY:Easter Market - Sgurgola - 28 Marzo 26 10:00
DESCRIPTION:EASTER MARKET – 2ª EDIZIONE\n\nDopo il grande successo della
  prima edizione\, torna l’evento che celebra la primavera con una giorna
 ta ricca di colori\, creatività e divertimento per tutta la famiglia!\n\n
 - Mercatino di Primavera\n- Spettacoli e animazione\n- Area Food &amp\; St
 reet Food\n- Intrattenimento per grandi e piccoli\n\nUn’occasione perfet
 ta per passeggiare tra gli stand\, scoprire creazioni artigianali\, fare s
 hopping sostenibile e vivere il centro del paese in festa\n\nPer informazi
 oni o prenotazioni\, scrivici su whatsapp al 3494647355 oppure mandaci un'
 email a sgurgolaproloco@gmail.com\n\nDurante la giornata è previsto un ri
 cco programma di attività:\n\n 	Ore 10:00 apertura del mercatino\, area f
 ood e gonfiabile per bambini\n 	Ore 11:00 laboratorio creativo per bambini
  a cura di Loredana Nereggi\n 	Ore 12:00 musica live con busker (musica it
 aliana e internazionale)\n 	Ore 14:30 percorso storico tra i vicoli del bo
 rgo\, tra leggenda e realtà\n 	Ore 15:00 laboratorio creativo per bambini
  a cura di Alina Veronica Stiefel\n 	Ore 17:00 spettacolo di pantomima e a
 rte di strada “Mima e la valigia nel sogno”\n 	Ore 18:30 musica live c
 on busker\n\nL’Easter Market rappresenta un’occasione per vivere il bo
 rgo di Sgurgola in un’atmosfera primaverile tra cultura\, artigianato\, 
 musica e attività per tutte le età.\n\nSono ancora aperte ( data ultima 
 15 Marzo ) anche le candidature per espositori (artigianato\, second hand\
 , prodotti tipici e food).
ATTACH;FMTTYPE=image/jpeg:https://lazioeventi.com/wp-content/uploads/2026/
 02/easter-programma-50x70-web.jpg
CATEGORIES:Fiere e Mercatini nel Lazio,Musica, Spettacoli e Danza nel
 Lazio,Sagre, Gastronomia e Tradizioni nel Lazio,Sport, Tempo Libero e
 Divertimento nel Lazio,Varie
LOCATION:Sgurgola\, Comune\, Sgurgola\, Frosinone\, Lazio\, Italia
GEO:41.6707;13.1495
X-APPLE-STRUCTURED-LOCATION;VALUE=URI;X-ADDRESS=Comune\, Sgurgola\, Frosino
 ne\, Lazio\, Italia;X-APPLE-RADIUS=100;X-TITLE=Sgurgola:geo:41.6707,13.149
 5
END:VEVENT
BEGIN:VTIMEZONE
TZID:Europe/Rome
X-LIC-LOCATION:Europe/Rome
BEGIN:STANDARD
DTSTART:20251026T020000
TZOFFSETFROM:+0200
TZOFFSETTO:+0100
TZNAME:CET
END:STANDARD
END:VTIMEZONE
END:VCALENDAR