BEGIN:VCALENDAR
VERSION:2.0
PRODID:-//wp-events-plugin.com//7.2.3.1//EN
TZID:Europe/Rome
X-WR-TIMEZONE:Europe/Rome
BEGIN:VEVENT
UID:37561@lazioeventi.com
DTSTART;TZID=Europe/Rome:20240301T210000
DTEND;TZID=Europe/Rome:20240303T210000
DTSTAMP:20231027T101207Z
URL:https://lazioeventi.com/eventi/ecce-homo
SUMMARY:Ecce (h)omo - Roma - 1 Marzo 24 21:00
DESCRIPTION:Andrà in scena al Teatro Villa Lazzaroni di Roma la stand-up c
 omedy “Ecce (h)omo  – Una diversa storia di normalità”\, di e con S
 ergio Sormani e Giorgio Donders.\n\nSergio e Giorgio sono una coppia\, div
 ersa eppure così simile a tante coppie del mondo. I due protagonisti racc
 ontano se stessi in un dialogo serrato\, fatto di momenti di pungente umor
 ismo e altri di dolorosa riflessione.\n\nLe parti “drammatiche” hanno 
 il delicato compito di scuotere l’animo degli spettatori: trovarsi spiaz
 zati può favorire la possibilità di osservare con occhi diversi le convi
 nzioni che spesso rischiano di diventare convenzioni.\n\nE se l’inattesa
  crudezza di un messaggio può agevolare il raggiungimento di visioni nuov
 e\, all’interno di “Ecce (h)omo” è l’ironia ad essere lo strument
 o più utilizzato (e verosimilmente il più utile) al fine di veicolare co
 ntenuti significativi ed ottenere il coinvolgimento del pubblico.\n\nUn co
 spicuo numero di psicologi cognitivi afferma infatti che è quando ci si d
 iverte e si è di conseguenza felici che si apprende di più.\n\nL’ironi
 a produce il sorgere di atteggiamenti che si avvicinano alla solidarietà\
 , alla coesione\, al dialogo e all’inclusione\, ma anche alla resilienza
  e alla messa in discussione.\n\nL’ironia può aiutarci a scegliere\, a 
 riconoscere le illusioni\, a rimediare agli errori e vincere le incertezze
 \, ad aprirci al cambiamento e a comprendere le tante sfaccettature del mo
 ndo che ci circonda.\n\nPossiamo immaginarla infatti come una via di acces
 so privilegiata alla conoscenza dell’altro in quanto ci abitua alla mess
 a in discussione di noi stessi. Questo risulta più che mai importante in 
 un momento in cui prevalgono visioni seriose dell’identità\, alle quali
  possiamo rispondere coltivando uno spirito di apertura che possa coinvolg
 ere sia il pubblico più adulto che le nuove generazioni.\n\nIl pubblico s
 i riconosce nella quotidianità di un rapporto a due\, empatizza\, ride e 
 si interroga anche con l’aiuto di grandi poeti come Vinicius De Moraes e
  Khalil Gibran.\n\nUsando quindi il registro dell’ironia\, si parla di o
 mosessualità per parlare di uguaglianza\, per raccontare semplicemente\, 
 ma profondamente\, di esseri umani.\n\nLa stand-up comedy andrà in scena 
 venerdì 1 e sabato 2 marzo 2024 alle ore 21\, e domenica 3 marzo alle ore
  17.30.
ATTACH;FMTTYPE=image/jpeg:https://lazioeventi.com/wp-content/uploads/2023/
 10/ECCE-HOMO-loc.jpg
CATEGORIES:Musica, Spettacoli e Danza nel Lazio
LOCATION:Roma\, Via Leopardi\, Roma\, Roma\, Lazio\, Italia
GEO:41.8942;12.5017
X-APPLE-STRUCTURED-LOCATION;VALUE=URI;X-ADDRESS=Via Leopardi\, Roma\, Roma\
 , Lazio\, Italia;X-APPLE-RADIUS=100;X-TITLE=Roma:geo:41.8942,12.5017
END:VEVENT
BEGIN:VTIMEZONE
TZID:Europe/Rome
X-LIC-LOCATION:Europe/Rome
BEGIN:STANDARD
DTSTART:20231029T020000
TZOFFSETFROM:+0200
TZOFFSETTO:+0100
TZNAME:CET
END:STANDARD
END:VTIMEZONE
END:VCALENDAR