BEGIN:VCALENDAR
VERSION:2.0
PRODID:-//wp-events-plugin.com//7.2.3.1//EN
TZID:Europe/Rome
X-WR-TIMEZONE:Europe/Rome
BEGIN:VEVENT
UID:29496@lazioeventi.com
DTSTART:20251208T100000Z
DTEND:20251208T120000Z
DTSTAMP:20251124T210415Z
URL:https://lazioeventi.com/eventi/echi-nel-vento-viticuso
SUMMARY:Echi nel Vento - Viticuso - 8 Dicembre 25 11:00
DESCRIPTION:Rassegna internazionale “Echi nel Vento”\, dedicata agli st
 rumenti aerofoni a riserva d’aria.\n\nLa manifestazione\, organizzata da
 ll’Associazione di promozione sociale Calamus di Picinisco\, è sostenu
 ta dalla Regione Lazio\, dalla XIV Comunità Montana Valle di Comino\, dal
 la Banca Popolare del Cassinate e vede numerosi partner istituzionali tra 
 cui l’Università degli studi di Cassino e del Lazio\, l’Amministraz
 ione Provinciale di Frosinone\, Lazio Crea\, i Comuni di Villa Latina\, 
 Atina\, San Donato Valcomino\, Picinisco\, Gallinaro\, Casalvieri e V
 iticuso\, oltre la collaborazione del Parco Nazionale d’Abruzzo\, Lazio 
 e Molise\, dell’Università degli studi del Molise\, dell’Università 
 degli studi di Firenze\, dell’Università Statale di Milano\, della Came
 re di Commercio di Frosinone e Latina\, oltre che di numerose Associazion
 i del territorio quali Pastorizia in Festival di Picinisco\, Associazione 
 Zampognari di Villa Latina\, Proloco di San Donato VC e Picinisco\, Associ
 azione Le Nuvole Teatro.\n\nNumerose le tappe di questo viaggio culturale 
 alla scoperta ancora una volta di un mondo straordinario\, che toccherà v
 ari paesi della Valle di Comino e oltre. Appuntamenti che avranno come pro
 tagonisti studiosi\, musicisti\, appassionati\, presenze istituzionali\, g
 iornalisti\, tutti accomunati dalla consapevolezza dell’importanza della
  tradizione legata a questi antichissimi strumenti musicali\, che fanno pa
 rte e pieno titolo del nostro patrimonio storico. Il tutto attraverso inco
 ntri\, concerti\, degustazioni\, master class\, mostre e conferenze.\n\n
 𝟴 𝗗𝗶𝗰𝗲𝗺𝗯𝗿𝗲 𝗼𝗿𝗲 𝟭𝟭:𝟬𝟬 𝗩
 𝗶𝘁𝗶𝗰𝘂𝘀𝗼 (𝗙𝗿) 𝗣𝗶𝗮𝘇𝘇𝗮 𝗱𝗲
 𝗶 𝗖𝗮𝗱𝘂𝘁𝗶\nConcerto del gruppo 𝗧𝗲𝗿𝗿𝗮
 𝗻𝗼𝘀𝘁𝗿𝗮 suoni e canti della Valle di Comino\n\nMarco Cerv
 i • Organetto\nMilena Cervi • Voce\nAdriano Macioce • Tamburi a corn
 ice\nStefano Bocci • Basso\nDario Tommaso • Zampogna\n\n𝑎 𝑠𝑒
 𝑔𝑢𝑖𝑟𝑒 𝑑𝑒𝑔𝑢𝑠𝑡𝑎𝑧𝑖𝑜𝑛𝑒 𝑑
 𝑒𝑔𝑢𝑠𝑡𝑎𝑧𝑖𝑜𝑛𝑒 𝑑𝑖 𝑝𝑟𝑜𝑑𝑜
 𝑡𝑡𝑖 𝑡𝑖𝑝𝑖𝑐𝑖
ATTACH;FMTTYPE=image/jpeg:https://lazioeventi.com/wp-content/uploads/2021/
 12/echi-nel-vento.jpeg
CATEGORIES:Musica, Spettacoli e Danza nel Lazio
LOCATION:Viticuso\, Comune\, Viticuso\, Frosinone\, Lazio\, Italia
GEO:41.5252;13.9694
X-APPLE-STRUCTURED-LOCATION;VALUE=URI;X-ADDRESS=Comune\, Viticuso\, Frosino
 ne\, Lazio\, Italia;X-APPLE-RADIUS=100;X-TITLE=Viticuso:geo:41.5252,13.969
 4
END:VEVENT
END:VCALENDAR