BEGIN:VCALENDAR
VERSION:2.0
PRODID:-//wp-events-plugin.com//7.2.3.1//EN
TZID:Europe/Rome
X-WR-TIMEZONE:Europe/Rome
BEGIN:VEVENT
UID:39428@lazioeventi.com
DTSTART;TZID=Europe/Rome:20240623T163000
DTEND;TZID=Europe/Rome:20240623T234500
DTSTAMP:20240618T154919Z
URL:https://lazioeventi.com/eventi/eco-di-silvia-day
SUMMARY:Eco di Silvia Day - Colleferro - 23 Giugno 24 16:30
DESCRIPTION:Domenica 23 giugno si terrà la terza edizione di "Eco di Silvi
 a Day"\, una giornata all’insegna della beneficenza in ricordo della Dot
 t.ssa Silvia Guidi\, che ha dedicato gran parte del suo tempo in missioni 
 fuori continente al fine di supportare e assistere persone bisognose\, non
 ché fondatrice dell’Associazione Eco d’Africa Ayanalem Onlus.\n\nAppu
 ntamento presso Piazza Caduti di Nassiriya a partire dalle 16.30 con music
 a dal vivo\, poesie\, mini club\, dj set\, testimonianze della missione e 
 videocall con Don Habte direttamente dall'Etiopia.\n\nPer tutti i dettagli
  sul programma e per le prenotazioni\, rimandiamo alla locandina.\n\nCi sa
 ranno tante belle attività\, i nostri gadget\, stampe\, giochi per grandi
  e bambini\, cibo\, birra e tanto altro\nTanti amici che hanno deciso di a
 iutarci nella realizzazione di questa giornata. \nEd infine CENA DI BENEFI
 CENZA dove tutto il ricavato ci aiuterà a continuare i nostri progetti in
  Etiopia. \nPer prenotare il tuo posto chiama  351 420 6100 entro il 20 gi
 ugno! 
ATTACH;FMTTYPE=image/jpeg:https://lazioeventi.com/wp-content/uploads/2024/
 06/eco-silvia-colleferro.jpg
CATEGORIES:Musica, Spettacoli e Danza nel Lazio,Varie
LOCATION:Colleferro\, Comune\, Colleferro\, Roma\, Lazio\, Italia
GEO:41.7302;13.0058
X-APPLE-STRUCTURED-LOCATION;VALUE=URI;X-ADDRESS=Comune\, Colleferro\, Roma\
 , Lazio\, Italia;X-APPLE-RADIUS=100;X-TITLE=Colleferro:geo:41.7302,13.0058
END:VEVENT
BEGIN:VTIMEZONE
TZID:Europe/Rome
X-LIC-LOCATION:Europe/Rome
BEGIN:DAYLIGHT
DTSTART:20240331T030000
TZOFFSETFROM:+0100
TZOFFSETTO:+0200
TZNAME:CEST
END:DAYLIGHT
END:VTIMEZONE
END:VCALENDAR