BEGIN:VCALENDAR
VERSION:2.0
PRODID:-//wp-events-plugin.com//7.2.3.1//EN
TZID:Europe/Rome
X-WR-TIMEZONE:Europe/Rome
BEGIN:VEVENT
UID:29298@lazioeventi.com
DTSTART;TZID=Europe/Rome;VALUE=DATE:20211125
DTEND;TZID=Europe/Rome;VALUE=DATE:20211201
DTSTAMP:20211118T090500Z
URL:https://lazioeventi.com/eventi/eco-festival-delle-arti
SUMMARY:Eco Festival delle Arti - Viterbo - 25 Novembre 21 00:00
DESCRIPTION:Si terrà a Bagnaia (Viterbo) il primo Eco Festival delle Arti 
 con “Appendere ad Arte”\, iniziativa finanziata con i contributi della
  Regione Lazio\, organizzata da Apai - Associazione per la Promozione dell
 e Arti in Italia\, con il coinvolgimento delle risorse locali\, culturali\
 , turistiche\, sociali\, ambientali e dell’Associazione Amici di Bagnaia
 .\n\nIl tema portante “Il Viaggio”\, proposto dalla curatrice della Bi
 ennale di Viterbo Arte Contemporanea Laura Lucibello\, è stato sviluppato
  e viene proposto con un ricco programma di attività che si svolgeranno n
 el centro storico: Palazzo Gallo\, Villa Lante\, Il Borgo e nella natura c
 ircostante con passeggiate nei percorsi e boschi. Ricreare un “villaggio
  globale”\, espressione utilizzata per la prima volta da Mc Luhan per il
  mondo digitale per indicare soprattutto la possibilità\, veicolata dai m
 edia elettronici\, di trattare il mondo intero come fosse un piccolo villa
 ggio dove tutti sanno di tutti\, dove ognuno partecipa direttamente alle e
 sperienze altrui\, dove ciascuno viene inevitabilmente coinvolto da qualsi
 asi evento accada\, da Apai applicato nel reale e nel quotidiano del Borgo
  di Bagnaia\, che pur perpetrando storia\, tradizioni e cultura\, si proie
 tta nel contemporaneo.\n\nIl Mondo intero\, in questa nostra epoca\, è a 
 portata di un click spazio/tempo/immagini\, con l’avvento di internet\; 
 ma ciò non placa il desiderio di viaggiare e scoprire\, lasciandoci un en
 orme bagaglio di ricordi\, sensazioni\, visioni retroattive\, quella “ge
 ografia emozionale” che è l’essenza visiva ed emotiva del viaggio con
 servata nella nostra mente e resa visibile quando le circostanze ne stimol
 ano il ricordo:conclusione cui è giunta la filosofa italo-americana Giuli
 ana Bruno\, che insegna ad Harvard teoria della geografia emozionale: “
 …il segreto è visualizzare le sensazioni che provengono dal viaggio nel
 lo spazio.”\n\nAppendere ad Arte\, nel festeggiare il suo decennale\, pr
 esenta l’edizione 2021 del libro di poesie ed arte visiva “Viaggio met
 afora di Vita"\, presso il prestigioso Palazzo Gallo\, ospiti dell’Assoc
 iazione Amici di Bagnaia e del suo Presidente Aldo Quadrani. Con la gradit
 a partecipazione di Lorena Paris\, poetessa\; Roberta Cevoli\, relatrice U
 niversità La Sapienza Roma\; Demian Antonio Aprea\, attore/regista/musici
 sta ed il M. Claudio Capponi\, viola dell’orchestra dell’Opera di Roma
  e compositore\, che per l’occasione ha composto e realizzato un format 
 video per musica e immagini.\n\nContemporaneamente\, saranno esposte le op
 ere realizzate dagli artisti che hanno aderito al progetto\, tra cui si re
 gistra la presenza di ben tre artisti stranieri (Brasile\, Ucraina\, Turch
 ia)\, presso Il Borgo.\nDa non perdere assolutamente le visite guidate in 
 calendario: Villa Lante con la guida turistica autorizzata Marco Zanardi e
  Elisa Achilli\, guida ambientale con le passeggiate “Il folliage nel Bo
 sco delle Streghe” e “I ciclamini al Tempio di Demetra”.\n\nUltimi m
 a non ultimi “I corsi viaggianti” con le docenti Eva Tarantello e Paol
 a Ramondini che presenteranno le tecniche per realizzare la Zaffera (tipic
 a ceramica della Tuscia)\, gli stucchi ed i gessi in 3D\, come quelli\, pu
 rtroppo in grave degrado\, di Villa Lante.\n\nIn chiusura\, la Conferenza 
 spettacolo "Caravaggeschi a Viterbo" con il drammaturgo Gian Maria Cervo e
  aperitivo.\n\nL'Evento sarà anche occasione per presentare la Biennale d
 i Viterbo Arte Contemporanea 2022\, il cui tema verterà su “Arte ai con
 fini con la Bioetica”\, e per scambiare gli Auguri per le prossime Festi
 vità. In più\, se ancora dovete pensare a qualcosa di significativo da r
 egalare alle persone care e agli amici\, potrete partecipare alla presenta
 zione dei “Corsi viandanti” dove ogni partecipante potrà realizzare u
 n suo piccolo manufatto\, o acquistare il libro\, ad un prezzo simbolico c
 on donazione volontaria\, il cui ricavato verrà devoluto alla scuola di m
 usica\, arte e tradizioni cambogiane che raccoglie bambini orfani e disagi
 ati\, Khmer Cultural Development Institute www.kcdi-cambodia.com\, in pers
 ona della sua Presidente Catherine Louise Geach\, violinista e soprano.\n\
 nTutte le manifestazioni sono ad ingresso gratuito\, ma con prenotazione o
 bbligatoria\, a info@apaiarte.it -3335994451\, al fine di predisporre ed a
 ttuare tutte le misure per assicurare la sicurezza delle persone e delle c
 ose comunque interessate dalle attività svolte\, in particolare\, le misu
 re per la prevenzione e la gestione dell'emergenza epidemiologica da COVID
 -19 vigenti al momento della realizzazione delle attività .
ATTACH;FMTTYPE=image/jpeg:https://lazioeventi.com/wp-content/uploads/2021/
 11/locandina-web-copia.jpg
CATEGORIES:Arte e Cultura nel Lazio
LOCATION:Viterbo\, Comune\, Viterbo\, Viterbo\, Lazio\, Italia
GEO:42.417;12.1051
X-APPLE-STRUCTURED-LOCATION;VALUE=URI;X-ADDRESS=Comune\, Viterbo\, Viterbo\
 , Lazio\, Italia;X-APPLE-RADIUS=100;X-TITLE=Viterbo:geo:42.417,12.1051
END:VEVENT
BEGIN:VTIMEZONE
TZID:Europe/Rome
X-LIC-LOCATION:Europe/Rome
BEGIN:STANDARD
DTSTART:20211031T020000
TZOFFSETFROM:+0200
TZOFFSETTO:+0100
TZNAME:CET
END:STANDARD
END:VTIMEZONE
END:VCALENDAR