BEGIN:VCALENDAR
VERSION:2.0
PRODID:-//wp-events-plugin.com//7.2.3.1//EN
TZID:Europe/Rome
X-WR-TIMEZONE:Europe/Rome
BEGIN:VEVENT
UID:40660@lazioeventi.com
DTSTART;TZID=Europe/Rome:20250130T210000
DTEND;TZID=Europe/Rome:20250130T230000
DTSTAMP:20250128T165747Z
URL:https://lazioeventi.com/eventi/edoardo-fabbretti-presenta-in-anteprima
 -il-suo-primo-singolo-da-cantautore-in-attesa
SUMMARY:Edoardo Fabbretti presenta in anteprima il suo primo singolo da can
 tautore: “In Attesa” - Viterbo - 30 Gennaio 25 21:00
DESCRIPTION:Edoardo Fabbretti\, batterista e artista poliedrico\, debutta n
 ella scena cantautorale con il singolo “In Attesa”\, un brano che fond
 e sonorità elettroniche e interrogativi esistenziali. L’anteprima avver
 rà giovedì 30 gennaio alle 21:00 al Teatro San Leonardo\, nell’ambito 
 del ciclo “Musica e Parole”. Ad accompagnarlo sul palco ci saranno Gla
 uco Fantini al basso\, Marco Massino alla chitarra\, Valentino Servettini 
 alle tastiere e Matteo Dragoni alla batteria.\nIl brano\nDisponibile sulle
  piattaforme digitali dal 4 febbraio\, “In Attesa” riflette sull’int
 erazione tra uomo e tecnologia\, immaginando un futuro in cui l’individu
 o perde il controllo in favore delle macchine. Racconta di un uomo incapac
 e di distinguere bisogni naturali\, come andare in bagno\, e che attende i
 struzioni da un “navigatore satellitare”.\n\nIl pezzo\, caratterizzato
  da un pop elettronico con sfumature robotiche e momenti di violino leggia
 dro\, esprime il conflitto tra umanità e tecnologia. Fabbretti si interro
 ga: l’uomo riuscirà a riscattarsi o sarà sconfitto?\n\nL’autore racc
 onta: “Ho iniziato a canticchiare il ritornello mentre in macchina il na
 vigatore mi suggeriva una strada che già conoscevo. Mi sono chiesto: ‘A
  cosa mi serve questa voce assillante?’ Da lì è nata l’idea di un mo
 ndo in cui l’uomo delega tutto alla tecnologia. Non so se ‘In Attesa
 ’ mi rappresenta come cantautore\, ma il mio obiettivo è far riflettere
 \, creare atmosfere e immergere gli ascoltatori in storie surreali che par
 lano di noi\, con un pizzico di ironia.”\nLa musica come evoluzione\nDop
 o una lunga carriera come batterista\, Fabbretti si lancia nella cantautor
 ato. Eclettico e versatile\, ha collaborato con band come gli Hotel Supram
 onte (tributo a Fabrizio De André) e i progetti Lenny Arancio &amp\; Bord
 erLime e Le Pulci.\n\nInsegnante di batteria e arrangiatore\, suona pianof
 orte\, tastiere e batteria nei suoi brani\, curati nei dettagli grazie all
 a collaborazione con il produttore Alfio Scoparo. Ogni pezzo diventa così
  un universo sonoro che unisce emozione\, riflessione e attenzione stilist
 ica.
ATTACH;FMTTYPE=image/jpeg:https://lazioeventi.com/wp-content/uploads/2025/
 01/Screenshot-2025-01-27-alle-13.11.46.jpg
CATEGORIES:Musica, Spettacoli e Danza nel Lazio
LOCATION:Viterbo\, Comune\, Viterbo\, Viterbo\, Lazio\, Italia
GEO:42.417;12.1051
X-APPLE-STRUCTURED-LOCATION;VALUE=URI;X-ADDRESS=Comune\, Viterbo\, Viterbo\
 , Lazio\, Italia;X-APPLE-RADIUS=100;X-TITLE=Viterbo:geo:42.417,12.1051
END:VEVENT
BEGIN:VTIMEZONE
TZID:Europe/Rome
X-LIC-LOCATION:Europe/Rome
BEGIN:STANDARD
DTSTART:20241027T020000
TZOFFSETFROM:+0200
TZOFFSETTO:+0100
TZNAME:CET
END:STANDARD
END:VTIMEZONE
END:VCALENDAR