BEGIN:VCALENDAR
VERSION:2.0
PRODID:-//wp-events-plugin.com//7.2.3.1//EN
TZID:Europe/Rome
X-WR-TIMEZONE:Europe/Rome
BEGIN:VEVENT
UID:44270@lazioeventi.com
DTSTART;TZID=Europe/Rome:20260424T210000
DTEND;TZID=Europe/Rome:20260424T220000
DTSTAMP:20260420T173427Z
URL:https://lazioeventi.com/eventi/emanuela-cappello-show
SUMMARY:Emanuela Cappello - Show - Viterbo - 24 Aprile 26 21:00
DESCRIPTION:Venerdì 24 aprile 2026 alle ore 21:00\, Emanuela Cappello port
 a in scena uno spettacolo che sfugge alle etichette tradizionali della com
 icità. Non una semplice stand up\, ma un monologo crepuscolare comico\, f
 atto di estremizzazioni\, confessioni e pillole tragicomiche.\n\nGli sketc
 h dello spettacolo – così come quelli che l’artista realizza sui soci
 al – nascono da paranoie\, esperienze vissute\, dubbi\, difficoltà e mo
 menti di rabbia legati alle relazioni sentimentali e alla vita quotidiana.
  Un processo creativo che trasforma il disagio in racconto e diventa uno s
 trumento per non sentirsi soli.\n\nIl teatro\, linguaggio diverso e più s
 tratificato rispetto ai social\, porta con sé una responsabilità: quella
  di restituire autenticità. Cappello condivide in scena i propri disagi e
 sistenziali\, li estremizza e li rende universali\, dando vita a uno spett
 acolo in cui il pubblico può riconoscersi\, almeno in parte.\n\nTra ironi
 a e vulnerabilità\, l’artista dà voce a pensieri spesso taciuti. I suo
 i personaggi\, volutamente imperfetti e perdenti\, sono quelli con cui è 
 più facile entrare in relazione: figure che aiutano a leggere la realtà 
 e a sentirsi meno soli.\n\nLo spettacolo si definisce come un “falliment
 o ricreativo”: un percorso che attraversa un’infanzia segnata da immag
 ini surreali - dalla prima comunione a Lourdes agli amici immaginari - fin
 o a un presente fatto di scelte sbagliate reiterate con lucidità.\n\nDai 
 reel virali su Instagram e TikTok al palco\, Emanuela Cappello porta gag\,
  monologhi surreali e racconti che attraversano amori fuggenti\, corse sul
 la metro C e cacio e pepe\, consolidando un rapporto diretto e immediato c
 on il pubblico. Dopo i sold out di Roma\, Milano\, Bari e Firenze\, la sua
  comicità continua a registrare un forte riscontro.\n\nBiglietti\nUndergr
 ound - 0761 342 987\nBistrot del teatro - 392 301 8173\nOnline: https://t
 icket.archeoares.it/spettacolo?id=6737&amp\;layout=extern&amp\;idSala=1131
 &amp\;sourceid=1634
ATTACH;FMTTYPE=image/jpeg:https://lazioeventi.com/wp-content/uploads/2026/
 04/Emanuela-Cappello.jpeg
CATEGORIES:Musica, Spettacoli e Danza nel Lazio
LOCATION:Viterbo\, Comune\, Viterbo\, Viterbo\, Lazio\, Italia
GEO:42.417;12.1051
X-APPLE-STRUCTURED-LOCATION;VALUE=URI;X-ADDRESS=Comune\, Viterbo\, Viterbo\
 , Lazio\, Italia;X-APPLE-RADIUS=100;X-TITLE=Viterbo:geo:42.417,12.1051
END:VEVENT
BEGIN:VTIMEZONE
TZID:Europe/Rome
X-LIC-LOCATION:Europe/Rome
BEGIN:DAYLIGHT
DTSTART:20260329T030000
TZOFFSETFROM:+0100
TZOFFSETTO:+0200
TZNAME:CEST
END:DAYLIGHT
END:VTIMEZONE
END:VCALENDAR