BEGIN:VCALENDAR
VERSION:2.0
PRODID:-//wp-events-plugin.com//7.2.3.1//EN
TZID:Europe/Rome
X-WR-TIMEZONE:Europe/Rome
BEGIN:VEVENT
UID:38771@lazioeventi.com
DTSTART;TZID=Europe/Rome:20240324T100000
DTEND;TZID=Europe/Rome:20240324T130000
DTSTAMP:20240319T195441Z
URL:https://lazioeventi.com/eventi/emotion-esperienza-guidata-tra-arte-ed-
 emozioni
SUMMARY:Emotion: esperienza guidata tra arte ed emozioni - Roma - 24 Marzo 
 24 10:00
DESCRIPTION:Insieme visiteremo la Mostra di arte contemporanea Emotion\, os
 pitata presso il Chiostro del Bramante a Roma.\n\nCon oltre venti opere di
  altrettanti artisti\, molte delle quali interattive\, questa mostra offre
  un vero e proprio viaggio alla scoperta delle emozioni. Da sorpresa a fel
 icità\, da attesa a imbarazzo\, ogni opera esposta è un invito a esplora
 re le sfumature del nostro mondo emotivo.\n\nDurante l'esperienza\, che co
 me sempre si svolgerà in un gruppo\, avremo l'opportunità non solo di am
 mirare le opere\, ma anche di metterci in ascolto delle nostre emozioni e 
 di condividerle con gli altri partecipanti.\n\nGli esercizi interattivi e 
 riflessivi che verranno proposti nel corso del nostro viaggio avranno lo s
 copo di immergerci nelle proposte dei diversi artisti per metterci in asco
 lto delle nostre emozioni.\n\nPerchè è importante farlo? Nonostante le e
 mozioni siano un'esperienza che appartiene all'essere umano sin dai suoi p
 rimi momenti di vita\, finiscono molto spesso per essere delle sconosciute
  o\, peggio ancora\, delle nemiche. Ne ignoriamo la natura\, l'essenza\, l
 e sfumatore e la funzione. Non sappiamo come riconoscerle\, accoglierle\, 
 ascoltarle e gestirle.\n\nLo scopo di questa esperienza è proprio quello 
 di riscoprire il mondo delle emozioni\, mettendo da parte libri e spiegazi
 oni\, facendone esperienza diretta in una modalità immersiva e interattiv
 a.
ATTACH;FMTTYPE=image/jpeg:https://lazioeventi.com/wp-content/uploads/2024/
 03/Santa_maria_della_pace_chiostro_del_bramante_04.jpg
CATEGORIES:Arte e Cultura nel Lazio,Varie
LOCATION:Roma\, Via Leopardi\, Roma\, Roma\, Lazio\, Italia
GEO:41.8942;12.5017
X-APPLE-STRUCTURED-LOCATION;VALUE=URI;X-ADDRESS=Via Leopardi\, Roma\, Roma\
 , Lazio\, Italia;X-APPLE-RADIUS=100;X-TITLE=Roma:geo:41.8942,12.5017
END:VEVENT
BEGIN:VTIMEZONE
TZID:Europe/Rome
X-LIC-LOCATION:Europe/Rome
BEGIN:STANDARD
DTSTART:20231029T020000
TZOFFSETFROM:+0200
TZOFFSETTO:+0100
TZNAME:CET
END:STANDARD
END:VTIMEZONE
END:VCALENDAR