BEGIN:VCALENDAR
VERSION:2.0
PRODID:-//wp-events-plugin.com//7.2.3.1//EN
TZID:Europe/Rome
X-WR-TIMEZONE:Europe/Rome
BEGIN:VEVENT
UID:34508@lazioeventi.com
DTSTART;TZID=Europe/Rome:20230317T100000
DTEND;TZID=Europe/Rome:20230323T190000
DTSTAMP:20230310T180022Z
URL:https://lazioeventi.com/eventi/emperors-mostra-collettiva-a-cura-di-ca
 pital-culture-house
SUMMARY:"EMPERORS" mostra collettiva a cura di Capital Culture House - Roma
  - 17 Marzo 23 10:00
DESCRIPTION:\n\n\n\nOpening venerdì 17 marzo Medina Art Gallery\, Roma\n\
 nDall'17 al 23 marzo 2023 Medina Art Gallery presenta ''Emperors"\, la mos
 tra collettiva a cura di Capital Culture House.\n\nOpening venerdì 17 ma
 rzo h 18.00 nella galleria di Via Angelo Poliziano 32-34\n\nOrganizzata e 
 curata da Capital Culture House\, la mostra espone le opere di 27 artisti:
 \n\nJennie Söderlund\, Jasper Borup\, Rigatoni Garrido\, Dominique Selen
 \, Kevin Devonport\, Ernesto Tomas Vaquero\, Kaylyn Murphy\, John Bacon\, 
 Aurelie Goarzin\, Gary Casey\, Juergen Hoegener\, Soul Sparkles\, Katrine 
 Winder Vincentsen\, Bogdan Dyulgerov\, Tutta Riikonen\, Nena Sesic -Fiser\
 , Fadia Attieh\, Marie-Ghislaine Beauce\, Angela Thouless\, Alexandra Kord
 as\, Vivek Pereira\, AnkO\, Marcelo Pedrozo\, Mark Weiss\, G Imaginations\
 , Corazón Salvaje\, Elsa Victorios.\n\nLa Mostra in breve:\n\nTitolo: 
 “Emperors” mostra collettiva\nCuratrice: Capital Culture House\nOpenin
 g: venerdì 17 marzo 2023 h 18.00\nDurata: Dal 17 al 23 marzo 2023\nLuogo
 : Medina Art Gallery | Via Angelo Poliziano\, 32-34 Roma\n\nContatti Medin
 a Roma Art Gallery:\nEmail: info@medinaroma.com - Tel. +39 06 960 30 764 -
  Website: https://www.medinaroma.com/ Social: facebook.com/medinaroma.arte
  - instagram.com/medinaroma.arte\nOrario apertura: Dal Lunedì al Venerdi
 ̀ 10:00-13:00 e 15:00-19:00\n\nIngresso libero\n\n\n\n
ATTACH;FMTTYPE=image/jpeg:https://lazioeventi.com/wp-content/uploads/2023/
 03/locandina-1.jpg
LOCATION:Roma\, Via Leopardi\, Roma\, Roma\, Lazio\, Italia
GEO:41.8942;12.5017
X-APPLE-STRUCTURED-LOCATION;VALUE=URI;X-ADDRESS=Via Leopardi\, Roma\, Roma\
 , Lazio\, Italia;X-APPLE-RADIUS=100;X-TITLE=Roma:geo:41.8942,12.5017
END:VEVENT
BEGIN:VTIMEZONE
TZID:Europe/Rome
X-LIC-LOCATION:Europe/Rome
BEGIN:STANDARD
DTSTART:20221030T020000
TZOFFSETFROM:+0200
TZOFFSETTO:+0100
TZNAME:CET
END:STANDARD
END:VTIMEZONE
END:VCALENDAR