BEGIN:VCALENDAR
VERSION:2.0
PRODID:-//wp-events-plugin.com//7.2.3.1//EN
TZID:Europe/Rome
X-WR-TIMEZONE:Europe/Rome
BEGIN:VEVENT
UID:33158@lazioeventi.com
DTSTART;TZID=Europe/Rome:20221125T180000
DTEND;TZID=Europe/Rome:20221125T200000
DTSTAMP:20221119T080804Z
URL:https://lazioeventi.com/eventi/energia-e-transizione-ecologica
SUMMARY:Energia e transizione ecologica -  - 25 Novembre 22 18:00
DESCRIPTION:La sezione Castelli Romani di Italia Nostra ti invita calorosam
 ente a partecipare e diffondere\, la seguente videoconferenza sul tema: "E
 NERGIA E TRANSIZIONE ECOLOGICA".\n\nIl problema energia riveste da tempo u
 na importanza cruciale non solo dal punto di vista economico per l'aumento
  vertiginoso dei costi e geopolitico ( guerre per il controllo delle fonti
  energetiche) ma\, in prospettiva\, anche per il futuro stesso dell'ecosis
 tema terrestre. Ma la politica finora seguita è andata realmente nella di
 rezione di una vera e propria transizione ecologica e di una economia circ
 olare? Oppure prevale ancora il "greenwashing"?  Mentre nei summit mondial
 i si continua a ripetere che occorre decarbonizzare l'economia sono propri
 o le lobby degli idrocarburi (petrolio\, gas ecc. ) che realizzano i profi
 tti più elevati\, già ancor prima del conflitto in Ucraina. Quali risult
 ati ha portato finora nel nostro paese l'introduzione dell'ecobonus?  Come
  conciliare la necessaria diffusione delle energie rinnovabili con l'esige
 nza di preservare il paesaggio del nostro paese\, tanto ricco di caratteri
 stiche peculiari? Quali prospettive offre l'impiego dell'idrogeno?\n\nIl p
 rof. Vincenzo Balzani professore emerito di chimica all'Università Alma M
 ater Studiorum di Bologna\, è autore di una infinità di articoli e saggi
  scientifici\, pluripremiato e celebre per le sue ricerche sia in Italia c
 he a livello internazionale\, nel 2009 ha fondato presso l’Università d
 i Bologna il corso interdisciplinare su Scienza e Società e\, nel 2014\, 
 il gruppo Energia per l'Italia affinchè il problema energetico non venga 
 affrontato solo in una stretta visione economica\, ma in un'ampia prospett
 iva che comprenda gli aspetti scientifici\, sociali\, ambientali e cultura
 li. Giovanni Damiani\,  è stato direttore generale dell’ANPA (Agenzia N
 az. Protezione Ambiente\, oggi ISPRA)\, autore di saggi e numerose pubblic
 azioni scientifiche\, già docente incaricato all’Università  di ecolog
 ia applicata\, certificazione e monitoraggio ambientale\, chimica ambienta
 le ecc. attivo nella militanza scientifica-ambientalista\, è stato vicepr
 esidente di Italia Nostra ed è presidente GUFI-Gruppo Unitario per le For
 este Italiane. Franco Medici professore di Scienza e tecnologia dei materi
 ali presso l'Università di Roma "La Sapienza"\, Michele Munafò ricercato
 re ISPRA e Domenico Prisinzano  Dipartimento Unità Efficienza Energetica 
 dell'ENEA.\n\nVideoconferenza sul tema: "ENERGIA E TRANSIZIONE ECOLOGICA"\
 nQuali problemi\, contraddizioni e prospettive.\n\nIntervengono:\nVINCENZO
  BALZANI\, professore emerito all'Università di Bologna.\nGIOVANNI DAMIAN
 I\, biologo\, presidente GUFI ( Gruppo unitario Foreste italiane)\nFRANCO 
 MEDICI\, professore all'Università "La Sapienza" di Roma.\nMICHELE MUNAFO
 '\, ricercatore ISPRA.\nDOMENICO PRISINZANO\, ricercatore ENEA.\n\nA cura 
 di Enrico Del Vescovo\, presidente di Italia Nostra Castelli Romani e cons
 igliere nazionale.\n\nBasta collegarsi cliccando sul LINK:\nhttps://clever
 age-it.zoom.us/j/89034177261?pwd=RElaYitESWhwWnZSeW8vbjlEN3FRZz09\nID webi
 nar   890 3417 7261  Passcode webinar  484848
ATTACH;FMTTYPE=image/jpeg:https://lazioeventi.com/wp-content/uploads/2021/
 12/ambiente-e-salute.jpg
CATEGORIES:Arte e Cultura nel Lazio
LOCATION:https://cleverage-it.zoom.us/j/89034177261?pwd=RElaYitESWhwWnZSeW8
 vbjlEN3FRZz09
END:VEVENT
BEGIN:VTIMEZONE
TZID:Europe/Rome
X-LIC-LOCATION:Europe/Rome
BEGIN:STANDARD
DTSTART:20221030T020000
TZOFFSETFROM:+0200
TZOFFSETTO:+0100
TZNAME:CET
END:STANDARD
END:VTIMEZONE
END:VCALENDAR