BEGIN:VCALENDAR
VERSION:2.0
PRODID:-//wp-events-plugin.com//7.2.3.1//EN
TZID:Europe/Rome
X-WR-TIMEZONE:Europe/Rome
BEGIN:VEVENT
UID:35144@lazioeventi.com
DTSTART;TZID=Europe/Rome:20230427T180000
DTEND;TZID=Europe/Rome:20230427T200000
DTSTAMP:20230424T163913Z
URL:https://lazioeventi.com/eventi/ensemble-licinio-refice
SUMMARY:Ensemble Licinio Refice - Frosinone - 27 Aprile 23 18:00
DESCRIPTION:Giovedì 27 aprile 2023\, nella splendida cornice dell’Audito
 rium Daniele Paris del Conservatorio Licinio Refice di Frosinone - ore 18:
 00 e a ingresso libero\, risuoneranno le note di immortali compositori com
 e Saint-Saëns e Astor Piazzolla.\n\nAd esibirsi sarà l’Ensemble Licini
 o Refice - A. Mingrone e V. Scognamiglio (violini)\, C. Ramous (viola)\, E
 . Tretola (violoncello)\, M. D’Antoni (contrabbasso - allievo)\, A. Bisc
 eglia (flauto - allieva)\, E. Veglianti (clarinetto)\, E. De Fusco e F. Gi
 zzi (percussioni - allievi)\, R. Centazzo (fisarmonica)\, F. Buccarella e 
 M. Scognamiglio (pianoforti).\n\nSignificativa la scelta del programma: la
  prima esecuzione sarà la fantasia zoologica “Il carnevale degli animal
 i”\, uno dei più straordinari esempi di musica descrittiva\, composta d
 a Camille Saint-Saëns in occasione d’un mardì gras da celebrare con gl
 i amici e musicisti\, e scritta per due pianoforti e una piccola orchestra
 . Composto da quattordici brani\, ognuno dei quali si riferisce a un anima
 le\, dal leone alla gallina\, dall’elefante alla tartaruga\, dal canguro
  ai pesci\, dal cucù alla scimmietta\, dagli asini (personaggi dalle lung
 he orecchie) al cigno e persino dai pianisti\, caricatura di personaggi qu
 ali musicisti e critici musicali\, legati alle attività di concertista e 
 compositore di Saint-Saëns\; per questo motivo egli non ritenne opportuno
  pubblicare una partitura così caustica che avrebbe potuto nuocere alla s
 ua carriera artistica (nell’opera i critici musicali vengono trasformati
  in asini o in fossili) e di conseguenza ne proibisce la pubblicazione pri
 ma della sua morte.\n\nLa voce recitante sarà quella dell’attore P. G. 
 Cantarano\, che descriverà di volta in volta i vari animali\, con brani t
 ratti dal libro “Il carnevale degli animali” di Chiara Carminati\, Rob
 erta Angaramo e Stefania Di Mella (responsabile libri per ragazzi della Ri
 zzoli).\n\nNella seconda parte del concerto\, si vuole celebrare Astor Pia
 zzolla a trent’anni dalla morte\, avvenuta il 4 luglio 1992\, con i suoi
  brani Adiòs nonino (arrangiamento. R. Centazzo)\, Oblivion\, Ave Maria\,
  Primavera Porteña (arrangiamento R. Di Girolamo)\, Libertango (arrangiam
 ento. R. Centazzo).\nIl nuevo tango\, come è definita la musica di Astor 
 Piazzolla è un raffinato gioco di contrasti: un incrocio di sentimenti ch
 e vanno dalla dolcezza al dolore\, dalla passione alla nostalgia più stru
 ggente. Affascinato dalle composizioni di Gershwin\, Piazzolla riuscì a c
 oniugare la tradizione colta europea con i ritmi e i balli popolari.\n\nNe
 lla locandina del concerto un'opera della pittrice Maria Vittoria Cano Ram
 ous.
ATTACH;FMTTYPE=image/jpeg:https://lazioeventi.com/wp-content/uploads/2023/
 04/refice.jpg
CATEGORIES:Musica, Spettacoli e Danza nel Lazio
LOCATION:Frosinone\, Comune\, Frosinone\, Frosinone\, Lazio\, Italia
GEO:41.6396;13.3508
X-APPLE-STRUCTURED-LOCATION;VALUE=URI;X-ADDRESS=Comune\, Frosinone\, Frosin
 one\, Lazio\, Italia;X-APPLE-RADIUS=100;X-TITLE=Frosinone:geo:41.6396,13.3
 508
END:VEVENT
BEGIN:VTIMEZONE
TZID:Europe/Rome
X-LIC-LOCATION:Europe/Rome
BEGIN:DAYLIGHT
DTSTART:20230326T030000
TZOFFSETFROM:+0100
TZOFFSETTO:+0200
TZNAME:CEST
END:DAYLIGHT
END:VTIMEZONE
END:VCALENDAR