BEGIN:VCALENDAR
VERSION:2.0
PRODID:-//wp-events-plugin.com//7.2.3.1//EN
TZID:Europe/Rome
X-WR-TIMEZONE:Europe/Rome
BEGIN:VEVENT
UID:30085@lazioeventi.com
DTSTART;TZID=Europe/Rome:20220326T093000
DTEND;TZID=Europe/Rome:20220327T183000
DTSTAMP:20220314T144700Z
URL:https://lazioeventi.com/eventi/entropia-antico-e-contemporaneo-in-dial
 ogo-2
SUMMARY:“Entropia”: Antico e contemporaneo in dialogo - Marino - 26 Mar
 zo 22 09:30
DESCRIPTION:Con Entropia il Museo Civico Umberto Mastroianni espone al pubb
 lico alcune installazioni di nove artisti che si sono distinti in una rece
 nte mostra-concorso.\n\nQueste opere\, traendo spunto dal dialogo tra anti
 co e contemporaneo\, riflettono le visioni percettive degli artisti facend
 o emergere le contraddizioni a cui siamo esposti quotidianamente cercando\
 , al contempo\, un’unione con il luogo espositivo.\n\nL’impatto emotiv
 o che offrono queste opere è senz’altro un’occasione di crescita cult
 urale e di consapevolezza.\n\nL’inaugurazione avrà luogo sabato 12 marz
 o alle ore 18:00 a cui sarà presente anche la curatrice Laura Giovanna Be
 vione che illustrerà nel dettaglio ogni singolo lavoro.\n\n“L’arte co
 ntemporanea rappresenta un mondo che oggi si conosce ancora troppo poco so
 prattutto nelle realtà locali. Dobbiamo aprire le porte alle ispirazioni 
 per nuove chiavi di lettura e lasciarci trasportare per cogliere gli spunt
 i di riflessione che dall’arte e dalla cultura scaturiscono”.\n\nQuest
 e le parole dell’Assessore alla Cultura Pamela Muccini.
ATTACH;FMTTYPE=image/jpeg:https://lazioeventi.com/wp-content/uploads/2022/
 03/entropia.jpg
CATEGORIES:Arte e Cultura nel Lazio
LOCATION:Marino\, Comune\, Marino\, Roma\, Lazio\, Italia
GEO:41.7698;12.6586
X-APPLE-STRUCTURED-LOCATION;VALUE=URI;X-ADDRESS=Comune\, Marino\, Roma\, La
 zio\, Italia;X-APPLE-RADIUS=100;X-TITLE=Marino:geo:41.7698,12.6586
END:VEVENT
BEGIN:VTIMEZONE
TZID:Europe/Rome
X-LIC-LOCATION:Europe/Rome
BEGIN:STANDARD
DTSTART:20211031T020000
TZOFFSETFROM:+0200
TZOFFSETTO:+0100
TZNAME:CET
END:STANDARD
BEGIN:DAYLIGHT
DTSTART:20220327T030000
TZOFFSETFROM:+0100
TZOFFSETTO:+0200
TZNAME:CEST
END:DAYLIGHT
END:VTIMEZONE
END:VCALENDAR