BEGIN:VCALENDAR
VERSION:2.0
PRODID:-//wp-events-plugin.com//7.2.3.1//EN
TZID:Europe/Rome
X-WR-TIMEZONE:Europe/Rome
BEGIN:VEVENT
UID:39897@lazioeventi.com
DTSTART;TZID=Europe/Rome:20240930T190000
DTEND;TZID=Europe/Rome:20240930T210000
DTSTAMP:20240919T144140Z
URL:https://lazioeventi.com/eventi/er-pugno-se-fa-co-la-destra-o-co-la-sin
 istra
SUMMARY:Er pugno se fa co la destra o co la sinistra? - Roma - 30 Settembre
  24 19:00
DESCRIPTION:Al Teatro del Lido di Ostia all’interno della III° edizione 
 de LE CITTA' POSSIBILI 2024 spazio alle Intel-Letture con FEDERICO PALMARO
 LI\nL’ideatore del fenomeno social “Le più belle frasi di Osho” inc
 ontra il pubblico e presenta l’ultimo libro “Er pugno se fa co la dest
 ra o co la sinistra?"\n\n30 settembre 2024\, h. 19.00 - Teatro del Lido di
  Ostia\, Via delle Sirene\, 22 - 00121 Lido di Ostia (RM)\n\nIngresso grat
 uito con prenotazione\n\nL’associazione Valdrada Teatro torna con la III
 ° edizione de “Le città possibili”\, rassegna multidisciplinare che 
 raccoglie eventi artistici\, spettacoli dal vivo\, musica e talk\, al Teat
 ro del Lido e nelle strade di Ostia\, Acilia\, Dragona e Dragoncello\, per
  riportare l’arte nell’hinterland della capitale. 3 debutti in prima n
 azionale\,  3 incontri letterari e 3 percorsi formativi per concludere l
 ’estate e iniziare una nuova stagione performativa portando l’arte nel
 la periferia della Capitale.\n\nDopo Christian Raimo e Vera Gheno\, l’ul
 tima delle Intel-Letture in programma vede protagonista Federico Palmaroli
 . Autore del fenomeno social diventato virale “Le più belle frasi di Os
 ho”\, Palmaroli chiuderà la manifestazione il 30 settembre parlando del
 l’ultimo libro “Er pugno se fa co la destra o co la sinistra?”:  com
 e una sorta di moderno Pasquino\, l’autore ha dato vita a un fenomeno me
 diatico che attraverso immagini di cronaca decontestualizzate e affiancate
  a fulminanti battute in romanesco\, ci mostra un Paese alle prese con le 
 sue mille contraddizioni.\n\nIl suo lavoro si distingue per l'uso di un um
 orismo irriverente e spesso legato all'attualità politica e sociale\, riu
 scendo a catturare l’attenzione di un vasto pubblico. La sua satira offr
 e uno sguardo ironico sulla società italiana e sulla politica\, rendendol
 o una figura di rilievo nel panorama della comicità contemporanea in Ital
 ia.\n\nIl progetto\, alla sua III° edizione\, è ideato da Valdrada\, Ass
 ociazione Culturale attiva dal 2010 e interamente gestita da donne\, è re
 alizzato con il sostegno del Ministero della Cultura - Direzione Generale 
 Spettacolo ed è vincitore dell'Avviso Pubblico “Lo spettacolo dal vivo 
 fuori dal Centro - Anno 2024” (che mira a valorizzare il patrimonio cult
 urale immateriale nelle periferie urbane con spettacoli dal vivo innovativ
 i\, finalizzati all’inclusione sociale e al riequilibrio dei territori e
  delle differenze sociali e culturali) promosso da Roma Capitale - Diparti
 mento Attività Culturali in collaborazione con SIAE. Si ringrazia il Muni
 cipio X – Presidenza | Assessorato alla scuola | Assessorato alle politi
 che sociali\, l’Associazione TDL\, Zetema – Progetto Cultura\, la Asl 
 Roma3\, l’Accademia Santa Rita\, Essenza Teatro e Teatro Domma\n\nFederi
 co Palmaroli nasce a Roma nel 1973. Di formazione umanistica\, matura fin 
 dall’adolescenza un vivo interesse per la tradizione popolare romana. In
 sofferente\, goliardico\, non allineato e grande appassionato di Futurismo
 . Un “buffone distinto”\, per dirla alla Petrolini. Collabora con test
 ate giornalistiche\, programmi radiofonici e tv\, tra questi ultimi a “P
 orta a Porta” su Rai1 riassume i fatti del giorno con le sue vignette sa
 tiriche. È il creatore e unico autore delle pagine social “#lepiubellef
 rasidiosho “. Ha pubblicato “Se\, ciao core” (Magic Press)\, “Vedi
  de fa poco ‘o spiritoso” (Rizzoli)\, “Carcola che ve sfonno” (Riz
 zoli) e “Come dice coso” (Rizzoli)\, tutti divenuti in breve tempo cas
 i editoriali.\n\nGli eventi sono gratuiti con prenotazione a valdradateatr
 o@gmail.com\nTutte le info sulla programmazione e su come raggiungerci: ht
 tps://www.valdradateatro.it/citta-possibili-2024/\nFb: Valdrada Compagnia 
 Teatrale | Ig: valdradateatro\n 
ATTACH;FMTTYPE=image/jpeg:https://lazioeventi.com/wp-content/uploads/2024/
 09/ia-Le-Citta-possibili-2024.jpg
CATEGORIES:Arte e Cultura nel Lazio,Musica, Spettacoli e Danza nel Lazio
LOCATION:Roma\, Via Leopardi\, Roma\, Roma\, Lazio\, Italia
GEO:41.8942;12.5017
X-APPLE-STRUCTURED-LOCATION;VALUE=URI;X-ADDRESS=Via Leopardi\, Roma\, Roma\
 , Lazio\, Italia;X-APPLE-RADIUS=100;X-TITLE=Roma:geo:41.8942,12.5017
END:VEVENT
BEGIN:VTIMEZONE
TZID:Europe/Rome
X-LIC-LOCATION:Europe/Rome
BEGIN:DAYLIGHT
DTSTART:20240331T030000
TZOFFSETFROM:+0100
TZOFFSETTO:+0200
TZNAME:CEST
END:DAYLIGHT
END:VTIMEZONE
END:VCALENDAR