BEGIN:VCALENDAR
VERSION:2.0
PRODID:-//wp-events-plugin.com//7.2.3.1//EN
TZID:Europe/Rome
X-WR-TIMEZONE:Europe/Rome
BEGIN:VEVENT
UID:43075@lazioeventi.com
DTSTART;TZID=Europe/Rome;VALUE=DATE:20251211
DTEND;TZID=Europe/Rome;VALUE=DATE:20251216
DTSTAMP:20251112T091934Z
URL:https://lazioeventi.com/eventi/errichetta-festival
SUMMARY:Errichetta Festival - Roma - 11 Dicembre 25 00:00
DESCRIPTION:Errichetta Festival torna a Roma con una 14-esima edizione che 
 intreccia tradizione e ricerca\, ospitando concerti di artisti internazion
 ali e nuove produzioni originali.\n\nIl programma si amplia con proiezioni
  cinematografiche dedicate alle musiche del mondo\, performance ospitate n
 elle chiese della città e seminari di approfondimento aperti a musicisti 
 e appassionati.\n\nUn percorso diffuso che valorizza luoghi\, repertori e 
 pratiche d’ascolto\, trasformando Roma in un laboratorio vivo di incontr
 i sonori.\n\nErrichetta Festival presenta tre serate d'eccezione.\nL'annua
 le appuntamento Romano con la musica tradizionale\, porta quest'anno sul p
 alco del Teatro Garbatella artisti internazionali le sere del 11\, 12 e 13
  Dicembre 2025.\n\nQuesta edizione\, la quattoridcesima\, stringe l'occhio
 lino alla regione Catalana con artisti del calibro di Rita Payés\, Efrén
  López\, Julia Colom e Rusó Sala. Si conferma poi il nostro (vostro) amo
 re per la Grecia e le sue danze con Tropes di Fausto Sierakowski\, nonché
  la connessione col mondo orientale dei maquaam con un progetto di Federic
 o Pascucci in onore della star della canzone araba\, Oum Kulthum.\n\nVi as
 pettiamo a Roma al Teatro Garbatella\nApertura porte 20:00\nInizio concert
 i 20:30\n\nAl termine di ogni serata inviteremo il pubblico a seguirci per
  un after-party musicale. Vi aspettiamo!\nSEMINARI\nAnche quest’anno l
 ’Errichetta Festival propone dei seminari gratuiti di musica tradizional
 e\, aperti a tutti gli appassionati e ai musicisti locali.\n\nGli incontri
  saranno guidati da artisti straordinari\, provenienti dalle diverse tradi
 zioni ospiti del festival. Un’occasione unica per approfondire repertori
 \, tecniche e stili direttamente a contatto con i maestri. I seminari inte
 ndono favorire lo scambio culturale e la trasmissione viva delle tradizion
 i musicali che animano il Festival.\n\nDove: La città dell’utopia\, Via
  Valeriano 3F\, Roma\n\nla partecipazione gratuita\, con prenotazione obbl
 igatoria:\n\nIscriviti ai seminari confermando la tua presenza via uno si 
 questi canali:\n\nriempiendo questo formulario online\nvia mail\, scrivi a
  workshops.errichettafestival@gmail.com\ncon Whatsapp +40 770 621 308\nI s
 eminari sono possibili solo grazie al sostegno prezioso di ISMEO\, Associa
 zione Internazionale di Studi sul Mediterraneo e l’Oriente.
ATTACH;FMTTYPE=image/jpeg:https://lazioeventi.com/wp-content/uploads/2025/
 11/errichetta.jpeg
CATEGORIES:Arte e Cultura nel Lazio,Musica, Spettacoli e Danza nel
 Lazio,Varie
LOCATION:Roma\, Via Leopardi\, Roma\, Roma\, Lazio\, Italia
GEO:41.8942;12.5017
X-APPLE-STRUCTURED-LOCATION;VALUE=URI;X-ADDRESS=Via Leopardi\, Roma\, Roma\
 , Lazio\, Italia;X-APPLE-RADIUS=100;X-TITLE=Roma:geo:41.8942,12.5017
END:VEVENT
BEGIN:VTIMEZONE
TZID:Europe/Rome
X-LIC-LOCATION:Europe/Rome
BEGIN:STANDARD
DTSTART:20251026T020000
TZOFFSETFROM:+0200
TZOFFSETTO:+0100
TZNAME:CET
END:STANDARD
END:VTIMEZONE
END:VCALENDAR