BEGIN:VCALENDAR
VERSION:2.0
PRODID:-//wp-events-plugin.com//7.2.3.1//EN
TZID:Europe/Rome
X-WR-TIMEZONE:Europe/Rome
BEGIN:VEVENT
UID:36905@lazioeventi.com
DTSTART;TZID=Europe/Rome:20230909T000000
DTEND;TZID=Europe/Rome:20230917T000000
DTSTAMP:20230902T144519Z
URL:https://lazioeventi.com/eventi/esaltazione-della-croce
SUMMARY:Esaltazione della Croce - Monterosi - 9 Settembre 23 00:00
DESCRIPTION:La festa dell'Esaltazione della santa croce è uno degli eventi
  in programma nel comune di Monterosi che quest'anno si svolge da sabato 9
  a domenica 17 settembre e si inserisce all'interno del programma Settembr
 e monterosolino 2023 promosso dal Comune e la pro loco di Monterosi. Conce
 rti\, eventi e manifestazioni.\n\nSabato 9 settembre\nLoc. Belvedere\nMont
 erosi in riva al lago.\n\nOre 16\,30 - Casa dell'artista\nMostra itinerant
 e "60 per l'arte"\, direzione di Maurizio Tamantini.\nOre 21\,30 - Piazzal
 e S. Antonio Abate\n"The finale countdown"\, live tributo ai più grandi a
 rtisti.\n\nDomenica 10 settembre\nLoc. Belvedere\nMonterosi in riva al lag
 o.\nOre 21\,30 - Sala polivalente "San Giovanni Paolo II"\nConcerto della 
 banda musicale S. Cecilia diretta dal maestro Aldo Tamantini. Nell'interva
 llo\, consegna borse di studio "Cesare Rufini" agli studenti più meritevo
 li da parte del sindaco\, premiazione attività sportive.\n\nMercoledì 13
  settembre\nOre 10\,30 - Piazza Garibaldi\, monumento ai caduti\nInauguraz
 ione del nuovo anno scolastico ed alzabandiera.\n\nOre 18 - Chiesa S. Croc
 e\nSanta messa e solenne processione per le vie del paese.\n\nGiovedì 14 
 settembre\nOre 21 - Piazza Garibaldi\nConcerto live "Chain of fools"\, oma
 ggio ad Aretha Franklin.\n\nVenerdì 15 settembre\nOre 17 - Cimitero di Mo
 nterosi\nMessa in onore dei defunti.\nOre 21 - Sala polivalente "San Giova
 nni Paolo II"\nProiezione del filmato "La festa dei borghi".\nOre 21\,30 -
  Piazzale S. Antonio Abate\nBig Luciano dj set and the showgirls.\n\nSabat
 o 16 settembre\nOre 20 - Via Roma\nLa parrocchia Santa Croce organizza la 
 cena solidale.\nOre 21\,30 - Piazzale S. Antonio Abate\nSpettacolo del com
 ico Enzo Salvi & orchestra Simone band. Al termine\, grandioso spettacolo 
 pirotecnico.\n\nDomenica 17 settembre\nOre 10 - Raduno località Laghetto\
 nArma del genio - 80° anniversario del fatto d'armi di Monterosi\, commem
 orazione ai caduti di guerra.\nOre 11 - Piazza Garibaldi\nSanta mesa in su
 ffragio dei caduti di tutte le guerre celebrata da Don Franceco Rossi de G
 asperis. A seguire\, commemorazione al monumento dei caduti.\n
ATTACH;FMTTYPE=image/jpeg:https://lazioeventi.com/wp-content/uploads/2023/
 09/estaltazione-croce.jpg
CATEGORIES:Musica, Spettacoli e Danza nel Lazio,Sagre, Gastronomia e
 Tradizioni nel Lazio,Varie
LOCATION:Monterosi\, Comune\, Monterosi\, Viterbo\, Lazio\, Italia
GEO:42.197;12.3083
X-APPLE-STRUCTURED-LOCATION;VALUE=URI;X-ADDRESS=Comune\, Monterosi\, Viterb
 o\, Lazio\, Italia;X-APPLE-RADIUS=100;X-TITLE=Monterosi:geo:42.197,12.3083
END:VEVENT
BEGIN:VTIMEZONE
TZID:Europe/Rome
X-LIC-LOCATION:Europe/Rome
BEGIN:DAYLIGHT
DTSTART:20230326T030000
TZOFFSETFROM:+0100
TZOFFSETTO:+0200
TZNAME:CEST
END:DAYLIGHT
END:VTIMEZONE
END:VCALENDAR