BEGIN:VCALENDAR
VERSION:2.0
PRODID:-//wp-events-plugin.com//7.2.3.1//EN
TZID:Europe/Rome
X-WR-TIMEZONE:Europe/Rome
BEGIN:VEVENT
UID:43063@lazioeventi.com
DTSTART;TZID=Europe/Rome:20251116T090000
DTEND;TZID=Europe/Rome:20251116T153000
DTSTAMP:20251111T120150Z
URL:https://lazioeventi.com/eventi/escursione-sulla-via-di-san-benedetto
SUMMARY:Escursione sulla via di San Benedetto - Subiaco - 16 Novembre 25 09
 :00
DESCRIPTION:Un trek dove rinnovare lo spirito\, per riconnettersi ad una na
 tura in gran parte primigenia: il Sentiero dei Santi ci aspetta.\nPartenza
  dal monastero di Santa Scolastica per poi salire sino ad incrociare il B
 alzo dell'Intillinara. Da qui raggiungeremo la località San Donato dove s
 i trova uno dei 13 monasteri\, andati persi\, costruiti da S. Benedetto\; 
 il monastero non è visibile perché coperto da un vecchio casale e dalla 
 vegetazione\, ma l’ambiente circostante ricco di falesie alle nostre spa
 lle ci farà intendere la riservatezza del luogo. Presente una sorgente fe
 rrosa che da secoli alimenta il luogo.\nRiprendendo il sentiero e attraver
 sando il Passo del lupo scenderemo sempre più sino a San Biagio: qui c’
 è una piccola chiesetta gestita dalle suore benedettine… e poi finalmen
 te arriveremo al Sacro Speco di San Benedetto\, dove il Santo sostò 3 an
 ni prima di partire per Cassino.\nNon meno rilevante è il Monastero di Sa
 nta Scolastica che con la sua Biblioteca ospita il museo della Stampa\; qu
 esto monastero fu il primo ad usare i caratteri mobili in Italia\, inoltre
  contiene i testi che ricostruiscono buona parte della storia del centro I
 talia.\nFinita l'escursione ognuno potrà scegliere quale monastero visita
 re o visitare la Biblioteca di Santa Scolastica.\nEscursione ad anello.\nU
 n sentiero che ti avvolge tra storia\, cultura e natura. Vi aspetto.\nDif
 ficoltà T/E Lunghezza km 10 Dislivello 400 m \n\nPOSTI LIMITATI: minimo 
 4\, massimo 15\, cani ammessi\, bambini e ragazzi.\n\nCOSA PORTARE: scarpo
 ncini da trekking con suola antiscivolo (obbligatori)\; consigliati i bast
 oncini telescopici\; acqua a sufficienza (almeno 1\,l)\; giacca o gilet an
 tivento e pranzo al sacco\n\nAPPUNTAMENTO: Il punto preciso verrà fornito
  in fase di iscrizione. Cerchiamo\, ove possibile\, di ottimizzare le auto
 mobili (car sharing). Ore 9.00\n\nQUOTA SOCIALE:\nEscursione 15 €Tessera
  Nomos Trek 2025 in corso di validità. Per i non tesserati inviare comuni
 cazione via telefono con i propri dati (nome\, cognome\, luogo\, data di n
 ascita e codice fiscale) entro le 14 del giorno precedente l’escursione.
 \n\nINFORMAZIONI e PRENOTAZIONI: (preferibilmente whatsapp)\nGuida: Maria 
 Scolastica Ciucci 3318041418 \nGuida ambientale escursionistica la 575 is
 critta AIGAE\nPer ricevere aggiornamenti sull’evento e vedere tutte le e
 scursioni:\n1) Mettere “parteciperò”\n2) Mettere “mi piace” alla 
 pagina Nomos Trek – Escursioni e Trekking e cliccare sul tasto “segui
 ” – https://www.facebook.com/NomosTrek\n3) iscriversi al gruppo pubbl
 ico Nomos Trek- Associazione Escursionistica –https://www.facebook.com/g
 roups/341852695915250\n4) Chat Telegram https://t.me/+5JYvtRdqIH9jZDJk\n5
 ) https://www.tiktok.com/@nomostrek\n6) https://www.instagram.com/nomost
 rekescursioni/?hl=it\n7) https://twitter.com/nomos_trek\n Visita il sito
 : www.nomostrek.com\n9)https://whatsapp.com/channel/0029VaD7W1hGZNCxYwLH5
 CY\n10) https://www.threads.net/@marco71marini\n11) https://www.messenge
 r.com/channel/NomosTrek\n12) https://t.me/nomostrekescursioni\nL’inizia
 tiva è riservata ai soci in regola con l’iscrizione relativa all’anno
  2025 ed in possesso della relativa tessera. Le Guide si riservano il diri
 tto insindacabile di modificare il programma stabilito in caso di condizio
 ni meteorologiche avverse tali da rendere pericoloso l’itinerario\, in c
 aso di impraticabilità di un sentiero\, in caso di impossibilità di un p
 artecipante a continuare l’escursione.\nSi prega inoltre di avvertire gl
 i accompagnatori della presenza di eventuali patologie o di problematiche 
 che potrebbero manifestarsi nel corso dell’escursione
ATTACH;FMTTYPE=image/jpeg:https://lazioeventi.com/wp-content/uploads/2025/
 11/581019386_1422645296531520_275551029514642349_n.jpg
CATEGORIES:Sport, Tempo Libero e Divertimento nel Lazio
LOCATION:Subiaco\, Comune di Subiaco\, Subiaco\, Roma\, Lazio\, Italia
GEO:41.9243;13.0963
X-APPLE-STRUCTURED-LOCATION;VALUE=URI;X-ADDRESS=Comune di Subiaco\, Subiaco
 \, Roma\, Lazio\, Italia;X-APPLE-RADIUS=100;X-TITLE=Subiaco:geo:41.9243,13
 .0963
END:VEVENT
BEGIN:VTIMEZONE
TZID:Europe/Rome
X-LIC-LOCATION:Europe/Rome
BEGIN:STANDARD
DTSTART:20251026T020000
TZOFFSETFROM:+0200
TZOFFSETTO:+0100
TZNAME:CET
END:STANDARD
END:VTIMEZONE
END:VCALENDAR