BEGIN:VCALENDAR
VERSION:2.0
PRODID:-//wp-events-plugin.com//7.2.3.1//EN
TZID:Europe/Rome
X-WR-TIMEZONE:Europe/Rome
BEGIN:VEVENT
UID:38068@lazioeventi.com
DTSTART;TZID=Europe/Rome:20250518T090000
DTEND;TZID=Europe/Rome:20250518T190000
DTSTAMP:20250512T063331Z
URL:https://lazioeventi.com/eventi/esquilibri-la-mostra-mercato-di-libri-u
 sati-e-rari
SUMMARY:Esquilibri\, la mostra-mercato di libri usati e rari - Roma - 18 Ma
 ggio 25 09:00
DESCRIPTION:Domenica 18 maggio 2025\, sotto i portici di Piazza Vittorio\, 
 dalle 9 alle 19\, torna Esquilibri\, la mostra-mercato dedicata ai libri d
 ’occasione e alle rarità\, promossa da Pagine Romane\, associazione di 
 librai/e dell'usato e dell'antiquariato\, in collaborazione con Esquilino 
 Vivo e Piazza Vittorio aps.\n\nScegliere i regali di Natale tra le meravig
 lie cartacee in bella mostra sotto i portici\, significa:\n\n- sostenere l
 e librerie davvero indipendenti (ovvero dipendenti dall'amicizia)\, che fa
 voriscono la lettura con prezzi per tutte le tasche (e difatti molt3 sono 
 l3 student3 che si sono affacciat3 nel corso di quest’anno) e che hanno 
 il merito di rimettere in circolazione titoli fuori catalogo e assenti dal
 le librerie di catena.\n\n- fare affari d’oro!\n\nSe nonostante la molti
 tudine di libri rari\, curiosi\, dimenticati\, d'occasione e da collezione
 \, di tutti i generi\, su ogni argomento\, la scelta dei regali per biblio
 filɜ e lettorɜ più sfrenatɜ dovesse sembrare troppo difficile\, sarà 
 anche possibile optare per un buono regalo.\n\nLibri d’occasione e rarit
 à\, ma non solo libri: sui banchi disposti nei due lati della piazza che 
 partono da Via dello Statuto è possibile trovare anche giornali\, riviste
  e fumetti del Novecento\, manifesti\, cartoline e fotografie d'epoca\, gr
 afica e illustrazioni.
ATTACH;FMTTYPE=image/jpeg:https://lazioeventi.com/wp-content/uploads/2023/
 12/esquilibri.jpg
CATEGORIES:Arte e Cultura nel Lazio,Fiere e Mercatini nel Lazio
LOCATION:Roma\, Via Leopardi\, Roma\, Roma\, Lazio\, Italia
GEO:41.8942;12.5017
X-APPLE-STRUCTURED-LOCATION;VALUE=URI;X-ADDRESS=Via Leopardi\, Roma\, Roma\
 , Lazio\, Italia;X-APPLE-RADIUS=100;X-TITLE=Roma:geo:41.8942,12.5017
END:VEVENT
BEGIN:VTIMEZONE
TZID:Europe/Rome
X-LIC-LOCATION:Europe/Rome
BEGIN:DAYLIGHT
DTSTART:20250330T030000
TZOFFSETFROM:+0100
TZOFFSETTO:+0200
TZNAME:CEST
END:DAYLIGHT
END:VTIMEZONE
END:VCALENDAR