BEGIN:VCALENDAR
VERSION:2.0
PRODID:-//wp-events-plugin.com//7.2.3.1//EN
TZID:Europe/Rome
X-WR-TIMEZONE:Europe/Rome
BEGIN:VEVENT
UID:44262@lazioeventi.com
DTSTART;TZID=Europe/Rome:20260503T180000
DTEND;TZID=Europe/Rome:20260503T191500
DTSTAMP:20260417T070848Z
URL:https://lazioeventi.com/eventi/essenza-spettacolo-di-teatrodanza-2
SUMMARY:Essenza - spettacolo di teatrodanza - Roma - 3 Maggio 26 18:00
DESCRIPTION:La compagnia ECHOES presenta\n\nESSENZA\n\nSPETTACOLO DI TEATRO
 DANZA\n\nCoreografie originali di Giuliana Maglia\n\nCon: Elettra Carangio
 \, Diana Costantino\, Stefano Dattrino\,\n\nLaura Di Biagio\, Giuliana Mag
 lia\, Giulia Nemiz\n\n&nbsp\;\n\nL’ESSENZA è la nostra natura profonda\
 , ciò che ogni individuo è realmente\, il suo nucleo pulsante innato e i
 mmutabile. La nostra essenza nasce con noi ed è autentica\, legata ai nos
 tri desideri più alti e puri e ai nostri gusti più sinceri: è la nostra
  energia. Quando veniamo al mondo siamo pura essenza\, incontaminati\, ete
 rei\, genuini. Il mondo e il suo caos tutto intorno a noi non ci riguarda 
 ancora\, non ci tocca\, non ci scalfisce.\n\nVivendo e interagendo con il 
 mondo la nostra essenza viene sovrastata dalle maschere\, dalle abitudini\
 , dalle convenzioni acquisite e dalle etichette che ci vengono appiccicate
  addosso dagli altri e che ci allontanano passo dopo passo da ciò che sia
 mo veramente. Le nostre esperienze\, l’educazione che riceviamo e le inf
 luenze esterne vanno a creare un involucro che è quello che possiamo defi
 nire la nostra personalità. Essa si forma ed evolve nel tempo ma non è l
 a nostra natura fondamentale che\, una volta smarrita\, è difficile ritro
 vare.\n\n&nbsp\;\n\nVenite a scoprire con noi quello che abbiamo perso ma 
 che non dobbiamo mai smettere di cercare.\n\n&nbsp\;\n\n&nbsp\;\n\nIn scen
 a il 3 maggio 2026\n\nh.18:00\n\nTEATRO NINO MANFREDI\n\n \n\nVia dei Pal
 lottini 10\, Roma (Ostia)\n\nInfo e biglietti: Tel. 06 56 32 48 49 - WApp 
 3880736402 - info@teatroninomanfredi.it\n\nBiglietti online: https://bigli
 ettoveloce.it/spettacolo?id=8291&amp\;layout=extern&amp\;idSala=1258
ATTACH;FMTTYPE=image/jpeg:https://lazioeventi.com/wp-content/uploads/2026/
 04/Essenza-Manfredi.jpg
CATEGORIES:Musica, Spettacoli e Danza nel Lazio
LOCATION:Roma\, Via Leopardi\, Roma\, Roma\, Lazio\, Italia
GEO:41.8942;12.5017
X-APPLE-STRUCTURED-LOCATION;VALUE=URI;X-ADDRESS=Via Leopardi\, Roma\, Roma\
 , Lazio\, Italia;X-APPLE-RADIUS=100;X-TITLE=Roma:geo:41.8942,12.5017
END:VEVENT
BEGIN:VTIMEZONE
TZID:Europe/Rome
X-LIC-LOCATION:Europe/Rome
BEGIN:DAYLIGHT
DTSTART:20260329T030000
TZOFFSETFROM:+0100
TZOFFSETTO:+0200
TZNAME:CEST
END:DAYLIGHT
END:VTIMEZONE
END:VCALENDAR