BEGIN:VCALENDAR
VERSION:2.0
PRODID:-//wp-events-plugin.com//7.2.3.1//EN
TZID:Europe/Rome
X-WR-TIMEZONE:Europe/Rome
BEGIN:VEVENT
UID:2966@lazioeventi.com
DTSTART:20250721T203000Z
DTEND:20250727T220000Z
DTSTAMP:20250716T090149Z
URL:https://lazioeventi.com/eventi/est-film-festival-2
SUMMARY:Est Film Festival - Montefiascone - 21 Luglio 25 21:30
DESCRIPTION:A Montefiascone è di scena la parte estiva della diciannovesim
 a edizione di Est Film Festival: il concorso per autori italiani esordient
 i arricchito dagli "Incontri Speciali". Quest'anno l'Arco di Platino verr
 à consegnato a Francesca Comencini durante la serata di sabato 26\; il gi
 orno seguente\, il film di chiusura - per ribadire la tradizione dei capol
 avori restaurati - sarà "Pane\, amore e fantasia" del padre Luigi.\nI cin
 que film in concorso si contendono l'Arco d'oro assegnato dalla giuria e l
 'Arco d'argento assegnato dal pubblico.\nTra gli eventi più attesi\, dopo
  il successo dei due anni passati\, il concerto dell'orchestra delle class
 i terze della scuola media A. Manzoni (domenica 27 al termine della cerimo
 nia di premiazioni). Segnaliamo infine la donazione di sangue straordinari
 a in calendario per tutte la mattina di venerdì 25 luglio a Piazza Vittor
 io Emanuele\, davanti al Caffè che ospiterà\, per tutta la settimana\, l
 a mostra fotografica dedicata ai primi 18 anni di festival.\n\nlunedì 21 
 Luglio\nPer il mio bene\nLungometraggi2024\, 100'\, Drammatico\nregia di M
 immo Verdesca con Barbora Bobulova\, Marie Christine Barrault\, Stefania S
 andrelli\nTrama: In un momento delicato della sua vita\, Giovanna ha bisog
 no della persona che l'ha abbandonata\, sua madre biologica. Contattata da
  un avvocato\, la donna però continua a rifiutarla. Giovanna allora parte
  alla sua ricerca\, sicura di farle cambiare idea\, ma l'incontro con quel
 la donna misteriosa e ostile porterà a galla verità sconvolgenti.\nPer i
 l mio bene\n\nmartedì 22 Luglio\nIl mio compleanno\nLungometraggi2025\, 9
 0'\, Drammatico\nregia di Christian Filippi con Zackari Delmas\, Silvia D'
 Amico\, Giulia Galassi\nTrama: Riccardino sta per compiere 18 anni nella c
 asa famiglia in cui vive. Da quattro anni è stato separato dalla madre\, 
 una donna con forti disturbi di personalità. Nonostante la premurosa e at
 tenta guida della sua educatrice\, che desidera per lui un futuro al sicur
 o nella casa famiglia\, Riccardino decide di scappare per raggiungere sua 
 madre e vivere con lei. La sua illusione presto si trasformerà in un'amar
 a realtà e Riccardino dovrà fare una scelta difficile.\nIl mio compleann
 o\n\nmercoledì 23 Luglio\nTre regole infallibili\nLungometraggi2024\, 101
 '\, Drammatico\nregia di Marco Gianfreda con Cristina Dell'Anna\, Matteo O
 livetti\, Guglielmo Aquaro\nTrama: Bruno\, quattordici anni\, è nel panic
 o: ha scoperto che il suo amore è corrisposto da Flavia\, ma lui non ha n
 essuna idea di come si inizi una storia. Ha bisogno che qualcuno glielo in
 segni. La persona più indicata è l'odiato Luca\, l'unico che sia riuscit
 o a far innamorare quel sasso di sua madre Claudia. Bruno sarà costretto 
 a mettere da parte ogni contrasto e seguire i consigli del suo peggior nem
 ico. Ma Bruno non sa che Luca e sua madre vivono una relazione fragilissim
 a\, per niente esemplare.\nTre regole infallibili\n\ngiovedì 24 Luglio\nL
 'albero\nLungometraggi2024\, 92'\, Drammatico\nregia di Sara Petraglia con
  Tecla Insolia\, Carlotta Gamba\nTrama: Bianca ha 23 anni e le sembrano gi
 à troppi. Se n'è andata da casa dei suoi\, dovrebbe fare l'università m
 a non ci va mai. Ha poche\, precise ossessioni: il tempo che passa\, la co
 caina e Angelica. Da quando vivono insieme\, tutto corre più veloce\, pre
 cipita. Anche la loro amicizia\, che inciampa nella dipendenza e si confon
 de con l'amore.\nL'albero\n\nvenerdì 25 Luglio\nNottefonda\nLungometraggi
 2024\, 86'\, Drammatico\nregia di Giuseppe Miale di Mauro con Francesco Di
  Leva\, Mario Di Leva\, Adriano Pantaleo\nTrama: Ciro è un uomo allo sban
 do dopo la perdita della moglie. Vuole trovare chi l'ha investita e uccisa
  sulla strada di notte. Ogni notte. In questa ricerca ha perduto sé stess
 o\, il senso del tempo e la possibilità di far vivere una vita normale al
  figlio Luigi\, tredicenne\, un ragazzino costretto a crescere in fretta p
 er trattenere il padre dalla discesa negli inferi. Una via crucis dell’e
 laborazione di un lutto difficile da superare. Ma il loro destino è già 
 scritto\, e durante l'ultima "Nottefonda" dovranno affrontarlo.\n\nsabato 
 26 Luglio\nIl tempo che ci vuole\nIncontri Speciali2024\, 110'\, Drammatic
 o\nregia di Francesca Comencini con Fabrizio Gifuni\, Romana Maggiora Verg
 ano\nTrama: Un padre e una figlia. Il cinema e la vita. L'infanzia che sem
 bra perfetta e poi diventare grandi sbagliando tutto. Cadere e rialzarsi\,
  ricominciare\, invecchiare\, diventare fragili\, lasciarsi andare ma non 
 perdersi mai. Il tempo che ci vuole per salvarsi.\nIl tempo che ci vuole\n
 \ndomenica 27 Luglio\nPremiazioni\nExtra\nPane\, amore e fantasia\nExtra19
 53\, 94'\, Commedia\nregia di Luigi Comencini con Vittorio De Sica\, Gina 
 Lollobrigida\, Marisa Merlini\nTrama: Il maresciallo Carotenuto è assegna
 to a un paesello montanaro dell'Italia centrale\, dove il passatempo prefe
 rito è farsi gli affari degli altri. Mette gli occhi sulla Bersagliera\, 
 una popolana esuberante che in effetti non può passare inosservata. Ma la
  ragazza ama di nascosto il carabiniere Stelluti. Il maresciallo ripiega a
 llora su una levatrice\, che però si rivela madre di un figlio tenuto seg
 reto. L'intervento del parroco rimuoverà gli ostacoli che si frappongono 
 all'unione delle coppie.
ATTACH;FMTTYPE=image/jpeg:https://lazioeventi.com/wp-content/uploads/2023/
 07/est-film-festival-cover.jpg
CATEGORIES:Musica, Spettacoli e Danza nel Lazio
LOCATION:Montefiascone\, Comune\, Montefiascone\, Viterbo\, Lazio\, Italia
GEO:42.5378;12.0302
X-APPLE-STRUCTURED-LOCATION;VALUE=URI;X-ADDRESS=Comune\, Montefiascone\, Vi
 terbo\, Lazio\, Italia;X-APPLE-RADIUS=100;X-TITLE=Montefiascone:geo:42.537
 8,12.0302
END:VEVENT
END:VCALENDAR