BEGIN:VCALENDAR
VERSION:2.0
PRODID:-//wp-events-plugin.com//7.2.3.1//EN
TZID:Europe/Rome
X-WR-TIMEZONE:Europe/Rome
BEGIN:VEVENT
UID:39640@lazioeventi.com
DTSTART;TZID=Europe/Rome;VALUE=DATE:20240713
DTEND;TZID=Europe/Rome;VALUE=DATE:20240826
DTSTAMP:20240717T165140Z
URL:https://lazioeventi.com/eventi/estate-a-piglio
SUMMARY:Estate a Piglio - Piglio - 13 Luglio 24 00:00
DESCRIPTION:Piglio Estate 2024\, tutti gli appuntamenti dell’estate pigli
 ese da Luglio ad Agosto. 
ATTACH;FMTTYPE=image/jpeg:https://lazioeventi.com/wp-content/uploads/2024/
 07/estate_piglio2024.webp
CATEGORIES:Musica, Spettacoli e Danza nel Lazio,Sagre, Gastronomia e
 Tradizioni nel Lazio,Sport, Tempo Libero e Divertimento nel Lazio,Varie
LOCATION:Piglio\, Comune\, Piglio\, Frosinone\, Lazio\, Italia
GEO:41.8299;13.1451
X-APPLE-STRUCTURED-LOCATION;VALUE=URI;X-ADDRESS=Comune\, Piglio\, Frosinone
 \, Lazio\, Italia;X-APPLE-RADIUS=100;X-TITLE=Piglio:geo:41.8299,13.1451
END:VEVENT
BEGIN:VTIMEZONE
TZID:Europe/Rome
X-LIC-LOCATION:Europe/Rome
BEGIN:DAYLIGHT
DTSTART:20240331T030000
TZOFFSETFROM:+0100
TZOFFSETTO:+0200
TZNAME:CEST
END:DAYLIGHT
END:VTIMEZONE
END:VCALENDAR