BEGIN:VCALENDAR
VERSION:2.0
PRODID:-//wp-events-plugin.com//7.2.3.1//EN
TZID:Europe/Rome
X-WR-TIMEZONE:Europe/Rome
BEGIN:VEVENT
UID:31952@lazioeventi.com
DTSTART;TZID=Europe/Rome;VALUE=DATE:20240716
DTEND;TZID=Europe/Rome;VALUE=DATE:20240801
DTSTAMP:20240717T094206Z
URL:https://lazioeventi.com/eventi/estate-ad-atina
SUMMARY:Estate ad Atina - Atina - 16 Luglio 24 00:00
DESCRIPTION:Estate all'insegna dello spettacolo e della musica ad Atina.\n\
 nTanti gli appuntamenti che ci accompagneranno durate tutto il mese di Lug
 lio.\n\nIl calendario degli eventi in locandina.
ATTACH;FMTTYPE=image/jpeg:https://lazioeventi.com/wp-content/uploads/2022/
 08/estate-atina.jpg
CATEGORIES:Musica, Spettacoli e Danza nel Lazio,Arte e Cultura nel
 Lazio,Sport, Tempo Libero e Divertimento nel Lazio
LOCATION:Atina\, Comune\, Atina\, Frosinone\, Lazio\, Italia
GEO:41.6344;13.7876
X-APPLE-STRUCTURED-LOCATION;VALUE=URI;X-ADDRESS=Comune\, Atina\, Frosinone\
 , Lazio\, Italia;X-APPLE-RADIUS=100;X-TITLE=Atina:geo:41.6344,13.7876
END:VEVENT
BEGIN:VTIMEZONE
TZID:Europe/Rome
X-LIC-LOCATION:Europe/Rome
BEGIN:DAYLIGHT
DTSTART:20240331T030000
TZOFFSETFROM:+0100
TZOFFSETTO:+0200
TZNAME:CEST
END:DAYLIGHT
END:VTIMEZONE
END:VCALENDAR