BEGIN:VCALENDAR
VERSION:2.0
PRODID:-//wp-events-plugin.com//7.2.3.1//EN
TZID:Europe/Rome
X-WR-TIMEZONE:Europe/Rome
BEGIN:VEVENT
UID:27177@lazioeventi.com
DTSTART;TZID=Europe/Rome;VALUE=DATE:20200806
DTEND;TZID=Europe/Rome;VALUE=DATE:20200824
DTSTAMP:20200730T083545Z
URL:https://lazioeventi.com/eventi/estate-delle-meraviglie
SUMMARY:Estate delle meraviglie - Paliano - 6 Agosto 20 00:00
DESCRIPTION:Il programma completo degli eventi delle festività estive. Dal
  6 al 23 agosto\, teatro\, musica\, spettacoli e artisti di strada.
ATTACH;FMTTYPE=image/jpeg:https://lazioeventi.com/wp-content/uploads/2020/
 07/meraviglie-paliano.jpg
CATEGORIES:Musica, Spettacoli e Danza nel Lazio
LOCATION:Paliano\, Comune\, Paliano\, Frosinone\, Lazio\, Italia
GEO:41.8048;13.0599
X-APPLE-STRUCTURED-LOCATION;VALUE=URI;X-ADDRESS=Comune\, Paliano\, Frosinon
 e\, Lazio\, Italia;X-APPLE-RADIUS=100;X-TITLE=Paliano:geo:41.8048,13.0599
END:VEVENT
BEGIN:VTIMEZONE
TZID:Europe/Rome
X-LIC-LOCATION:Europe/Rome
BEGIN:DAYLIGHT
DTSTART:20200329T030000
TZOFFSETFROM:+0100
TZOFFSETTO:+0200
TZNAME:CEST
END:DAYLIGHT
END:VTIMEZONE
END:VCALENDAR