BEGIN:VCALENDAR
VERSION:2.0
PRODID:-//wp-events-plugin.com//7.2.3.1//EN
TZID:Europe/Rome
X-WR-TIMEZONE:Europe/Rome
BEGIN:VEVENT
UID:31777@lazioeventi.com
DTSTART;TZID=Europe/Rome;VALUE=DATE:20220730
DTEND;TZID=Europe/Rome;VALUE=DATE:20220829
DTSTAMP:20220725T145635Z
URL:https://lazioeventi.com/eventi/estate-gavignanese-2
SUMMARY:Estate Gavignanese - Gavignano - 30 Luglio 22 00:00
DESCRIPTION:Ecco il ricco programma dell'Estate a Gavignano: musica\, cibo\
 , folkore e tanto divertimento.\n\nProgramma Luglio\n\nSABATO 16 LUGLIO\nO
 RE 17:30-20:30 PIAZZA DEI CADUTI GELATO PARTY NEL BORGO A CURA DELLA APS C
 ENTRO SOCIALE ANZIANI DI GAVIGNANO.\n\nDOMENICA 24 LUGLIO\nORE 21:00 LOCAL
 ITÀ “PINCETTO”\, “MASSIMO CARDAMONE LIVE SHOW” SPETTACOLO MUSICAL
 E A CURA DI MASSIMO CARDAMONE SHOWMAN.\n\nSABATO 30 LUGLIO\nORE 18:00 PIAZ
 ZA DEI CADUTI\, VIII^a RIEVOCAZIONE STORICA DEL MATRIMONIO CONTADINO.\nORE
  20.00 MENU CONTADINO A CURA DELL’ ASSOCIAZIONE PROLOCO DI GAVIGNANO.\n\
 nDOMENICA 31 LUGLIO:\nORE 11:00 PRESSO LA CASA COMUNALE\, CERIMONIA DI ASS
 EGNAZIONE COMUNE AMICO DEL TURISMO ITINERANTE.\nORE 20.00 MENU CONTADINO A
  CURA DELL’ ASSOCIAZIONE PROLOCO DI GAVIGNANO.\n\nProgramma Agosto\n\nLU
 NEDI 1 AGOSTO\nORE 16:00 PIAZZA DELLA REPUBBLICA\, EX-FALEGNAMERIA FAVOLE 
 A MERENDA A CURA DELL’ASSOCIAZIONE ARTE LIBERA-MENTE E DEL RIONE JO CAMP
 O.\n\nVENERDI 5 AGOSTO\nORE 21:00 PIAZZA DEI CADUTI\, L’ARTE DELL’IPNO
 SI COMMEDIA DEL COLLETTIVO (IN)STABILE.\n\nSABATO 6 AGOSTO\nORE 17:45 PRES
 SO LA CHIESA DI S. ROCCO\, TRASLAZIONE DEL SANTO PATRONO DALLA CHIESA DI S
 AN ROCCO ALLA PARROCCHIA S. MARIA ASSUNTA\, A SEGUIRE SANTA MESSA.\nORE 20
 :30 CENTRO STORICO DI GAVIGNANO\, XII^a EDIZIONE DI CALICI NEL BORGO PERCO
 RSO ENOGASTRONOMICO E SPETTACOLI MUSICALI CON LA PARTECIPAZIONE DEI “PAR
 QUARIA”\, DEGLI STORNELLATORI ROMANI\, DEI “NO FLY ZONE” E ARTISTI D
 I STRADA.\n\nDOMENICA 7 AGOSTO\nORE 21:00 PRESSO LA CHIESA DI S. MARIA ASS
 UNTA CONCERTO ALLA SCOPERTA DI 4 GIOIELLI DI MUSICA PER FIATI DEL ‘700 E
  800 ACURA DEL FENNEL WIND ENSEMBLE DIRETTO DAL M° ERMES GIORDANI.\n\nMER
 COLEDÌ 10 AGOSTO\nORE 21:00 LOCALITÀ “PINCETTO”\, FESTA DEI BAMBINI 
 A CURA DELLA COOP. IL DOMINO.\n\nSABATO 13 AGOSTO\nORE 20:30 PIAZZA DELLA 
 REPUBBLICA\, VI^a EDIZIONE DEGUSTAZIONE ANTICHI SAPORI A CURA DEL RIONE JO
  CAMPO CON INTRATTENIMENTO MUSICALE DAL VIVO.\n\nDOMENICA 14 AGOSTO\nORE 2
 1:00 PRESSO LA CHIESA DI S. MARIA ASSUNTA\, SOLENNE PROCESSIONE ACCOMPAGNA
 TA DALLA BANDA MUSICALE CITTA DI GAVIGNANO\, CON LA PARTECIPAZIONE DELLE A
 UTORITA CIVILI E RELIGIOSE\, A SEGUIRE SPETTACOLO PIROTECNICO.\n\nLUNEDI 1
 5 AGOSTO“FESTA DELL’ASSUNZIONE”\nORE 8:00/10:00/1800 SANTE MESSE PRE
 SSO LA PARROCCHIA DIS. MARIA ASSUNTA.\nORE 11:30 SANTA MESSA PRESSO LA CHI
 ESA DI S. ANTONIO ABATE.\nORE 21:00 VIA ROMA SPETTACOLO COMICO ANDREA PERR
 ONI DAL VIVO.\n\nMARTEDI 16 AGOSTO “FESTA DEL SANTO PATRONO S. Rocco”\
 nORE 8:00 SANTA MESSA.\nORE 10:00 SOLENNE PONTIFICALE PRESIEDUTO DAL VESCO
 VO S.E. MONS. STEFANO RUSSO.\nORE 18:00 SANTA MESSA.\nORE 21:30 VIA ROMA\,
  SPETTACOLO MUSICALE “EDOARDO VIANELLO IL RE MIDA DELL’ESTATE A SEGUIR
 E TOMBOLA.\n\nMERCOLEDI 17 AGOSTO\nORE 16:00 CENTRO STORICO DI GAVIGNANO J
 A EDIZIONE “MUNDIALITO DEI GIOCHI POPOLARI NEL BORGO.\n\nGIOVEDI 18 AGOS
 TO\nORE 17:00 VIA ROMA BAR CERBARA\, VESPA DAY GAVIGNANO.\nORE 18:00 GIRO 
 TURISTICO DEI MONTI LEPINI.\n\n19-20-21 AGOSTO\nORE 20:00 PIAZZA DEI CADUT
 I\, XXX^a SAGRA DEI MACCARUNI GAVIGNANESI A CURA DELL ASSOCIAZIONE PROLOCO
  DI CAVIGNANO CON INTRATTENIMENTO MUSICALE.\n\nLUNEDI 22 AGOSTO\nORE 17:00
  PIAZZA DELL’ASSUNZIONE\, EDIZIONE DELLE MINI-OLIMPIADI A CURA DELLA PAR
 ROCCHIA.\n\nGIOVEDÌ 25 AGOSTO\nORE 21:00 PIAZZA DEI CADUTI POESIA NEL BOR
 GO POESIE DI POETI DEL CIRCONDARIO A CURA DELL’ASSOCIAZIONE ARTE LIBERA-
 MENTE CON INTRATTENIMENTO MUSICALE.\n\nVENERDÌ 26 AGOSTO\nORE 21:00 PIAZZ
 A DEI CADUTI\, “BEACH PARTY”.\n\nDOMENICA 28 AGOSTO\nORE 18:00 PRESSO 
 LA CHIESA DI S. MARIA ASSUNTA SANTA MESSA\, A SEGUIRE TRASLAZIONE DELLA ST
 ATUA DEL SANTO PATRONO NEL SANTUARIO.\n\nProgramma Settembre\n\nSABATO 3 S
 ETTEMBRE V° TROFEO “CORRI GAVIGNANO KM 8.800 RITROVO PIAZZA VITTORIO VE
 NETO\nORE 16:30 PARTENZA.\nORE 18:00 A CURA DELLA ASD UISP GAVIGNANO.\n\nD
 OMENICA 4 SETTEMBRE\nORE 10:00 PIAZZA DELLA REPUBBLICA EX-FALEGNAMERIA TOR
 NEO DI SCACCHI A CURA DELL’ASSOCIAZIONE ARTE LIBERA MENTE.\n\nSABATO 10 
 SETTEMBRE\nORE 18:00 PIAZZA DELLA REPUBBLICA\, EX-FALEGNAMERIA PRESENTAZIO
 NE DEL LIBRO L’OCEANO OLTRE LA RETE DI ETTORE ZANCA A CURA DELL’ASSOCI
 AZIONE ARTE LIBERA MENTE.\n\nSabato 6 agosto 2022\nORE 20:30 CENTRO STORIC
 O DI GAVIGNANO\, XII^a EDIZIONE DI CALICI NEL BORGO PERCORSO ENOGASTRONOMI
 CO E SPETTACOLI MUSICALI CON LA PARTECIPAZIONE DEI “PARQUARIA”\, DEGLI
  STORNELLATORI ROMANI\, DEI “NO FLY ZONE” E ARTISTI DI STRADA.
ATTACH;FMTTYPE=image/jpeg:https://lazioeventi.com/wp-content/uploads/2022/
 07/gavignano-estate.jpg
CATEGORIES:Arte e Cultura nel Lazio,Musica, Spettacoli e Danza nel
 Lazio,Sagre, Gastronomia e Tradizioni nel Lazio,Sport, Tempo Libero e
 Divertimento nel Lazio
LOCATION:Gavignano\, Comune\, Gavignano\, Roma\, Lazio\, Italia
GEO:41.6983;13.0525
X-APPLE-STRUCTURED-LOCATION;VALUE=URI;X-ADDRESS=Comune\, Gavignano\, Roma\,
  Lazio\, Italia;X-APPLE-RADIUS=100;X-TITLE=Gavignano:geo:41.6983,13.0525
END:VEVENT
BEGIN:VTIMEZONE
TZID:Europe/Rome
X-LIC-LOCATION:Europe/Rome
BEGIN:DAYLIGHT
DTSTART:20220327T030000
TZOFFSETFROM:+0100
TZOFFSETTO:+0200
TZNAME:CEST
END:DAYLIGHT
END:VTIMEZONE
END:VCALENDAR