BEGIN:VCALENDAR
VERSION:2.0
PRODID:-//wp-events-plugin.com//7.2.3.1//EN
TZID:Europe/Rome
X-WR-TIMEZONE:Europe/Rome
BEGIN:VEVENT
UID:24955@lazioeventi.com
DTSTART;VALUE=DATE:20200802
DTEND;VALUE=DATE:20200816
DTSTAMP:20200806T104925Z
URL:https://lazioeventi.com/eventi/estate-gorgana
SUMMARY:Estate Gorgana - Gorga - 2 Agosto 20 00:00
DESCRIPTION:A Gorga sono innumerevoli e vari gli eventi tra arte\, musica
 \, storia\, turismo e teatro che caratterizzano la stagione estiva. Mella 
 locandina in allegato\, tutte le date e il programma completo dell’Estat
 e Gorgana.
ATTACH;FMTTYPE=image/jpeg:https://lazioeventi.com/wp-content/uploads/2019/
 08/estate-gorgana-1.jpg
CATEGORIES:Musica, Spettacoli e Danza nel Lazio,Sport, Tempo Libero e
 Divertimento nel Lazio
LOCATION:Gorga\, Comune\, Gorga\, Roma\, Lazio\, Italia
GEO:41.6561;13.1106
X-APPLE-STRUCTURED-LOCATION;VALUE=URI;X-ADDRESS=Comune\, Gorga\, Roma\, Laz
 io\, Italia;X-APPLE-RADIUS=100;X-TITLE=Gorga:geo:41.6561,13.1106
END:VEVENT
END:VCALENDAR