BEGIN:VCALENDAR
VERSION:2.0
PRODID:-//wp-events-plugin.com//7.2.3.1//EN
TZID:Europe/Rome
X-WR-TIMEZONE:Europe/Rome
BEGIN:VEVENT
UID:27247@lazioeventi.com
DTSTART;TZID=Europe/Rome:20200808T210000
DTEND;TZID=Europe/Rome:20200815T230000
DTSTAMP:20200805T074754Z
URL:https://lazioeventi.com/eventi/estate-in-comune
SUMMARY:Estate in comune - Ausonia - 8 Agosto 20 21:00
DESCRIPTION:Musica e spettacoli per tutti! Programmazione delle iniziative 
 condivise tra i comuni di Ausonia\, Coreno e Castelnuovo Parano.
ATTACH;FMTTYPE=image/jpeg:https://lazioeventi.com/wp-content/uploads/2020/
 08/estate-comune.jpg
CATEGORIES:Musica, Spettacoli e Danza nel Lazio
LOCATION:Ausonia\, Comune\, Ausonia\, Frosinone\, Lazio\, Italia
GEO:41.3545;13.7487
X-APPLE-STRUCTURED-LOCATION;VALUE=URI;X-ADDRESS=Comune\, Ausonia\, Frosinon
 e\, Lazio\, Italia;X-APPLE-RADIUS=100;X-TITLE=Ausonia:geo:41.3545,13.7487
END:VEVENT
BEGIN:VTIMEZONE
TZID:Europe/Rome
X-LIC-LOCATION:Europe/Rome
BEGIN:DAYLIGHT
DTSTART:20200329T030000
TZOFFSETFROM:+0100
TZOFFSETTO:+0200
TZNAME:CEST
END:DAYLIGHT
END:VTIMEZONE
END:VCALENDAR