BEGIN:VCALENDAR
VERSION:2.0
PRODID:-//wp-events-plugin.com//7.2.3.1//EN
TZID:Europe/Rome
X-WR-TIMEZONE:Europe/Rome
BEGIN:VEVENT
UID:31433@lazioeventi.com
DTSTART;TZID=Europe/Rome:20220701T213000
DTEND;TZID=Europe/Rome:20220711T234500
DTSTAMP:20220620T081237Z
URL:https://lazioeventi.com/eventi/estate-insieme
SUMMARY:Estate Insieme - Colleferro - 1 Luglio 22 21:30
DESCRIPTION:Anche quest'anno si ripete l'evento "Estate insieme 2022" rifer
 ita all'estate Colleferrina che si svolgerà dal 1 al 11 luglio 2022 press
 o il piazzale antistante la Piscina comunale.\n\nNell'ambito della Manifes
 tazione sarà presente un villaggio con stand gastronomici e stand di arti
 gianato sempre presso il piazzale antistante la Piscina comunale (Viale Eu
 ropa).
ATTACH;FMTTYPE=image/jpeg:https://lazioeventi.com/wp-content/uploads/2022/
 06/estate-insieme-colleferro.jpg
CATEGORIES:Musica, Spettacoli e Danza nel Lazio
LOCATION:Colleferro\, Comune\, Colleferro\, Roma\, Lazio\, Italia
GEO:41.7302;13.0058
X-APPLE-STRUCTURED-LOCATION;VALUE=URI;X-ADDRESS=Comune\, Colleferro\, Roma\
 , Lazio\, Italia;X-APPLE-RADIUS=100;X-TITLE=Colleferro:geo:41.7302,13.0058
END:VEVENT
BEGIN:VTIMEZONE
TZID:Europe/Rome
X-LIC-LOCATION:Europe/Rome
BEGIN:DAYLIGHT
DTSTART:20220327T030000
TZOFFSETFROM:+0100
TZOFFSETTO:+0200
TZNAME:CEST
END:DAYLIGHT
END:VTIMEZONE
END:VCALENDAR