BEGIN:VCALENDAR
VERSION:2.0
PRODID:-//wp-events-plugin.com//7.2.3.1//EN
TZID:Europe/Rome
X-WR-TIMEZONE:Europe/Rome
BEGIN:VEVENT
UID:31658@lazioeventi.com
DTSTART;TZID=Europe/Rome;VALUE=DATE:20230601
DTEND;TZID=Europe/Rome;VALUE=DATE:20230828
DTSTAMP:20230626T114018Z
URL:https://lazioeventi.com/eventi/estate-isola
SUMMARY:eState Isola - Isola del Liri - 1 Giugno 23 00:00
DESCRIPTION:Ecco il programma estivo 2023 a Isola del Liri\, al cospetto de
 lla meravigliosa cascata.\n\nArte\, musica\, divertimento\, gastronomia e 
 teatro per tutti.\n\n[gallery type="grid" link="file" ids="166863\,166864\
 ,166865"]
ATTACH;FMTTYPE=image/jpeg:https://lazioeventi.com/wp-content/uploads/2013/
 03/isola_del_liri.jpg
CATEGORIES:Musica, Spettacoli e Danza nel Lazio,Sagre, Gastronomia e
 Tradizioni nel Lazio,Sport, Tempo Libero e Divertimento nel Lazio
LOCATION:Isola del Liri\, Comune\, Isola del Liri\, Frosinone\, Lazio\, Ita
 lia
GEO:41.6787;13.5741
X-APPLE-STRUCTURED-LOCATION;VALUE=URI;X-ADDRESS=Comune\, Isola del Liri\, F
 rosinone\, Lazio\, Italia;X-APPLE-RADIUS=100;X-TITLE=Isola del Liri:geo:41
 .6787,13.5741
END:VEVENT
BEGIN:VTIMEZONE
TZID:Europe/Rome
X-LIC-LOCATION:Europe/Rome
BEGIN:DAYLIGHT
DTSTART:20230326T030000
TZOFFSETFROM:+0100
TZOFFSETTO:+0200
TZNAME:CEST
END:DAYLIGHT
END:VTIMEZONE
END:VCALENDAR