BEGIN:VCALENDAR
VERSION:2.0
PRODID:-//wp-events-plugin.com//7.2.3.1//EN
TZID:Europe/Rome
X-WR-TIMEZONE:Europe/Rome
BEGIN:VEVENT
UID:35721@lazioeventi.com
DTSTART;TZID=Europe/Rome:20230715T200000
DTEND;TZID=Europe/Rome:20230715T233000
DTSTAMP:20230605T102458Z
URL:https://lazioeventi.com/eventi/estate-nel-borgo-di-trivio-2023-07-15
SUMMARY:Estate nel Borgo di Trivio - Formia - 15 Luglio 23 20:00
DESCRIPTION:Il Borgo di Trivio di Formia festeggia l'inizio dell'estate con
  tre serate di musica\, spettacoli e gastronomia.\n\nLa frazione collinare
  di Formia vivrà un luglio rovente con un variegato programma\, dal titol
 o “Estate nel borgo di Trivio”.\n\nTre appuntamenti\, si sabato\, idea
 ti dal Centro socio-culturale e dalla Pro loco\, che l’amministrazione c
 omunale ha inserito nel calendario stagionale.
ATTACH;FMTTYPE=image/jpeg:https://lazioeventi.com/wp-content/uploads/2023/
 06/estate-trivio.jpg
CATEGORIES:Musica, Spettacoli e Danza nel Lazio,Sagre, Gastronomia e
 Tradizioni nel Lazio
LOCATION:Formia\, Comune\, Formia\, Latina\, Lazio\, Italia
GEO:41.2559;13.6059
X-APPLE-STRUCTURED-LOCATION;VALUE=URI;X-ADDRESS=Comune\, Formia\, Latina\, 
 Lazio\, Italia;X-APPLE-RADIUS=100;X-TITLE=Formia:geo:41.2559,13.6059
END:VEVENT
BEGIN:VTIMEZONE
TZID:Europe/Rome
X-LIC-LOCATION:Europe/Rome
BEGIN:DAYLIGHT
DTSTART:20230326T030000
TZOFFSETFROM:+0100
TZOFFSETTO:+0200
TZNAME:CEST
END:DAYLIGHT
END:VTIMEZONE
END:VCALENDAR