BEGIN:VCALENDAR
VERSION:2.0
PRODID:-//wp-events-plugin.com//7.2.3.1//EN
TZID:Europe/Rome
X-WR-TIMEZONE:Europe/Rome
BEGIN:VEVENT
UID:27429@lazioeventi.com
DTSTART;TZID=Europe/Rome;VALUE=DATE:20200809
DTEND;TZID=Europe/Rome;VALUE=DATE:20200901
DTSTAMP:20200821T200051Z
URL:https://lazioeventi.com/eventi/estate-normese
SUMMARY:Estate Normese - Norma - 9 Agosto 20 00:00
DESCRIPTION:Norma... Estate con noi in sicurezza! Un ricco programma di ani
 mazione\, tradizione\, musica\, degustazioni\, osservazioni astronomiche\,
  trekking ed escursionismo.
ATTACH;FMTTYPE=image/jpeg:https://lazioeventi.com/wp-content/uploads/2020/
 08/estate-norma.jpg
CATEGORIES:Musica, Spettacoli e Danza nel Lazio
LOCATION:Norma\, Comune di Norma\, Norma\, Latina\, Lazio\, Italia
GEO:41.5857;12.9735
X-APPLE-STRUCTURED-LOCATION;VALUE=URI;X-ADDRESS=Comune di Norma\, Norma\, L
 atina\, Lazio\, Italia;X-APPLE-RADIUS=100;X-TITLE=Norma:geo:41.5857,12.973
 5
END:VEVENT
BEGIN:VTIMEZONE
TZID:Europe/Rome
X-LIC-LOCATION:Europe/Rome
BEGIN:DAYLIGHT
DTSTART:20200329T030000
TZOFFSETFROM:+0100
TZOFFSETTO:+0200
TZNAME:CEST
END:DAYLIGHT
END:VTIMEZONE
END:VCALENDAR