BEGIN:VCALENDAR
VERSION:2.0
PRODID:-//wp-events-plugin.com//7.2.3.1//EN
TZID:Europe/Rome
X-WR-TIMEZONE:Europe/Rome
BEGIN:VEVENT
UID:31873@lazioeventi.com
DTSTART;TZID=Europe/Rome:20220813T170000
DTEND;TZID=Europe/Rome:20220813T230000
DTSTAMP:20220803T083419Z
URL:https://lazioeventi.com/eventi/estate-pisonianese-2022-08-13
SUMMARY:Estate Pisonianese - Pisoniano - 13 Agosto 22 17:00
DESCRIPTION:Sabato 13 e 20 agosto Pisoniano vi aspetta per festeggiare insi
 eme l'estate 2022.\n\nMusica\, divertimento e gastronomia per allietare le
  vostre serate con due giorni all'insegna della spensieratezza.\n\nIl prog
 ramma sulla locandina
ATTACH;FMTTYPE=image/jpeg:https://lazioeventi.com/wp-content/uploads/2022/
 08/estate-pisonianese.jpg
CATEGORIES:Musica, Spettacoli e Danza nel Lazio
LOCATION:Pisoniano\, Comune\, Pisoniano\, Roma\, Lazio\, Italia
GEO:41.9083;12.9592
X-APPLE-STRUCTURED-LOCATION;VALUE=URI;X-ADDRESS=Comune\, Pisoniano\, Roma\,
  Lazio\, Italia;X-APPLE-RADIUS=100;X-TITLE=Pisoniano:geo:41.9083,12.9592
END:VEVENT
BEGIN:VTIMEZONE
TZID:Europe/Rome
X-LIC-LOCATION:Europe/Rome
BEGIN:DAYLIGHT
DTSTART:20220327T030000
TZOFFSETFROM:+0100
TZOFFSETTO:+0200
TZNAME:CEST
END:DAYLIGHT
END:VTIMEZONE
END:VCALENDAR